BEGIN:VCALENDAR
VERSION:2.0
PRODID:-//Nassau County Council on Aging - ECPv6.15.20//NONSGML v1.0//EN
CALSCALE:GREGORIAN
METHOD:PUBLISH
X-WR-CALNAME:Nassau County Council on Aging
X-ORIGINAL-URL:https://www.nassaucountycouncilonaging.org
X-WR-CALDESC:Events for Nassau County Council on Aging
REFRESH-INTERVAL;VALUE=DURATION:PT1H
X-Robots-Tag:noindex
X-PUBLISHED-TTL:PT1H
BEGIN:VTIMEZONE
TZID:America/New_York
BEGIN:DAYLIGHT
TZOFFSETFROM:-0500
TZOFFSETTO:-0400
TZNAME:EDT
DTSTART:20250309T070000
END:DAYLIGHT
BEGIN:STANDARD
TZOFFSETFROM:-0400
TZOFFSETTO:-0500
TZNAME:EST
DTSTART:20251102T060000
END:STANDARD
BEGIN:DAYLIGHT
TZOFFSETFROM:-0500
TZOFFSETTO:-0400
TZNAME:EDT
DTSTART:20260308T070000
END:DAYLIGHT
BEGIN:STANDARD
TZOFFSETFROM:-0400
TZOFFSETTO:-0500
TZNAME:EST
DTSTART:20261101T060000
END:STANDARD
BEGIN:DAYLIGHT
TZOFFSETFROM:-0500
TZOFFSETTO:-0400
TZNAME:EDT
DTSTART:20270314T070000
END:DAYLIGHT
BEGIN:STANDARD
TZOFFSETFROM:-0400
TZOFFSETTO:-0500
TZNAME:EST
DTSTART:20271107T060000
END:STANDARD
END:VTIMEZONE
BEGIN:VEVENT
DTSTART;TZID=America/New_York:20260306T083000
DTEND;TZID=America/New_York:20260306T093000
DTSTAMP:20260419T121922
CREATED:20260302T195004Z
LAST-MODIFIED:20260302T195005Z
UID:10017215-1772785800-1772789400@www.nassaucountycouncilonaging.org
SUMMARY:Zumba Gold - Weight Training & Toning
DESCRIPTION:8:30 am – 9:30 am\nStacey “Sparkle” Vinson \nBook Now
URL:https://www.nassaucountycouncilonaging.org/calendar/zumba-gold-weight-training-2-2-4-15-11-11-39-12-14-16-14-12-9/
LOCATION:Janice Ancrum Senior Life Center\, 1901 Island Walk Way\, Fernandina Beach\, FL\, 32034
CATEGORIES:Wellness, Health & Fitness
ATTACH;FMTTYPE=image/png:https://www.nassaucountycouncilonaging.org/wp-content/uploads/2023/01/zumba-gold-orange.png
END:VEVENT
BEGIN:VEVENT
DTSTART;TZID=America/New_York:20260306T090000
DTEND;TZID=America/New_York:20260306T094500
DTSTAMP:20260419T121922
CREATED:20260302T195103Z
LAST-MODIFIED:20260302T195104Z
UID:10017228-1772787600-1772790300@www.nassaucountycouncilonaging.org
SUMMARY:Chair Yoga
DESCRIPTION:9 – 9:45 am\nTina LaVacca \nBook Now
URL:https://www.nassaucountycouncilonaging.org/calendar/chair-yoga-5-11-27-16-12-28-14-12-9/
LOCATION:Janice Ancrum Senior Life Center\, 1901 Island Walk Way\, Fernandina Beach\, FL\, 32034
CATEGORIES:Wellness, Health & Fitness
ATTACH;FMTTYPE=image/png:https://www.nassaucountycouncilonaging.org/wp-content/uploads/2021/12/yoga.png
END:VEVENT
BEGIN:VEVENT
DTSTART;TZID=America/New_York:20260306T094500
DTEND;TZID=America/New_York:20260306T104500
DTSTAMP:20260419T121922
CREATED:20260302T195326Z
LAST-MODIFIED:20260302T195327Z
UID:10017254-1772790300-1772793900@www.nassaucountycouncilonaging.org
SUMMARY:Zumba Step-Up
DESCRIPTION:9:45 am – 10:45 am\nStacey “Sparkle” Vinson \nBook Now
URL:https://www.nassaucountycouncilonaging.org/calendar/zumba-step-up-17-9-38-12-14-16-14-10-9/
LOCATION:Janice Ancrum Senior Life Center\, 1901 Island Walk Way\, Fernandina Beach\, FL\, 32034
CATEGORIES:Wellness, Health & Fitness
ATTACH;FMTTYPE=image/png:https://www.nassaucountycouncilonaging.org/wp-content/uploads/2023/01/zumba-gold-orange.png
END:VEVENT
BEGIN:VEVENT
DTSTART;TZID=America/New_York:20260306T100000
DTEND;TZID=America/New_York:20260306T110000
DTSTAMP:20260419T121922
CREATED:20260302T195432Z
LAST-MODIFIED:20260302T195433Z
UID:10017267-1772791200-1772794800@www.nassaucountycouncilonaging.org
SUMMARY:Aerobic Exercise I
DESCRIPTION:10:00 am – 11;00 am\nMerle Sauer \nBook Now
URL:https://www.nassaucountycouncilonaging.org/calendar/aerobic-exercise-3-13-14-10-14-12-13-11-9/
LOCATION:Janice Ancrum Senior Life Center\, 1901 Island Walk Way\, Fernandina Beach\, FL\, 32034
CATEGORIES:Wellness, Health & Fitness
ATTACH;FMTTYPE=image/png:https://www.nassaucountycouncilonaging.org/wp-content/uploads/2021/12/excercise.png
END:VEVENT
BEGIN:VEVENT
DTSTART;TZID=America/New_York:20260306T110000
DTEND;TZID=America/New_York:20260306T120000
DTSTAMP:20260419T121922
CREATED:20260302T195557Z
LAST-MODIFIED:20260302T195558Z
UID:10017287-1772794800-1772798400@www.nassaucountycouncilonaging.org
SUMMARY:Aerobic Exercise II
DESCRIPTION:Body Pump\n11:00 am – 12:00 pm\nMerle Sauer \nBook Now
URL:https://www.nassaucountycouncilonaging.org/calendar/aerobic-exercise-ii-9/
LOCATION:Janice Ancrum Senior Life Center\, 1901 Island Walk Way\, Fernandina Beach\, FL\, 32034
CATEGORIES:Wellness, Health & Fitness
ATTACH;FMTTYPE=image/png:https://www.nassaucountycouncilonaging.org/wp-content/uploads/2021/12/excercise.png
END:VEVENT
BEGIN:VEVENT
DTSTART;TZID=America/New_York:20260306T113000
DTEND;TZID=America/New_York:20260306T123000
DTSTAMP:20260419T121922
CREATED:20260302T195923Z
LAST-MODIFIED:20260302T195926Z
UID:10017326-1772796600-1772800200@www.nassaucountycouncilonaging.org
SUMMARY:Total Body Workout
DESCRIPTION:11:30 am – 12:30 pm\nStacey “Sparkle” Vinson \nBook Now
URL:https://www.nassaucountycouncilonaging.org/calendar/full-body-workout-6-14-10-3-6-38-12-14-15-23-9/
LOCATION:Janice Ancrum Senior Life Center\, 1901 Island Walk Way\, Fernandina Beach\, FL\, 32034
CATEGORIES:Wellness, Health & Fitness
ATTACH;FMTTYPE=image/png:https://www.nassaucountycouncilonaging.org/wp-content/uploads/2021/12/excercise.png
END:VEVENT
BEGIN:VEVENT
DTSTART;TZID=America/New_York:20260306T120000
DTEND;TZID=America/New_York:20260306T130000
DTSTAMP:20260419T121922
CREATED:20260302T200056Z
LAST-MODIFIED:20260302T200057Z
UID:10017346-1772798400-1772802000@www.nassaucountycouncilonaging.org
SUMMARY:Yoga Full Body Stretch
DESCRIPTION:Mat Required\n12:00 pm – 1:00 pm\nMerle Sauer \nBook Now
URL:https://www.nassaucountycouncilonaging.org/calendar/yoga-full-body-stretch-3-9/
LOCATION:Janice Ancrum Senior Life Center\, 1901 Island Walk Way\, Fernandina Beach\, FL\, 32034
CATEGORIES:Wellness, Health & Fitness
ATTACH;FMTTYPE=image/png:https://www.nassaucountycouncilonaging.org/wp-content/uploads/2021/12/yoga.png
END:VEVENT
BEGIN:VEVENT
DTSTART;TZID=America/New_York:20260306T140000
DTEND;TZID=America/New_York:20260306T150000
DTSTAMP:20260419T121922
CREATED:20260302T201206Z
LAST-MODIFIED:20260302T201207Z
UID:10017425-1772805600-1772809200@www.nassaucountycouncilonaging.org
SUMMARY:Golf Fitness Training
DESCRIPTION:2:00 pm – 3:00 pm\nTerry McGriff II \nBook Now
URL:https://www.nassaucountycouncilonaging.org/calendar/golf-fitness-training-9/
LOCATION:Janice Ancrum Senior Life Center\, 1901 Island Walk Way\, Fernandina Beach\, FL\, 32034
CATEGORIES:Wellness, Health & Fitness
ATTACH;FMTTYPE=image/png:https://www.nassaucountycouncilonaging.org/wp-content/uploads/2026/01/golf-excercise.png
END:VEVENT
END:VCALENDAR