BEGIN:VCALENDAR
VERSION:2.0
PRODID:-//Nassau County Council on Aging - ECPv6.15.20//NONSGML v1.0//EN
CALSCALE:GREGORIAN
METHOD:PUBLISH
X-WR-CALNAME:Nassau County Council on Aging
X-ORIGINAL-URL:https://www.nassaucountycouncilonaging.org
X-WR-CALDESC:Events for Nassau County Council on Aging
REFRESH-INTERVAL;VALUE=DURATION:PT1H
X-Robots-Tag:noindex
X-PUBLISHED-TTL:PT1H
BEGIN:VTIMEZONE
TZID:America/New_York
BEGIN:DAYLIGHT
TZOFFSETFROM:-0500
TZOFFSETTO:-0400
TZNAME:EDT
DTSTART:20250309T070000
END:DAYLIGHT
BEGIN:STANDARD
TZOFFSETFROM:-0400
TZOFFSETTO:-0500
TZNAME:EST
DTSTART:20251102T060000
END:STANDARD
BEGIN:DAYLIGHT
TZOFFSETFROM:-0500
TZOFFSETTO:-0400
TZNAME:EDT
DTSTART:20260308T070000
END:DAYLIGHT
BEGIN:STANDARD
TZOFFSETFROM:-0400
TZOFFSETTO:-0500
TZNAME:EST
DTSTART:20261101T060000
END:STANDARD
BEGIN:DAYLIGHT
TZOFFSETFROM:-0500
TZOFFSETTO:-0400
TZNAME:EDT
DTSTART:20270314T070000
END:DAYLIGHT
BEGIN:STANDARD
TZOFFSETFROM:-0400
TZOFFSETTO:-0500
TZNAME:EST
DTSTART:20271107T060000
END:STANDARD
END:VTIMEZONE
BEGIN:VEVENT
DTSTART;TZID=America/New_York:20260303T081500
DTEND;TZID=America/New_York:20260303T091500
DTSTAMP:20260419T104926
CREATED:20260301T231921Z
LAST-MODIFIED:20260301T231923Z
UID:10016582-1772525700-1772529300@www.nassaucountycouncilonaging.org
SUMMARY:Standing Core
DESCRIPTION:8:15 am – 9:15 am\nSub – Debi Senger \nBook Now\n 
URL:https://www.nassaucountycouncilonaging.org/calendar/standing-core-15-11-15-15-14-9/
LOCATION:Janice Ancrum Senior Life Center\, 1901 Island Walk Way\, Fernandina Beach\, FL\, 32034
CATEGORIES:Wellness, Health & Fitness
ATTACH;FMTTYPE=image/png:https://www.nassaucountycouncilonaging.org/wp-content/uploads/2021/12/excercise.png
END:VEVENT
BEGIN:VEVENT
DTSTART;TZID=America/New_York:20260303T093000
DTEND;TZID=America/New_York:20260303T103000
DTSTAMP:20260419T104926
CREATED:20260301T232219Z
LAST-MODIFIED:20260301T232532Z
UID:10016615-1772530200-1772533800@www.nassaucountycouncilonaging.org
SUMMARY:Floor Yoga Stretch
DESCRIPTION:Mat Required\n9:30 am – 10:30 am\nCatherine Paradise \nBook Now
URL:https://www.nassaucountycouncilonaging.org/calendar/floor-yoga-stretch-18-12-29-14-9/
LOCATION:Janice Ancrum Senior Life Center\, 1901 Island Walk Way\, Fernandina Beach\, FL\, 32034
CATEGORIES:Wellness, Health & Fitness
ATTACH;FMTTYPE=image/png:https://www.nassaucountycouncilonaging.org/wp-content/uploads/2021/12/yoga.png
END:VEVENT
BEGIN:VEVENT
DTSTART;TZID=America/New_York:20260303T100000
DTEND;TZID=America/New_York:20260303T110000
DTSTAMP:20260419T104926
CREATED:20260301T232327Z
LAST-MODIFIED:20260301T232339Z
UID:10016641-1772532000-1772535600@www.nassaucountycouncilonaging.org
SUMMARY:Stability Exercises
DESCRIPTION:10:00 am – 11:00 am\nMary Bleck \nBook Now\n  \n 
URL:https://www.nassaucountycouncilonaging.org/calendar/stability-exercises-5-8-8-35-30-12-52-9/
LOCATION:Janice Ancrum Senior Life Center\, 1901 Island Walk Way\, Fernandina Beach\, FL\, 32034
CATEGORIES:Wellness, Health & Fitness
ATTACH;FMTTYPE=image/png:https://www.nassaucountycouncilonaging.org/wp-content/uploads/2021/12/excercise.png
END:VEVENT
BEGIN:VEVENT
DTSTART;TZID=America/New_York:20260303T104500
DTEND;TZID=America/New_York:20260303T234500
DTSTAMP:20260419T104926
CREATED:20260301T232912Z
LAST-MODIFIED:20260301T232914Z
UID:10012152-1772534700-1772581500@www.nassaucountycouncilonaging.org
SUMMARY:Standing & Sitting Pilates
DESCRIPTION:Mat Required\n10:45 am – 11:45 am\nMerle Sauer \nBook Now\n 
URL:https://www.nassaucountycouncilonaging.org/calendar/standing-pilates-24-15-6-8-9/
LOCATION:Janice Ancrum Senior Life Center\, 1901 Island Walk Way\, Fernandina Beach\, FL\, 32034
CATEGORIES:Wellness, Health & Fitness
ATTACH;FMTTYPE=image/png:https://www.nassaucountycouncilonaging.org/wp-content/uploads/2023/01/pelvic-floor-and-core.png
END:VEVENT
BEGIN:VEVENT
DTSTART;TZID=America/New_York:20260303T120000
DTEND;TZID=America/New_York:20260303T130000
DTSTAMP:20260419T104926
CREATED:20260301T233129Z
LAST-MODIFIED:20260301T233130Z
UID:10016672-1772539200-1772542800@www.nassaucountycouncilonaging.org
SUMMARY:Chair Aerobics
DESCRIPTION:12:00 pm – 1:00 pm\nMerle Sauer \nBook Now
URL:https://www.nassaucountycouncilonaging.org/calendar/chair-aerobics-5-12-15-13-9/
LOCATION:Janice Ancrum Senior Life Center\, 1901 Island Walk Way\, Fernandina Beach\, FL\, 32034
CATEGORIES:Wellness, Health & Fitness
ATTACH;FMTTYPE=image/png:https://www.nassaucountycouncilonaging.org/wp-content/uploads/2021/12/excercise.png
END:VEVENT
BEGIN:VEVENT
DTSTART;TZID=America/New_York:20260303T121500
DTEND;TZID=America/New_York:20260303T124500
DTSTAMP:20260419T104926
CREATED:20260301T233244Z
LAST-MODIFIED:20260301T233245Z
UID:10016692-1772540100-1772541900@www.nassaucountycouncilonaging.org
SUMMARY:Hula Hooping
DESCRIPTION:All Levels Welcome \n9:45 am – 10:15 am\nLaura Giordano & Heidi Freilich \nBook Now
URL:https://www.nassaucountycouncilonaging.org/calendar/happy-hoopers-15-15-12-25-11-3-12-4-25-7-15-7/
LOCATION:Janice Ancrum Senior Life Center\, 1901 Island Walk Way\, Fernandina Beach\, FL\, 32034
CATEGORIES:Wellness, Health & Fitness
ATTACH;FMTTYPE=image/png:https://www.nassaucountycouncilonaging.org/wp-content/uploads/2023/03/hoop.png
END:VEVENT
BEGIN:VEVENT
DTSTART;TZID=America/New_York:20260303T130000
DTEND;TZID=America/New_York:20260303T140000
DTSTAMP:20260419T104926
CREATED:20260301T233959Z
LAST-MODIFIED:20260301T234000Z
UID:10016744-1772542800-1772546400@www.nassaucountycouncilonaging.org
SUMMARY:Zumba Gold
DESCRIPTION:1:00 pm – 2:00 pm\nStacey “Sparkle” Vinson \nBook Now
URL:https://www.nassaucountycouncilonaging.org/calendar/zumba-gold-8-4-11-14-12-12-30-13-40-14-9/
LOCATION:Janice Ancrum Senior Life Center\, 1901 Island Walk Way\, Fernandina Beach\, FL\, 32034
CATEGORIES:Music & Dancing,Wellness, Health & Fitness
ATTACH;FMTTYPE=image/png:https://www.nassaucountycouncilonaging.org/wp-content/uploads/2023/01/zumba-gold-orange.png
END:VEVENT
END:VCALENDAR