BEGIN:VCALENDAR
VERSION:2.0
PRODID:-//Nassau County Council on Aging - ECPv6.15.20//NONSGML v1.0//EN
CALSCALE:GREGORIAN
METHOD:PUBLISH
X-ORIGINAL-URL:https://www.nassaucountycouncilonaging.org
X-WR-CALDESC:Events for Nassau County Council on Aging
REFRESH-INTERVAL;VALUE=DURATION:PT1H
X-Robots-Tag:noindex
X-PUBLISHED-TTL:PT1H
BEGIN:VTIMEZONE
TZID:America/New_York
BEGIN:DAYLIGHT
TZOFFSETFROM:-0500
TZOFFSETTO:-0400
TZNAME:EDT
DTSTART:20250309T070000
END:DAYLIGHT
BEGIN:STANDARD
TZOFFSETFROM:-0400
TZOFFSETTO:-0500
TZNAME:EST
DTSTART:20251102T060000
END:STANDARD
BEGIN:DAYLIGHT
TZOFFSETFROM:-0500
TZOFFSETTO:-0400
TZNAME:EDT
DTSTART:20260308T070000
END:DAYLIGHT
BEGIN:STANDARD
TZOFFSETFROM:-0400
TZOFFSETTO:-0500
TZNAME:EST
DTSTART:20261101T060000
END:STANDARD
BEGIN:DAYLIGHT
TZOFFSETFROM:-0500
TZOFFSETTO:-0400
TZNAME:EDT
DTSTART:20270314T070000
END:DAYLIGHT
BEGIN:STANDARD
TZOFFSETFROM:-0400
TZOFFSETTO:-0500
TZNAME:EST
DTSTART:20271107T060000
END:STANDARD
END:VTIMEZONE
BEGIN:VEVENT
DTSTART;TZID=America/New_York:20260302T083000
DTEND;TZID=America/New_York:20260302T093000
DTSTAMP:20260419T121935
CREATED:20260301T225425Z
LAST-MODIFIED:20260301T225426Z
UID:10016351-1772440200-1772443800@www.nassaucountycouncilonaging.org
SUMMARY:Pelvic Floor & Core
DESCRIPTION:8:30 – 9:30 am\nJanice Clarkson \nMat Required \nBook Now
URL:https://www.nassaucountycouncilonaging.org/calendar/pelvic-floor-core-2-5-14-14-12-9-14-14-13-11-15-15-14-7/
LOCATION:Janice Ancrum Senior Life Center\, 1901 Island Walk Way\, Fernandina Beach\, FL\, 32034
CATEGORIES:Wellness, Health & Fitness
ATTACH;FMTTYPE=image/png:https://www.nassaucountycouncilonaging.org/wp-content/uploads/2021/12/excercise.png
END:VEVENT
BEGIN:VEVENT
DTSTART;TZID=America/New_York:20260302T090000
DTEND;TZID=America/New_York:20260302T094500
DTSTAMP:20260419T121935
CREATED:20260301T225535Z
LAST-MODIFIED:20260301T225536Z
UID:10016364-1772442000-1772444700@www.nassaucountycouncilonaging.org
SUMMARY:Chair Yoga with Tina
DESCRIPTION:9:00 am – 9:45 am\nTina LaVacca \nBook Now\n 
URL:https://www.nassaucountycouncilonaging.org/calendar/chair-yoga-with-tina-12-8-14-15-13-11-15-14-15-7/
LOCATION:Janice Ancrum Senior Life Center\, 1901 Island Walk Way\, Fernandina Beach\, FL\, 32034
CATEGORIES:Wellness, Health & Fitness
ATTACH;FMTTYPE=image/png:https://www.nassaucountycouncilonaging.org/wp-content/uploads/2021/12/yoga.png
END:VEVENT
BEGIN:VEVENT
DTSTART;TZID=America/New_York:20260302T100000
DTEND;TZID=America/New_York:20260302T110000
DTSTAMP:20260419T121935
CREATED:20260301T225748Z
LAST-MODIFIED:20260301T225749Z
UID:10016387-1772445600-1772449200@www.nassaucountycouncilonaging.org
SUMMARY:Enerchi
DESCRIPTION:10:00 am – 11:00 am\nMary Bleck \nBook Now
URL:https://www.nassaucountycouncilonaging.org/calendar/enerchi-15-7/
LOCATION:Janice Ancrum Senior Life Center\, 1901 Island Walk Way\, Fernandina Beach\, FL\, 32034
CATEGORIES:Wellness, Health & Fitness
ATTACH;FMTTYPE=image/png:https://www.nassaucountycouncilonaging.org/wp-content/uploads/2021/12/excercise.png
END:VEVENT
BEGIN:VEVENT
DTSTART;TZID=America/New_York:20260302T113000
DTEND;TZID=America/New_York:20260302T123000
DTSTAMP:20260419T121935
CREATED:20260301T230251Z
LAST-MODIFIED:20260301T230252Z
UID:10016442-1772451000-1772454600@www.nassaucountycouncilonaging.org
SUMMARY:Standing Yoga
DESCRIPTION:11:30 am – 12:30 pm\nMary Bleck \nBook Now
URL:https://www.nassaucountycouncilonaging.org/calendar/standing-yoga-3-5-15-12-12-8-14-15-12-12-15-13-15-7/
LOCATION:Janice Ancrum Senior Life Center\, 1901 Island Walk Way\, Fernandina Beach\, FL\, 32034
CATEGORIES:Wellness, Health & Fitness
ATTACH;FMTTYPE=image/png:https://www.nassaucountycouncilonaging.org/wp-content/uploads/2021/12/excercise.png
END:VEVENT
BEGIN:VEVENT
DTSTART;TZID=America/New_York:20260302T150000
DTEND;TZID=America/New_York:20260302T160000
DTSTAMP:20260419T121935
CREATED:20260301T231200Z
LAST-MODIFIED:20260301T231201Z
UID:10016543-1772463600-1772467200@www.nassaucountycouncilonaging.org
SUMMARY:Tai Chi: 13 Elements
DESCRIPTION:3:00 pm – 4:00 pm\nTom Gagne \nBook Now
URL:https://www.nassaucountycouncilonaging.org/calendar/tai-chi-13-elements-7-6/
LOCATION:Janice Ancrum Senior Life Center\, 1901 Island Walk Way\, Fernandina Beach\, FL\, 32034
CATEGORIES:Wellness, Health & Fitness
ATTACH;FMTTYPE=image/png:https://www.nassaucountycouncilonaging.org/wp-content/uploads/2023/06/YinYang2Sized.png
END:VEVENT
BEGIN:VEVENT
DTSTART;TZID=America/New_York:20260302T160000
DTEND;TZID=America/New_York:20260302T170000
DTSTAMP:20260419T121935
CREATED:20260301T231316Z
LAST-MODIFIED:20260301T231317Z
UID:10016563-1772467200-1772470800@www.nassaucountycouncilonaging.org
SUMMARY:Tai Chi: 24 Postures
DESCRIPTION:4:00 pm – 5:00 pm\nTom Gagne \nBook Now
URL:https://www.nassaucountycouncilonaging.org/calendar/tai-chi-24-postures-7-6/
LOCATION:Janice Ancrum Senior Life Center\, 1901 Island Walk Way\, Fernandina Beach\, FL\, 32034
CATEGORIES:Wellness, Health & Fitness
ATTACH;FMTTYPE=image/png:https://www.nassaucountycouncilonaging.org/wp-content/uploads/2022/09/tai-chi.png
END:VEVENT
END:VCALENDAR