BEGIN:VCALENDAR
VERSION:2.0
PRODID:-//Nassau County Council on Aging - ECPv6.15.20//NONSGML v1.0//EN
CALSCALE:GREGORIAN
METHOD:PUBLISH
X-ORIGINAL-URL:https://www.nassaucountycouncilonaging.org
X-WR-CALDESC:Events for Nassau County Council on Aging
REFRESH-INTERVAL;VALUE=DURATION:PT1H
X-Robots-Tag:noindex
X-PUBLISHED-TTL:PT1H
BEGIN:VTIMEZONE
TZID:America/New_York
BEGIN:DAYLIGHT
TZOFFSETFROM:-0500
TZOFFSETTO:-0400
TZNAME:EDT
DTSTART:20250309T070000
END:DAYLIGHT
BEGIN:STANDARD
TZOFFSETFROM:-0400
TZOFFSETTO:-0500
TZNAME:EST
DTSTART:20251102T060000
END:STANDARD
BEGIN:DAYLIGHT
TZOFFSETFROM:-0500
TZOFFSETTO:-0400
TZNAME:EDT
DTSTART:20260308T070000
END:DAYLIGHT
BEGIN:STANDARD
TZOFFSETFROM:-0400
TZOFFSETTO:-0500
TZNAME:EST
DTSTART:20261101T060000
END:STANDARD
BEGIN:DAYLIGHT
TZOFFSETFROM:-0500
TZOFFSETTO:-0400
TZNAME:EDT
DTSTART:20270314T070000
END:DAYLIGHT
BEGIN:STANDARD
TZOFFSETFROM:-0400
TZOFFSETTO:-0500
TZNAME:EST
DTSTART:20271107T060000
END:STANDARD
END:VTIMEZONE
BEGIN:VEVENT
DTSTART;TZID=America/New_York:20260203T081500
DTEND;TZID=America/New_York:20260203T091500
DTSTAMP:20260421T144450
CREATED:20260202T190414Z
LAST-MODIFIED:20260202T190421Z
UID:10015212-1770106500-1770110100@www.nassaucountycouncilonaging.org
SUMMARY:Standing Core
DESCRIPTION:8:15 am – 9:15 am\nCatherine Paradise \nBook Now\n 
URL:https://www.nassaucountycouncilonaging.org/calendar/standing-core-15-11-15-15-14-5/
LOCATION:Janice Ancrum Senior Life Center\, 1901 Island Walk Way\, Fernandina Beach\, FL\, 32034
CATEGORIES:Wellness, Health & Fitness
ATTACH;FMTTYPE=image/png:https://www.nassaucountycouncilonaging.org/wp-content/uploads/2021/12/excercise.png
END:VEVENT
BEGIN:VEVENT
DTSTART;TZID=America/New_York:20260203T093000
DTEND;TZID=America/New_York:20260203T103000
DTSTAMP:20260421T144450
CREATED:20260202T192421Z
LAST-MODIFIED:20260202T192427Z
UID:10015239-1770111000-1770114600@www.nassaucountycouncilonaging.org
SUMMARY:Floor Yoga Stretch
DESCRIPTION:Mat Required\n9:30 am – 10:30 am\nCatherine Paradise \nBook Now
URL:https://www.nassaucountycouncilonaging.org/calendar/floor-yoga-stretch-18-12-29-14-5/
LOCATION:Janice Ancrum Senior Life Center\, 1901 Island Walk Way\, Fernandina Beach\, FL\, 32034
CATEGORIES:Wellness, Health & Fitness
ATTACH;FMTTYPE=image/png:https://www.nassaucountycouncilonaging.org/wp-content/uploads/2021/12/yoga.png
END:VEVENT
BEGIN:VEVENT
DTSTART;TZID=America/New_York:20260203T100000
DTEND;TZID=America/New_York:20260203T110000
DTSTAMP:20260421T144450
CREATED:20260202T191239Z
LAST-MODIFIED:20260202T191245Z
UID:10015277-1770112800-1770116400@www.nassaucountycouncilonaging.org
SUMMARY:Stability Exercises
DESCRIPTION:10:00 am – 11:00 am\nMary Bleck \nBook Now\n  \n 
URL:https://www.nassaucountycouncilonaging.org/calendar/stability-exercises-5-8-8-35-30-12-52-5/
LOCATION:Janice Ancrum Senior Life Center\, 1901 Island Walk Way\, Fernandina Beach\, FL\, 32034
CATEGORIES:Wellness, Health & Fitness
ATTACH;FMTTYPE=image/png:https://www.nassaucountycouncilonaging.org/wp-content/uploads/2021/12/excercise.png
END:VEVENT
BEGIN:VEVENT
DTSTART;TZID=America/New_York:20260203T104500
DTEND;TZID=America/New_York:20260203T234500
DTSTAMP:20260421T144450
CREATED:20260202T191414Z
LAST-MODIFIED:20260202T191423Z
UID:10012148-1770115500-1770162300@www.nassaucountycouncilonaging.org
SUMMARY:Standing & Sitting Pilates
DESCRIPTION:Mat Required\n10:45 am – 11:45 am\nMerle Sauer \nBook Now\n 
URL:https://www.nassaucountycouncilonaging.org/calendar/standing-pilates-24-15-6-8-5/
LOCATION:Janice Ancrum Senior Life Center\, 1901 Island Walk Way\, Fernandina Beach\, FL\, 32034
CATEGORIES:Wellness, Health & Fitness
ATTACH;FMTTYPE=image/png:https://www.nassaucountycouncilonaging.org/wp-content/uploads/2023/01/pelvic-floor-and-core.png
END:VEVENT
BEGIN:VEVENT
DTSTART;TZID=America/New_York:20260203T120000
DTEND;TZID=America/New_York:20260203T130000
DTSTAMP:20260421T144450
CREATED:20260202T232927Z
LAST-MODIFIED:20260202T232934Z
UID:10015316-1770120000-1770123600@www.nassaucountycouncilonaging.org
SUMMARY:Chair Aerobics
DESCRIPTION:12:00 pm – 1:00 pm\nMerle Sauer \nBook Now
URL:https://www.nassaucountycouncilonaging.org/calendar/chair-aerobics-5-12-15-13-5/
LOCATION:Janice Ancrum Senior Life Center\, 1901 Island Walk Way\, Fernandina Beach\, FL\, 32034
CATEGORIES:Wellness, Health & Fitness
ATTACH;FMTTYPE=image/png:https://www.nassaucountycouncilonaging.org/wp-content/uploads/2021/12/excercise.png
END:VEVENT
BEGIN:VEVENT
DTSTART;TZID=America/New_York:20260203T121500
DTEND;TZID=America/New_York:20260203T124500
DTSTAMP:20260421T144450
CREATED:20260202T192650Z
LAST-MODIFIED:20260202T192656Z
UID:10016688-1770120900-1770122700@www.nassaucountycouncilonaging.org
SUMMARY:Hula Hooping
DESCRIPTION:All Levels Welcome \n9:45 am – 10:15 am\nLaura Giordano & Heidi Freilich \nBook Now
URL:https://www.nassaucountycouncilonaging.org/calendar/happy-hoopers-15-15-12-25-11-3-12-4-25-7-15-4/
LOCATION:Janice Ancrum Senior Life Center\, 1901 Island Walk Way\, Fernandina Beach\, FL\, 32034
CATEGORIES:Wellness, Health & Fitness
ATTACH;FMTTYPE=image/png:https://www.nassaucountycouncilonaging.org/wp-content/uploads/2023/03/hoop.png
END:VEVENT
BEGIN:VEVENT
DTSTART;TZID=America/New_York:20260203T130000
DTEND;TZID=America/New_York:20260203T140000
DTSTAMP:20260421T144450
CREATED:20260202T233329Z
LAST-MODIFIED:20260202T233335Z
UID:10015384-1770123600-1770127200@www.nassaucountycouncilonaging.org
SUMMARY:Zumba Gold
DESCRIPTION:1:00 pm – 2:00 pm\nStacey “Sparkle” Vinson \nBook Now
URL:https://www.nassaucountycouncilonaging.org/calendar/zumba-gold-8-4-11-14-12-12-30-13-40-14-5/
LOCATION:Janice Ancrum Senior Life Center\, 1901 Island Walk Way\, Fernandina Beach\, FL\, 32034
CATEGORIES:Music & Dancing,Wellness, Health & Fitness
ATTACH;FMTTYPE=image/png:https://www.nassaucountycouncilonaging.org/wp-content/uploads/2023/01/zumba-gold-orange.png
END:VEVENT
END:VCALENDAR