BEGIN:VCALENDAR
VERSION:2.0
PRODID:-//Nassau County Council on Aging - ECPv6.15.20//NONSGML v1.0//EN
CALSCALE:GREGORIAN
METHOD:PUBLISH
X-WR-CALNAME:Nassau County Council on Aging
X-ORIGINAL-URL:https://www.nassaucountycouncilonaging.org
X-WR-CALDESC:Events for Nassau County Council on Aging
REFRESH-INTERVAL;VALUE=DURATION:PT1H
X-Robots-Tag:noindex
X-PUBLISHED-TTL:PT1H
BEGIN:VTIMEZONE
TZID:America/New_York
BEGIN:DAYLIGHT
TZOFFSETFROM:-0500
TZOFFSETTO:-0400
TZNAME:EDT
DTSTART:20250309T070000
END:DAYLIGHT
BEGIN:STANDARD
TZOFFSETFROM:-0400
TZOFFSETTO:-0500
TZNAME:EST
DTSTART:20251102T060000
END:STANDARD
BEGIN:DAYLIGHT
TZOFFSETFROM:-0500
TZOFFSETTO:-0400
TZNAME:EDT
DTSTART:20260308T070000
END:DAYLIGHT
BEGIN:STANDARD
TZOFFSETFROM:-0400
TZOFFSETTO:-0500
TZNAME:EST
DTSTART:20261101T060000
END:STANDARD
BEGIN:DAYLIGHT
TZOFFSETFROM:-0500
TZOFFSETTO:-0400
TZNAME:EDT
DTSTART:20270314T070000
END:DAYLIGHT
BEGIN:STANDARD
TZOFFSETFROM:-0400
TZOFFSETTO:-0500
TZNAME:EST
DTSTART:20271107T060000
END:STANDARD
END:VTIMEZONE
BEGIN:VEVENT
DTSTART;TZID=America/New_York:20260202T083000
DTEND;TZID=America/New_York:20260202T093000
DTSTAMP:20260421T082517
CREATED:20260202T182031Z
LAST-MODIFIED:20260202T182034Z
UID:10015011-1770021000-1770024600@www.nassaucountycouncilonaging.org
SUMMARY:Pelvic Floor & Core
DESCRIPTION:8:30 – 9:30 am\nJanice Clarkson \nMat Required \nBook Now
URL:https://www.nassaucountycouncilonaging.org/calendar/pelvic-floor-core-2-5-14-14-12-9-14-14-13-11-15-15-14-4/
LOCATION:Janice Ancrum Senior Life Center\, 1901 Island Walk Way\, Fernandina Beach\, FL\, 32034
CATEGORIES:Wellness, Health & Fitness
ATTACH;FMTTYPE=image/png:https://www.nassaucountycouncilonaging.org/wp-content/uploads/2021/12/excercise.png
END:VEVENT
BEGIN:VEVENT
DTSTART;TZID=America/New_York:20260202T090000
DTEND;TZID=America/New_York:20260202T094500
DTSTAMP:20260421T082517
CREATED:20260202T182228Z
LAST-MODIFIED:20260202T182232Z
UID:10015023-1770022800-1770025500@www.nassaucountycouncilonaging.org
SUMMARY:Chair Yoga with Tina
DESCRIPTION:9:00 am – 9:45 am\nTina LaVacca \nBook Now\n 
URL:https://www.nassaucountycouncilonaging.org/calendar/chair-yoga-with-tina-12-8-14-15-13-11-15-14-15-4/
LOCATION:Janice Ancrum Senior Life Center\, 1901 Island Walk Way\, Fernandina Beach\, FL\, 32034
CATEGORIES:Wellness, Health & Fitness
ATTACH;FMTTYPE=image/png:https://www.nassaucountycouncilonaging.org/wp-content/uploads/2021/12/yoga.png
END:VEVENT
BEGIN:VEVENT
DTSTART;TZID=America/New_York:20260202T100000
DTEND;TZID=America/New_York:20260202T110000
DTSTAMP:20260421T082517
CREATED:20260202T182434Z
LAST-MODIFIED:20260202T182438Z
UID:10016383-1770026400-1770030000@www.nassaucountycouncilonaging.org
SUMMARY:Enerchi
DESCRIPTION:10:00 am – 11:00 am\nMary Bleck \nBook Now
URL:https://www.nassaucountycouncilonaging.org/calendar/enerchi-15-4/
LOCATION:Janice Ancrum Senior Life Center\, 1901 Island Walk Way\, Fernandina Beach\, FL\, 32034
CATEGORIES:Wellness, Health & Fitness
ATTACH;FMTTYPE=image/png:https://www.nassaucountycouncilonaging.org/wp-content/uploads/2021/12/excercise.png
END:VEVENT
BEGIN:VEVENT
DTSTART;TZID=America/New_York:20260202T113000
DTEND;TZID=America/New_York:20260202T123000
DTSTAMP:20260421T082517
CREATED:20260202T182954Z
LAST-MODIFIED:20260202T182958Z
UID:10015092-1770031800-1770035400@www.nassaucountycouncilonaging.org
SUMMARY:Standing Yoga
DESCRIPTION:11:30 am – 12:30 pm\nMary Bleck \nBook Now
URL:https://www.nassaucountycouncilonaging.org/calendar/standing-yoga-3-5-15-12-12-8-14-15-12-12-15-13-15-4/
LOCATION:Janice Ancrum Senior Life Center\, 1901 Island Walk Way\, Fernandina Beach\, FL\, 32034
CATEGORIES:Wellness, Health & Fitness
ATTACH;FMTTYPE=image/png:https://www.nassaucountycouncilonaging.org/wp-content/uploads/2021/12/excercise.png
END:VEVENT
BEGIN:VEVENT
DTSTART;TZID=America/New_York:20260202T150000
DTEND;TZID=America/New_York:20260202T160000
DTSTAMP:20260421T082517
CREATED:20260202T184345Z
LAST-MODIFIED:20260202T184350Z
UID:10016539-1770044400-1770048000@www.nassaucountycouncilonaging.org
SUMMARY:Tai Chi: 13 Elements
DESCRIPTION:3:00 pm – 4:00 pm\nTom Gagne \nBook Now
URL:https://www.nassaucountycouncilonaging.org/calendar/tai-chi-13-elements-7-4/
LOCATION:Janice Ancrum Senior Life Center\, 1901 Island Walk Way\, Fernandina Beach\, FL\, 32034
CATEGORIES:Wellness, Health & Fitness
ATTACH;FMTTYPE=image/png:https://www.nassaucountycouncilonaging.org/wp-content/uploads/2023/06/YinYang2Sized.png
END:VEVENT
BEGIN:VEVENT
DTSTART;TZID=America/New_York:20260202T160000
DTEND;TZID=America/New_York:20260202T170000
DTSTAMP:20260421T082517
CREATED:20260202T184503Z
LAST-MODIFIED:20260202T184511Z
UID:10016559-1770048000-1770051600@www.nassaucountycouncilonaging.org
SUMMARY:Tai Chi: 24 Postures
DESCRIPTION:4:00 pm – 5:00 pm\nTom Gagne \nBook Now
URL:https://www.nassaucountycouncilonaging.org/calendar/tai-chi-24-postures-7-4/
LOCATION:Janice Ancrum Senior Life Center\, 1901 Island Walk Way\, Fernandina Beach\, FL\, 32034
CATEGORIES:Wellness, Health & Fitness
ATTACH;FMTTYPE=image/png:https://www.nassaucountycouncilonaging.org/wp-content/uploads/2022/09/tai-chi.png
END:VEVENT
END:VCALENDAR