BEGIN:VCALENDAR
VERSION:2.0
PRODID:-//Nassau County Council on Aging - ECPv6.15.20//NONSGML v1.0//EN
CALSCALE:GREGORIAN
METHOD:PUBLISH
X-WR-CALNAME:Nassau County Council on Aging
X-ORIGINAL-URL:https://www.nassaucountycouncilonaging.org
X-WR-CALDESC:Events for Nassau County Council on Aging
REFRESH-INTERVAL;VALUE=DURATION:PT1H
X-Robots-Tag:noindex
X-PUBLISHED-TTL:PT1H
BEGIN:VTIMEZONE
TZID:America/New_York
BEGIN:DAYLIGHT
TZOFFSETFROM:-0500
TZOFFSETTO:-0400
TZNAME:EDT
DTSTART:20250309T070000
END:DAYLIGHT
BEGIN:STANDARD
TZOFFSETFROM:-0400
TZOFFSETTO:-0500
TZNAME:EST
DTSTART:20251102T060000
END:STANDARD
BEGIN:DAYLIGHT
TZOFFSETFROM:-0500
TZOFFSETTO:-0400
TZNAME:EDT
DTSTART:20260308T070000
END:DAYLIGHT
BEGIN:STANDARD
TZOFFSETFROM:-0400
TZOFFSETTO:-0500
TZNAME:EST
DTSTART:20261101T060000
END:STANDARD
BEGIN:DAYLIGHT
TZOFFSETFROM:-0500
TZOFFSETTO:-0400
TZNAME:EDT
DTSTART:20270314T070000
END:DAYLIGHT
BEGIN:STANDARD
TZOFFSETFROM:-0400
TZOFFSETTO:-0500
TZNAME:EST
DTSTART:20271107T060000
END:STANDARD
END:VTIMEZONE
BEGIN:VEVENT
DTSTART;TZID=America/New_York:20260114T080000
DTEND;TZID=America/New_York:20260114T084500
DTSTAMP:20260421T114004
CREATED:20260112T204339Z
LAST-MODIFIED:20260112T204342Z
UID:10016791-1768377600-1768380300@www.nassaucountycouncilonaging.org
SUMMARY:Energy Burst Stations
DESCRIPTION:8:00 am – 8:45 am\nTina LaVacca \nBook Now
URL:https://www.nassaucountycouncilonaging.org/calendar/energy-burst-stations-2-2/
LOCATION:Janice Ancrum Senior Life Center\, 1901 Island Walk Way\, Fernandina Beach\, FL\, 32034
CATEGORIES:Wellness, Health & Fitness
ATTACH;FMTTYPE=image/png:https://www.nassaucountycouncilonaging.org/wp-content/uploads/2021/12/excercise.png
END:VEVENT
BEGIN:VEVENT
DTSTART;TZID=America/New_York:20260114T083000
DTEND;TZID=America/New_York:20260114T093000
DTSTAMP:20260421T114004
CREATED:20260112T204536Z
LAST-MODIFIED:20260112T204539Z
UID:10015425-1768379400-1768383000@www.nassaucountycouncilonaging.org
SUMMARY:Stretch & Balance - Advanced
DESCRIPTION:8:30 am – 9:30 am\nJanice Clarkson \nBook Now\n 
URL:https://www.nassaucountycouncilonaging.org/calendar/advanced-stretch-balance-5-28-15-41-13-40-14-2/
LOCATION:Janice Ancrum Senior Life Center\, 1901 Island Walk Way\, Fernandina Beach\, FL\, 32034
CATEGORIES:Wellness, Health & Fitness
ATTACH;FMTTYPE=image/png:https://www.nassaucountycouncilonaging.org/wp-content/uploads/2021/12/excercise.png
END:VEVENT
BEGIN:VEVENT
DTSTART;TZID=America/New_York:20260114T090000
DTEND;TZID=America/New_York:20260114T100000
DTSTAMP:20260421T114004
CREATED:20260112T205145Z
LAST-MODIFIED:20260112T205148Z
UID:10015442-1768381200-1768384800@www.nassaucountycouncilonaging.org
SUMMARY:Tighten & Tone
DESCRIPTION:Mat Required \n9:00 am – 10:00 am\nMerle Sauer \nBook Now\n 
URL:https://www.nassaucountycouncilonaging.org/calendar/tighten-tone-4-11-11-23-16-10-2/
LOCATION:Janice Ancrum Senior Life Center\, 1901 Island Walk Way\, Fernandina Beach\, FL\, 32034
CATEGORIES:Wellness, Health & Fitness
ATTACH;FMTTYPE=image/png:https://www.nassaucountycouncilonaging.org/wp-content/uploads/2021/12/excercise.png
END:VEVENT
BEGIN:VEVENT
DTSTART;TZID=America/New_York:20260114T094500
DTEND;TZID=America/New_York:20260114T104500
DTSTAMP:20260421T114004
CREATED:20260112T205541Z
LAST-MODIFIED:20260112T205545Z
UID:10015469-1768383900-1768387500@www.nassaucountycouncilonaging.org
SUMMARY:Weight Training and Toning
DESCRIPTION:9:45 am – 10:45 am\nJanice Clarkson \nBook Now
URL:https://www.nassaucountycouncilonaging.org/calendar/weight-training-and-toning-5-28-14-40-14-40-14-2/
LOCATION:Janice Ancrum Senior Life Center\, 1901 Island Walk Way\, Fernandina Beach\, FL\, 32034
CATEGORIES:Wellness, Health & Fitness
ATTACH;FMTTYPE=image/png:https://www.nassaucountycouncilonaging.org/wp-content/uploads/2021/12/excercise.png
END:VEVENT
BEGIN:VEVENT
DTSTART;TZID=America/New_York:20260114T100000
DTEND;TZID=America/New_York:20260114T104500
DTSTAMP:20260421T114004
CREATED:20260112T205825Z
LAST-MODIFIED:20260112T205828Z
UID:10015482-1768384800-1768387500@www.nassaucountycouncilonaging.org
SUMMARY:Aerobic Exercise
DESCRIPTION:Mat Required\n10:00 am – 10:45 am\nMerle Sauer \nBook Now
URL:https://www.nassaucountycouncilonaging.org/calendar/aerobic-exercise-24-11-23-15-10-2/
LOCATION:Janice Ancrum Senior Life Center\, 1901 Island Walk Way\, Fernandina Beach\, FL\, 32034
CATEGORIES:Wellness, Health & Fitness
ATTACH;FMTTYPE=image/png:https://www.nassaucountycouncilonaging.org/wp-content/uploads/2021/12/excercise.png
END:VEVENT
BEGIN:VEVENT
DTSTART;TZID=America/New_York:20260114T110000
DTEND;TZID=America/New_York:20260114T114500
DTSTAMP:20260421T114004
CREATED:20260112T210013Z
LAST-MODIFIED:20260112T210016Z
UID:10015496-1768388400-1768391100@www.nassaucountycouncilonaging.org
SUMMARY:Pilates
DESCRIPTION:Mat Required\n11:00 am – 11:45 am\nMerle Sauer \nBook Now\n 
URL:https://www.nassaucountycouncilonaging.org/calendar/pilates-30-13-23-14-12-2/
LOCATION:Janice Ancrum Senior Life Center\, 1901 Island Walk Way\, Fernandina Beach\, FL\, 32034
CATEGORIES:Wellness, Health & Fitness
ATTACH;FMTTYPE=image/png:https://www.nassaucountycouncilonaging.org/wp-content/uploads/2023/01/pelvic-floor-and-core.png
END:VEVENT
BEGIN:VEVENT
DTSTART;TZID=America/New_York:20260114T113000
DTEND;TZID=America/New_York:20260114T123000
DTSTAMP:20260421T114004
CREATED:20260112T210314Z
LAST-MODIFIED:20260112T210317Z
UID:10015509-1768390200-1768393800@www.nassaucountycouncilonaging.org
SUMMARY:Enerchi
DESCRIPTION:11:30 am – 12:30 pm\nMary Bleck \nBook Now
URL:https://www.nassaucountycouncilonaging.org/calendar/enerchi-3-18-14-13-41-12-40-13-2/
LOCATION:Janice Ancrum Senior Life Center\, 1901 Island Walk Way\, Fernandina Beach\, FL\, 32034
CATEGORIES:Wellness, Health & Fitness
ATTACH;FMTTYPE=image/png:https://www.nassaucountycouncilonaging.org/wp-content/uploads/2021/12/excercise.png
END:VEVENT
BEGIN:VEVENT
DTSTART;TZID=America/New_York:20260114T151500
DTEND;TZID=America/New_York:20260114T160000
DTSTAMP:20260421T114004
CREATED:20260112T212659Z
LAST-MODIFIED:20260112T212702Z
UID:10015579-1768403700-1768406400@www.nassaucountycouncilonaging.org
SUMMARY:Tai Chi: 13 Elements
DESCRIPTION:3:15 pm – 4:00 pm\nTom Gagne \nBook Now
URL:https://www.nassaucountycouncilonaging.org/calendar/tai-chi-13-elements-6-8-13-2/
LOCATION:Janice Ancrum Senior Life Center\, 1901 Island Walk Way\, Fernandina Beach\, FL\, 32034
CATEGORIES:Wellness, Health & Fitness
ATTACH;FMTTYPE=image/png:https://www.nassaucountycouncilonaging.org/wp-content/uploads/2023/06/YinYang2Sized.png
END:VEVENT
BEGIN:VEVENT
DTSTART;TZID=America/New_York:20260114T160000
DTEND;TZID=America/New_York:20260114T170000
DTSTAMP:20260421T114004
CREATED:20260112T213128Z
LAST-MODIFIED:20260112T213131Z
UID:10015593-1768406400-1768410000@www.nassaucountycouncilonaging.org
SUMMARY:Tai Chi: 24 Postures
DESCRIPTION:4:00 pm – 5:00 pm\nTom Gagne \nBook Now
URL:https://www.nassaucountycouncilonaging.org/calendar/tai-chi-24-postures-6-8-13-2/
LOCATION:Janice Ancrum Senior Life Center\, 1901 Island Walk Way\, Fernandina Beach\, FL\, 32034
CATEGORIES:Wellness, Health & Fitness
ATTACH;FMTTYPE=image/png:https://www.nassaucountycouncilonaging.org/wp-content/uploads/2022/09/tai-chi.png
END:VEVENT
END:VCALENDAR