BEGIN:VCALENDAR
VERSION:2.0
PRODID:-//Nassau County Council on Aging - ECPv6.15.20//NONSGML v1.0//EN
CALSCALE:GREGORIAN
METHOD:PUBLISH
X-ORIGINAL-URL:https://www.nassaucountycouncilonaging.org
X-WR-CALDESC:Events for Nassau County Council on Aging
REFRESH-INTERVAL;VALUE=DURATION:PT1H
X-Robots-Tag:noindex
X-PUBLISHED-TTL:PT1H
BEGIN:VTIMEZONE
TZID:America/New_York
BEGIN:DAYLIGHT
TZOFFSETFROM:-0500
TZOFFSETTO:-0400
TZNAME:EDT
DTSTART:20250309T070000
END:DAYLIGHT
BEGIN:STANDARD
TZOFFSETFROM:-0400
TZOFFSETTO:-0500
TZNAME:EST
DTSTART:20251102T060000
END:STANDARD
BEGIN:DAYLIGHT
TZOFFSETFROM:-0500
TZOFFSETTO:-0400
TZNAME:EDT
DTSTART:20260308T070000
END:DAYLIGHT
BEGIN:STANDARD
TZOFFSETFROM:-0400
TZOFFSETTO:-0500
TZNAME:EST
DTSTART:20261101T060000
END:STANDARD
BEGIN:DAYLIGHT
TZOFFSETFROM:-0500
TZOFFSETTO:-0400
TZNAME:EDT
DTSTART:20270314T070000
END:DAYLIGHT
BEGIN:STANDARD
TZOFFSETFROM:-0400
TZOFFSETTO:-0500
TZNAME:EST
DTSTART:20271107T060000
END:STANDARD
END:VTIMEZONE
BEGIN:VEVENT
DTSTART;TZID=America/New_York:20260113T081500
DTEND;TZID=America/New_York:20260113T091500
DTSTAMP:20260421T144453
CREATED:20260112T192143Z
LAST-MODIFIED:20260112T192146Z
UID:10015209-1768292100-1768295700@www.nassaucountycouncilonaging.org
SUMMARY:Standing Core
DESCRIPTION:8:15 am – 9:15 am\nCatherine Paradise \nBook Now\n 
URL:https://www.nassaucountycouncilonaging.org/calendar/standing-core-15-11-15-15-14-2/
LOCATION:Janice Ancrum Senior Life Center\, 1901 Island Walk Way\, Fernandina Beach\, FL\, 32034
CATEGORIES:Wellness, Health & Fitness
ATTACH;FMTTYPE=image/png:https://www.nassaucountycouncilonaging.org/wp-content/uploads/2021/12/excercise.png
END:VEVENT
BEGIN:VEVENT
DTSTART;TZID=America/New_York:20260113T093000
DTEND;TZID=America/New_York:20260113T103000
DTSTAMP:20260421T144453
CREATED:20260112T193534Z
LAST-MODIFIED:20260112T193537Z
UID:10015236-1768296600-1768300200@www.nassaucountycouncilonaging.org
SUMMARY:Floor Yoga Stretch
DESCRIPTION:Mat Required\n9:30 am – 10:30 am\nCatherine Paradise \nBook Now
URL:https://www.nassaucountycouncilonaging.org/calendar/floor-yoga-stretch-18-12-29-14-2/
LOCATION:Janice Ancrum Senior Life Center\, 1901 Island Walk Way\, Fernandina Beach\, FL\, 32034
CATEGORIES:Wellness, Health & Fitness
ATTACH;FMTTYPE=image/png:https://www.nassaucountycouncilonaging.org/wp-content/uploads/2021/12/yoga.png
END:VEVENT
BEGIN:VEVENT
DTSTART;TZID=America/New_York:20260113T100000
DTEND;TZID=America/New_York:20260113T110000
DTSTAMP:20260421T144453
CREATED:20260112T194400Z
LAST-MODIFIED:20260112T194403Z
UID:10015274-1768298400-1768302000@www.nassaucountycouncilonaging.org
SUMMARY:Stability Exercises
DESCRIPTION:10:00 am – 11:00 am\nMary Bleck \nBook Now\n  \n 
URL:https://www.nassaucountycouncilonaging.org/calendar/stability-exercises-5-8-8-35-30-12-52-2/
LOCATION:Janice Ancrum Senior Life Center\, 1901 Island Walk Way\, Fernandina Beach\, FL\, 32034
CATEGORIES:Wellness, Health & Fitness
ATTACH;FMTTYPE=image/png:https://www.nassaucountycouncilonaging.org/wp-content/uploads/2021/12/excercise.png
END:VEVENT
BEGIN:VEVENT
DTSTART;TZID=America/New_York:20260113T104500
DTEND;TZID=America/New_York:20260113T234500
DTSTAMP:20260421T144453
CREATED:20260112T195015Z
LAST-MODIFIED:20260112T195018Z
UID:10012145-1768301100-1768347900@www.nassaucountycouncilonaging.org
SUMMARY:Standing & Sitting Pilates
DESCRIPTION:Mat Required\n10:45 am – 11:45 am\nMerle Sauer \nBook Now\n 
URL:https://www.nassaucountycouncilonaging.org/calendar/standing-pilates-24-15-6-8-2/
LOCATION:Janice Ancrum Senior Life Center\, 1901 Island Walk Way\, Fernandina Beach\, FL\, 32034
CATEGORIES:Wellness, Health & Fitness
ATTACH;FMTTYPE=image/png:https://www.nassaucountycouncilonaging.org/wp-content/uploads/2023/01/pelvic-floor-and-core.png
END:VEVENT
BEGIN:VEVENT
DTSTART;TZID=America/New_York:20260113T120000
DTEND;TZID=America/New_York:20260113T130000
DTSTAMP:20260421T144453
CREATED:20260112T195452Z
LAST-MODIFIED:20260112T195455Z
UID:10015313-1768305600-1768309200@www.nassaucountycouncilonaging.org
SUMMARY:Chair Aerobics
DESCRIPTION:12:00 pm – 1:00 pm\nMerle Sauer \nBook Now
URL:https://www.nassaucountycouncilonaging.org/calendar/chair-aerobics-5-12-15-13-2/
LOCATION:Janice Ancrum Senior Life Center\, 1901 Island Walk Way\, Fernandina Beach\, FL\, 32034
CATEGORIES:Wellness, Health & Fitness
ATTACH;FMTTYPE=image/png:https://www.nassaucountycouncilonaging.org/wp-content/uploads/2021/12/excercise.png
END:VEVENT
BEGIN:VEVENT
DTSTART;TZID=America/New_York:20260113T121500
DTEND;TZID=America/New_York:20260113T124500
DTSTAMP:20260421T144453
CREATED:20260112T195835Z
LAST-MODIFIED:20260112T195838Z
UID:10016685-1768306500-1768308300@www.nassaucountycouncilonaging.org
SUMMARY:Hula Hooping
DESCRIPTION:All Levels Welcome \n9:45 am – 10:15 am\nLaura Giordano & Heidi Freilich \nBook Now
URL:https://www.nassaucountycouncilonaging.org/calendar/happy-hoopers-15-15-12-25-11-3-12-4-25-7-15-2/
LOCATION:Janice Ancrum Senior Life Center\, 1901 Island Walk Way\, Fernandina Beach\, FL\, 32034
CATEGORIES:Wellness, Health & Fitness
ATTACH;FMTTYPE=image/png:https://www.nassaucountycouncilonaging.org/wp-content/uploads/2023/03/hoop.png
END:VEVENT
BEGIN:VEVENT
DTSTART;TZID=America/New_York:20260113T130000
DTEND;TZID=America/New_York:20260113T140000
DTSTAMP:20260421T144453
CREATED:20260112T201039Z
LAST-MODIFIED:20260112T201042Z
UID:10015381-1768309200-1768312800@www.nassaucountycouncilonaging.org
SUMMARY:Zumba Gold
DESCRIPTION:1:00 pm – 2:00 pm\nStacey “Sparkle” Vinson \nBook Now
URL:https://www.nassaucountycouncilonaging.org/calendar/zumba-gold-8-4-11-14-12-12-30-13-40-14-2/
LOCATION:Janice Ancrum Senior Life Center\, 1901 Island Walk Way\, Fernandina Beach\, FL\, 32034
CATEGORIES:Music & Dancing,Wellness, Health & Fitness
ATTACH;FMTTYPE=image/png:https://www.nassaucountycouncilonaging.org/wp-content/uploads/2023/01/zumba-gold-orange.png
END:VEVENT
END:VCALENDAR