BEGIN:VCALENDAR
VERSION:2.0
PRODID:-//Nassau County Council on Aging - ECPv6.15.20//NONSGML v1.0//EN
CALSCALE:GREGORIAN
METHOD:PUBLISH
X-ORIGINAL-URL:https://www.nassaucountycouncilonaging.org
X-WR-CALDESC:Events for Nassau County Council on Aging
REFRESH-INTERVAL;VALUE=DURATION:PT1H
X-Robots-Tag:noindex
X-PUBLISHED-TTL:PT1H
BEGIN:VTIMEZONE
TZID:America/New_York
BEGIN:DAYLIGHT
TZOFFSETFROM:-0500
TZOFFSETTO:-0400
TZNAME:EDT
DTSTART:20250309T070000
END:DAYLIGHT
BEGIN:STANDARD
TZOFFSETFROM:-0400
TZOFFSETTO:-0500
TZNAME:EST
DTSTART:20251102T060000
END:STANDARD
BEGIN:DAYLIGHT
TZOFFSETFROM:-0500
TZOFFSETTO:-0400
TZNAME:EDT
DTSTART:20260308T070000
END:DAYLIGHT
BEGIN:STANDARD
TZOFFSETFROM:-0400
TZOFFSETTO:-0500
TZNAME:EST
DTSTART:20261101T060000
END:STANDARD
BEGIN:DAYLIGHT
TZOFFSETFROM:-0500
TZOFFSETTO:-0400
TZNAME:EDT
DTSTART:20270314T070000
END:DAYLIGHT
BEGIN:STANDARD
TZOFFSETFROM:-0400
TZOFFSETTO:-0500
TZNAME:EST
DTSTART:20271107T060000
END:STANDARD
END:VTIMEZONE
BEGIN:VEVENT
DTSTART;TZID=America/New_York:20260109T083000
DTEND;TZID=America/New_York:20260109T093000
DTSTAMP:20260421T174751
CREATED:20251007T145042Z
LAST-MODIFIED:20251007T145043Z
UID:10015831-1767947400-1767951000@www.nassaucountycouncilonaging.org
SUMMARY:Zumba Gold - Weight Training & Toning
DESCRIPTION:8:30 am – 9:30 am\nStacey “Sparkle” Vinson
URL:https://www.nassaucountycouncilonaging.org/calendar/zumba-gold-weight-training-2-2-4-15-11-11-39-12-14-16-14/
LOCATION:Janice Ancrum Senior Life Center\, 1901 Island Walk Way\, Fernandina Beach\, FL\, 32034
CATEGORIES:Wellness, Health & Fitness
ATTACH;FMTTYPE=image/png:https://www.nassaucountycouncilonaging.org/wp-content/uploads/2023/01/zumba-gold-orange.png
END:VEVENT
BEGIN:VEVENT
DTSTART;TZID=America/New_York:20260109T090000
DTEND;TZID=America/New_York:20260109T094500
DTSTAMP:20260421T174751
CREATED:20251007T150722Z
LAST-MODIFIED:20251007T150723Z
UID:10015844-1767949200-1767951900@www.nassaucountycouncilonaging.org
SUMMARY:Chair Yoga
DESCRIPTION:9 – 9:45 am\nTina LaVacca
URL:https://www.nassaucountycouncilonaging.org/calendar/chair-yoga-5-11-27-16-12-28-14/
LOCATION:Janice Ancrum Senior Life Center\, 1901 Island Walk Way\, Fernandina Beach\, FL\, 32034
CATEGORIES:Wellness, Health & Fitness
ATTACH;FMTTYPE=image/png:https://www.nassaucountycouncilonaging.org/wp-content/uploads/2021/12/yoga.png
END:VEVENT
BEGIN:VEVENT
DTSTART;TZID=America/New_York:20260109T094500
DTEND;TZID=America/New_York:20260109T104500
DTSTAMP:20260421T174751
CREATED:20251007T151520Z
LAST-MODIFIED:20251007T151521Z
UID:10015873-1767951900-1767955500@www.nassaucountycouncilonaging.org
SUMMARY:Zumba Step-Up
DESCRIPTION:9:45 am – 10:45 am\nStacey “Sparkle” Vinson
URL:https://www.nassaucountycouncilonaging.org/calendar/zumba-step-up-17-9-38-12-14-16-14/
LOCATION:Janice Ancrum Senior Life Center\, 1901 Island Walk Way\, Fernandina Beach\, FL\, 32034
CATEGORIES:Wellness, Health & Fitness
ATTACH;FMTTYPE=image/png:https://www.nassaucountycouncilonaging.org/wp-content/uploads/2023/01/zumba-gold-orange.png
END:VEVENT
BEGIN:VEVENT
DTSTART;TZID=America/New_York:20260109T100000
DTEND;TZID=America/New_York:20260109T110000
DTSTAMP:20260421T174751
CREATED:20251007T151735Z
LAST-MODIFIED:20251007T151737Z
UID:10015886-1767952800-1767956400@www.nassaucountycouncilonaging.org
SUMMARY:Aerobic Exercise
DESCRIPTION:10:00 am – 10:45 am\nMerle Sauer
URL:https://www.nassaucountycouncilonaging.org/calendar/aerobic-exercise-3-13-14-10-14-12-13/
LOCATION:Janice Ancrum Senior Life Center\, 1901 Island Walk Way\, Fernandina Beach\, FL\, 32034
CATEGORIES:Wellness, Health & Fitness
ATTACH;FMTTYPE=image/png:https://www.nassaucountycouncilonaging.org/wp-content/uploads/2021/12/excercise.png
END:VEVENT
BEGIN:VEVENT
DTSTART;TZID=America/New_York:20260109T110000
DTEND;TZID=America/New_York:20260109T114500
DTSTAMP:20260421T174751
CREATED:20251007T152549Z
LAST-MODIFIED:20251007T152550Z
UID:10015904-1767956400-1767959100@www.nassaucountycouncilonaging.org
SUMMARY:Pilates
DESCRIPTION:Mat Required\n11:00 am – 11:45 am\nMerle Sauer
URL:https://www.nassaucountycouncilonaging.org/calendar/pilates-6-13-9-18-14-12-14/
LOCATION:Janice Ancrum Senior Life Center\, 1901 Island Walk Way\, Fernandina Beach\, FL\, 32034
CATEGORIES:Wellness, Health & Fitness
ATTACH;FMTTYPE=image/png:https://www.nassaucountycouncilonaging.org/wp-content/uploads/2023/01/pelvic-floor-and-core.png
END:VEVENT
BEGIN:VEVENT
DTSTART;TZID=America/New_York:20260109T113000
DTEND;TZID=America/New_York:20260109T123000
DTSTAMP:20260421T174751
CREATED:20250326T192643Z
LAST-MODIFIED:20251007T153038Z
UID:10015930-1767958200-1767961800@www.nassaucountycouncilonaging.org
SUMMARY:Total Body Workout
DESCRIPTION:11:30 am – 12:30 pm\nStacey “Sparkle” Vinson
URL:https://www.nassaucountycouncilonaging.org/calendar/full-body-workout-6-14-10-3-6-38-12-14-15/
LOCATION:Janice Ancrum Senior Life Center\, 1901 Island Walk Way\, Fernandina Beach\, FL\, 32034
CATEGORIES:Wellness, Health & Fitness
ATTACH;FMTTYPE=image/png:https://www.nassaucountycouncilonaging.org/wp-content/uploads/2021/12/excercise.png
END:VEVENT
END:VCALENDAR