BEGIN:VCALENDAR
VERSION:2.0
PRODID:-//Nassau County Council on Aging - ECPv6.15.20//NONSGML v1.0//EN
CALSCALE:GREGORIAN
METHOD:PUBLISH
X-ORIGINAL-URL:https://www.nassaucountycouncilonaging.org
X-WR-CALDESC:Events for Nassau County Council on Aging
REFRESH-INTERVAL;VALUE=DURATION:PT1H
X-Robots-Tag:noindex
X-PUBLISHED-TTL:PT1H
BEGIN:VTIMEZONE
TZID:America/New_York
BEGIN:DAYLIGHT
TZOFFSETFROM:-0500
TZOFFSETTO:-0400
TZNAME:EDT
DTSTART:20250309T070000
END:DAYLIGHT
BEGIN:STANDARD
TZOFFSETFROM:-0400
TZOFFSETTO:-0500
TZNAME:EST
DTSTART:20251102T060000
END:STANDARD
BEGIN:DAYLIGHT
TZOFFSETFROM:-0500
TZOFFSETTO:-0400
TZNAME:EDT
DTSTART:20260308T070000
END:DAYLIGHT
BEGIN:STANDARD
TZOFFSETFROM:-0400
TZOFFSETTO:-0500
TZNAME:EST
DTSTART:20261101T060000
END:STANDARD
BEGIN:DAYLIGHT
TZOFFSETFROM:-0500
TZOFFSETTO:-0400
TZNAME:EDT
DTSTART:20270314T070000
END:DAYLIGHT
BEGIN:STANDARD
TZOFFSETFROM:-0400
TZOFFSETTO:-0500
TZNAME:EST
DTSTART:20271107T060000
END:STANDARD
END:VTIMEZONE
BEGIN:VEVENT
DTSTART;TZID=America/New_York:20260102T083000
DTEND;TZID=America/New_York:20260102T093000
DTSTAMP:20260421T114220
CREATED:20251229T203908Z
LAST-MODIFIED:20251229T203911Z
UID:10015830-1767342600-1767346200@www.nassaucountycouncilonaging.org
SUMMARY:Zumba Gold - Weight Training & Toning
DESCRIPTION:8:30 am – 9:30 am\nStacey “Sparkle” Vinson \nBook Now
URL:https://www.nassaucountycouncilonaging.org/calendar/zumba-gold-weight-training-2-2-4-15-11-11-39-12-14-16-14-11/
LOCATION:Janice Ancrum Senior Life Center\, 1901 Island Walk Way\, Fernandina Beach\, FL\, 32034
CATEGORIES:Wellness, Health & Fitness
ATTACH;FMTTYPE=image/png:https://www.nassaucountycouncilonaging.org/wp-content/uploads/2023/01/zumba-gold-orange.png
END:VEVENT
BEGIN:VEVENT
DTSTART;TZID=America/New_York:20260102T090000
DTEND;TZID=America/New_York:20260102T094500
DTSTAMP:20260421T114220
CREATED:20251229T204018Z
LAST-MODIFIED:20251229T204021Z
UID:10015843-1767344400-1767347100@www.nassaucountycouncilonaging.org
SUMMARY:Chair Yoga
DESCRIPTION:9 – 9:45 am\nSub – Catherine Paradise \nBook Now
URL:https://www.nassaucountycouncilonaging.org/calendar/chair-yoga-5-11-27-16-12-28-14-11/
LOCATION:Janice Ancrum Senior Life Center\, 1901 Island Walk Way\, Fernandina Beach\, FL\, 32034
CATEGORIES:Wellness, Health & Fitness
ATTACH;FMTTYPE=image/png:https://www.nassaucountycouncilonaging.org/wp-content/uploads/2021/12/yoga.png
END:VEVENT
BEGIN:VEVENT
DTSTART;TZID=America/New_York:20260102T094500
DTEND;TZID=America/New_York:20260102T104500
DTSTAMP:20260421T114220
CREATED:20251229T204153Z
LAST-MODIFIED:20251229T204156Z
UID:10015872-1767347100-1767350700@www.nassaucountycouncilonaging.org
SUMMARY:Zumba Step-Up
DESCRIPTION:9:45 am – 10:45 am\nStacey “Sparkle” Vinson \nBook Now
URL:https://www.nassaucountycouncilonaging.org/calendar/zumba-step-up-17-9-38-12-14-16-14-9/
LOCATION:Janice Ancrum Senior Life Center\, 1901 Island Walk Way\, Fernandina Beach\, FL\, 32034
CATEGORIES:Wellness, Health & Fitness
ATTACH;FMTTYPE=image/png:https://www.nassaucountycouncilonaging.org/wp-content/uploads/2023/01/zumba-gold-orange.png
END:VEVENT
BEGIN:VEVENT
DTSTART;TZID=America/New_York:20260102T113000
DTEND;TZID=America/New_York:20260102T123000
DTSTAMP:20260421T114220
CREATED:20251229T204658Z
LAST-MODIFIED:20251229T204702Z
UID:10015929-1767353400-1767357000@www.nassaucountycouncilonaging.org
SUMMARY:Total Body Workout
DESCRIPTION:11:30 am – 12:30 pm\nStacey “Sparkle” Vinson \nBook Now
URL:https://www.nassaucountycouncilonaging.org/calendar/full-body-workout-6-14-10-3-6-38-12-14-15-22/
LOCATION:Janice Ancrum Senior Life Center\, 1901 Island Walk Way\, Fernandina Beach\, FL\, 32034
CATEGORIES:Wellness, Health & Fitness
ATTACH;FMTTYPE=image/png:https://www.nassaucountycouncilonaging.org/wp-content/uploads/2021/12/excercise.png
END:VEVENT
END:VCALENDAR