BEGIN:VCALENDAR
VERSION:2.0
PRODID:-//Nassau County Council on Aging - ECPv6.15.20//NONSGML v1.0//EN
CALSCALE:GREGORIAN
METHOD:PUBLISH
X-ORIGINAL-URL:https://www.nassaucountycouncilonaging.org
X-WR-CALDESC:Events for Nassau County Council on Aging
REFRESH-INTERVAL;VALUE=DURATION:PT1H
X-Robots-Tag:noindex
X-PUBLISHED-TTL:PT1H
BEGIN:VTIMEZONE
TZID:America/New_York
BEGIN:DAYLIGHT
TZOFFSETFROM:-0500
TZOFFSETTO:-0400
TZNAME:EDT
DTSTART:20240310T070000
END:DAYLIGHT
BEGIN:STANDARD
TZOFFSETFROM:-0400
TZOFFSETTO:-0500
TZNAME:EST
DTSTART:20241103T060000
END:STANDARD
BEGIN:DAYLIGHT
TZOFFSETFROM:-0500
TZOFFSETTO:-0400
TZNAME:EDT
DTSTART:20250309T070000
END:DAYLIGHT
BEGIN:STANDARD
TZOFFSETFROM:-0400
TZOFFSETTO:-0500
TZNAME:EST
DTSTART:20251102T060000
END:STANDARD
BEGIN:DAYLIGHT
TZOFFSETFROM:-0500
TZOFFSETTO:-0400
TZNAME:EDT
DTSTART:20260308T070000
END:DAYLIGHT
BEGIN:STANDARD
TZOFFSETFROM:-0400
TZOFFSETTO:-0500
TZNAME:EST
DTSTART:20261101T060000
END:STANDARD
END:VTIMEZONE
BEGIN:VEVENT
DTSTART;TZID=America/New_York:20251229T083000
DTEND;TZID=America/New_York:20251229T093000
DTSTAMP:20260421T144453
CREATED:20251229T195130Z
LAST-MODIFIED:20251229T195134Z
UID:10015006-1766997000-1767000600@www.nassaucountycouncilonaging.org
SUMMARY:Pelvic Floor & Core
DESCRIPTION:8:30 – 9:30 am\nJanice Clarkson \nMat Required \nBook Now
URL:https://www.nassaucountycouncilonaging.org/calendar/pelvic-floor-core-2-5-14-14-12-9-14-14-13-11-15-15-13/
LOCATION:Janice Ancrum Senior Life Center\, 1901 Island Walk Way\, Fernandina Beach\, FL\, 32034
CATEGORIES:Wellness, Health & Fitness
ATTACH;FMTTYPE=image/png:https://www.nassaucountycouncilonaging.org/wp-content/uploads/2021/12/excercise.png
END:VEVENT
BEGIN:VEVENT
DTSTART;TZID=America/New_York:20251229T090000
DTEND;TZID=America/New_York:20251229T094500
DTSTAMP:20260421T144453
CREATED:20251229T195232Z
LAST-MODIFIED:20251229T195235Z
UID:10015018-1766998800-1767001500@www.nassaucountycouncilonaging.org
SUMMARY:Chair Yoga
DESCRIPTION:9:00 am – 9:45 am\nSub – Merle Sauer \nBook Now
URL:https://www.nassaucountycouncilonaging.org/calendar/chair-yoga-with-tina-12-8-14-15-13-11-15-14-14/
LOCATION:Janice Ancrum Senior Life Center\, 1901 Island Walk Way\, Fernandina Beach\, FL\, 32034
CATEGORIES:Wellness, Health & Fitness
ATTACH;FMTTYPE=image/png:https://www.nassaucountycouncilonaging.org/wp-content/uploads/2021/12/yoga.png
END:VEVENT
BEGIN:VEVENT
DTSTART;TZID=America/New_York:20251229T100000
DTEND;TZID=America/New_York:20251229T110000
DTSTAMP:20260421T144453
CREATED:20251229T195455Z
LAST-MODIFIED:20251229T195455Z
UID:10016334-1767002400-1767006000@www.nassaucountycouncilonaging.org
SUMMARY:Enerchi
DESCRIPTION:10:00 am – 11:00 am\nMary Bleck \nBook Now
URL:https://www.nassaucountycouncilonaging.org/calendar/enerchi-14/
LOCATION:Janice Ancrum Senior Life Center\, 1901 Island Walk Way\, Fernandina Beach\, FL\, 32034
CATEGORIES:Wellness, Health & Fitness
ATTACH;FMTTYPE=image/png:https://www.nassaucountycouncilonaging.org/wp-content/uploads/2021/12/excercise.png
END:VEVENT
BEGIN:VEVENT
DTSTART;TZID=America/New_York:20251229T113000
DTEND;TZID=America/New_York:20251229T123000
DTSTAMP:20260421T144453
CREATED:20251229T195922Z
LAST-MODIFIED:20251229T195925Z
UID:10015087-1767007800-1767011400@www.nassaucountycouncilonaging.org
SUMMARY:Standing Yoga
DESCRIPTION:11:30 am – 12:30 pm\nMary Bleck \nBook Now
URL:https://www.nassaucountycouncilonaging.org/calendar/standing-yoga-3-5-15-12-12-8-14-15-12-12-15-13-14/
LOCATION:Janice Ancrum Senior Life Center\, 1901 Island Walk Way\, Fernandina Beach\, FL\, 32034
CATEGORIES:Wellness, Health & Fitness
ATTACH;FMTTYPE=image/png:https://www.nassaucountycouncilonaging.org/wp-content/uploads/2021/12/excercise.png
END:VEVENT
END:VCALENDAR