BEGIN:VCALENDAR
VERSION:2.0
PRODID:-//Nassau County Council on Aging - ECPv6.15.20//NONSGML v1.0//EN
CALSCALE:GREGORIAN
METHOD:PUBLISH
X-ORIGINAL-URL:https://www.nassaucountycouncilonaging.org
X-WR-CALDESC:Events for Nassau County Council on Aging
REFRESH-INTERVAL;VALUE=DURATION:PT1H
X-Robots-Tag:noindex
X-PUBLISHED-TTL:PT1H
BEGIN:VTIMEZONE
TZID:America/New_York
BEGIN:DAYLIGHT
TZOFFSETFROM:-0500
TZOFFSETTO:-0400
TZNAME:EDT
DTSTART:20240310T070000
END:DAYLIGHT
BEGIN:STANDARD
TZOFFSETFROM:-0400
TZOFFSETTO:-0500
TZNAME:EST
DTSTART:20241103T060000
END:STANDARD
BEGIN:DAYLIGHT
TZOFFSETFROM:-0500
TZOFFSETTO:-0400
TZNAME:EDT
DTSTART:20250309T070000
END:DAYLIGHT
BEGIN:STANDARD
TZOFFSETFROM:-0400
TZOFFSETTO:-0500
TZNAME:EST
DTSTART:20251102T060000
END:STANDARD
BEGIN:DAYLIGHT
TZOFFSETFROM:-0500
TZOFFSETTO:-0400
TZNAME:EDT
DTSTART:20260308T070000
END:DAYLIGHT
BEGIN:STANDARD
TZOFFSETFROM:-0400
TZOFFSETTO:-0500
TZNAME:EST
DTSTART:20261101T060000
END:STANDARD
END:VTIMEZONE
BEGIN:VEVENT
DTSTART;TZID=America/New_York:20251211T081500
DTEND;TZID=America/New_York:20251211T091500
DTSTAMP:20260422T091251
CREATED:20251206T182046Z
LAST-MODIFIED:20251206T182052Z
UID:10015608-1765440900-1765444500@www.nassaucountycouncilonaging.org
SUMMARY:Sit & Be Fit!
DESCRIPTION:8:15 – 9:15 am\nCatherine Paradise \nBook Now
URL:https://www.nassaucountycouncilonaging.org/calendar/mat-core-class-all-levels-4-7-12-13-29-8/
LOCATION:Janice Ancrum Senior Life Center\, 1901 Island Walk Way\, Fernandina Beach\, FL\, 32034
CATEGORIES:Wellness, Health & Fitness
ATTACH;FMTTYPE=image/png:https://www.nassaucountycouncilonaging.org/wp-content/uploads/2021/12/excercise.png
END:VEVENT
BEGIN:VEVENT
DTSTART;TZID=America/New_York:20251211T083000
DTEND;TZID=America/New_York:20251211T093000
DTSTAMP:20260422T091251
CREATED:20251206T182223Z
LAST-MODIFIED:20251206T182226Z
UID:10015621-1765441800-1765445400@www.nassaucountycouncilonaging.org
SUMMARY:Mat & Core Class - Advanced
DESCRIPTION:All Levels\nMat Required \n8:30 – 9:30 am\nDebi Senger \nBook Now
URL:https://www.nassaucountycouncilonaging.org/calendar/mat-core-class-34-29-12-13-15-15-9/
LOCATION:Janice Ancrum Senior Life Center\, 1901 Island Walk Way\, Fernandina Beach\, FL\, 32034
CATEGORIES:Wellness, Health & Fitness
ATTACH;FMTTYPE=image/png:https://www.nassaucountycouncilonaging.org/wp-content/uploads/2021/12/excercise.png
END:VEVENT
BEGIN:VEVENT
DTSTART;TZID=America/New_York:20251211T093000
DTEND;TZID=America/New_York:20251211T103000
DTSTAMP:20260422T091251
CREATED:20251206T182502Z
LAST-MODIFIED:20251206T182505Z
UID:10015639-1765445400-1765449000@www.nassaucountycouncilonaging.org
SUMMARY:Qigong Healing - Advanced
DESCRIPTION:The Art of Inhaling Life\n9:30 am – 10:30 am\nJohn Cipriani \nBook Now\n 
URL:https://www.nassaucountycouncilonaging.org/calendar/qigong-healing-12-26-14-13-13-29-10/
LOCATION:Janice Ancrum Senior Life Center\, 1901 Island Walk Way\, Fernandina Beach\, FL\, 32034
CATEGORIES:Wellness, Health & Fitness
ATTACH;FMTTYPE=image/png:https://www.nassaucountycouncilonaging.org/wp-content/uploads/2023/06/LungsSized.png
END:VEVENT
BEGIN:VEVENT
DTSTART;TZID=America/New_York:20251211T094500
DTEND;TZID=America/New_York:20251211T101500
DTSTAMP:20260422T091251
CREATED:20251206T182554Z
LAST-MODIFIED:20251206T182602Z
UID:10015652-1765446300-1765448100@www.nassaucountycouncilonaging.org
SUMMARY:Hula Hooping
DESCRIPTION:All Levels Welcome \n9:45 am – 10:15 am\nLaura Giordano\, Heidi Freilich\, Judy Desroches \nBook Now
URL:https://www.nassaucountycouncilonaging.org/calendar/happy-hoopers-15-15-12-25-11-3-12-4-25-7-13/
LOCATION:Janice Ancrum Senior Life Center\, 1901 Island Walk Way\, Fernandina Beach\, FL\, 32034
CATEGORIES:Wellness, Health & Fitness
ATTACH;FMTTYPE=image/png:https://www.nassaucountycouncilonaging.org/wp-content/uploads/2023/03/hoop.png
END:VEVENT
BEGIN:VEVENT
DTSTART;TZID=America/New_York:20251211T130000
DTEND;TZID=America/New_York:20251211T140000
DTSTAMP:20260422T091251
CREATED:20251206T183725Z
LAST-MODIFIED:20251206T183730Z
UID:10015780-1765458000-1765461600@www.nassaucountycouncilonaging.org
SUMMARY:Tapping Meditation: Tapping Cafe
DESCRIPTION:1:00 pm – 2:00 pm\nJean Kerry\, PhD\nAmelia Island Psychology \nBook Now
URL:https://www.nassaucountycouncilonaging.org/calendar/tapping-meditation-tapping-cafe-5-15-12-40-13-14-22-9/
LOCATION:Janice Ancrum Senior Life Center\, 1901 Island Walk Way\, Fernandina Beach\, FL\, 32034
CATEGORIES:Wellness, Health & Fitness
ATTACH;FMTTYPE=image/png:https://www.nassaucountycouncilonaging.org/wp-content/uploads/2021/12/yoga.png
END:VEVENT
BEGIN:VEVENT
DTSTART;TZID=America/New_York:20251211T133000
DTEND;TZID=America/New_York:20251211T143000
DTSTAMP:20260422T091251
CREATED:20251206T183958Z
LAST-MODIFIED:20251206T184008Z
UID:10015793-1765459800-1765463400@www.nassaucountycouncilonaging.org
SUMMARY:Zumba Gold
DESCRIPTION:1:30 pm – 2:30 pm\nStacey “Sparkle” Vinson \nBook Now\n 
URL:https://www.nassaucountycouncilonaging.org/calendar/zumba-gold-7-2-2-17-14-9-26-13-12-14-29-7/
LOCATION:Janice Ancrum Senior Life Center\, 1901 Island Walk Way\, Fernandina Beach\, FL\, 32034
CATEGORIES:Wellness, Health & Fitness
ATTACH;FMTTYPE=image/png:https://www.nassaucountycouncilonaging.org/wp-content/uploads/2023/01/zumba-gold-orange.png
END:VEVENT
END:VCALENDAR