BEGIN:VCALENDAR
VERSION:2.0
PRODID:-//Nassau County Council on Aging - ECPv6.15.20//NONSGML v1.0//EN
CALSCALE:GREGORIAN
METHOD:PUBLISH
X-WR-CALNAME:Nassau County Council on Aging
X-ORIGINAL-URL:https://www.nassaucountycouncilonaging.org
X-WR-CALDESC:Events for Nassau County Council on Aging
REFRESH-INTERVAL;VALUE=DURATION:PT1H
X-Robots-Tag:noindex
X-PUBLISHED-TTL:PT1H
BEGIN:VTIMEZONE
TZID:America/New_York
BEGIN:DAYLIGHT
TZOFFSETFROM:-0500
TZOFFSETTO:-0400
TZNAME:EDT
DTSTART:20240310T070000
END:DAYLIGHT
BEGIN:STANDARD
TZOFFSETFROM:-0400
TZOFFSETTO:-0500
TZNAME:EST
DTSTART:20241103T060000
END:STANDARD
BEGIN:DAYLIGHT
TZOFFSETFROM:-0500
TZOFFSETTO:-0400
TZNAME:EDT
DTSTART:20250309T070000
END:DAYLIGHT
BEGIN:STANDARD
TZOFFSETFROM:-0400
TZOFFSETTO:-0500
TZNAME:EST
DTSTART:20251102T060000
END:STANDARD
BEGIN:DAYLIGHT
TZOFFSETFROM:-0500
TZOFFSETTO:-0400
TZNAME:EDT
DTSTART:20260308T070000
END:DAYLIGHT
BEGIN:STANDARD
TZOFFSETFROM:-0400
TZOFFSETTO:-0500
TZNAME:EST
DTSTART:20261101T060000
END:STANDARD
END:VTIMEZONE
BEGIN:VEVENT
DTSTART;TZID=America/New_York:20251208T083000
DTEND;TZID=America/New_York:20251208T093000
DTSTAMP:20260422T091300
CREATED:20251206T155450Z
LAST-MODIFIED:20251206T155502Z
UID:10015003-1765182600-1765186200@www.nassaucountycouncilonaging.org
SUMMARY:Pelvic Floor & Core
DESCRIPTION:8:30 – 9:30 am\nJanice Clarkson \nMat Required \nBook Now
URL:https://www.nassaucountycouncilonaging.org/calendar/pelvic-floor-core-2-5-14-14-12-9-14-14-13-11-15-15-10/
LOCATION:Janice Ancrum Senior Life Center\, 1901 Island Walk Way\, Fernandina Beach\, FL\, 32034
CATEGORIES:Wellness, Health & Fitness
ATTACH;FMTTYPE=image/png:https://www.nassaucountycouncilonaging.org/wp-content/uploads/2021/12/excercise.png
END:VEVENT
BEGIN:VEVENT
DTSTART;TZID=America/New_York:20251208T090000
DTEND;TZID=America/New_York:20251208T094500
DTSTAMP:20260422T091300
CREATED:20251206T155607Z
LAST-MODIFIED:20251206T155610Z
UID:10015015-1765184400-1765187100@www.nassaucountycouncilonaging.org
SUMMARY:Chair Yoga with Tina
DESCRIPTION:9:00 am – 9:45 am\nTina LaVacca \nBook Now
URL:https://www.nassaucountycouncilonaging.org/calendar/chair-yoga-with-tina-12-8-14-15-13-11-15-14-11/
LOCATION:Janice Ancrum Senior Life Center\, 1901 Island Walk Way\, Fernandina Beach\, FL\, 32034
CATEGORIES:Wellness, Health & Fitness
ATTACH;FMTTYPE=image/png:https://www.nassaucountycouncilonaging.org/wp-content/uploads/2021/12/yoga.png
END:VEVENT
BEGIN:VEVENT
DTSTART;TZID=America/New_York:20251208T090000
DTEND;TZID=America/New_York:20251208T100000
DTSTAMP:20260422T091300
CREATED:20251206T155728Z
LAST-MODIFIED:20251206T155739Z
UID:10016051-1765184400-1765188000@www.nassaucountycouncilonaging.org
SUMMARY:Just Friends Exercise with Tissa - FREE
DESCRIPTION:9:00 am – 10:00 am\nTissa Harold Lewis \nBook Now
URL:https://www.nassaucountycouncilonaging.org/calendar/just-friends-exercise-with-tissa-free-2-4-7-4/
LOCATION:Janice Ancrum Senior Life Center\, 1901 Island Walk Way\, Fernandina Beach\, FL\, 32034
CATEGORIES:Wellness, Health & Fitness
ATTACH;FMTTYPE=image/png:https://www.nassaucountycouncilonaging.org/wp-content/uploads/2021/12/excercise.png
END:VEVENT
BEGIN:VEVENT
DTSTART;TZID=America/New_York:20251208T100000
DTEND;TZID=America/New_York:20251208T110000
DTSTAMP:20260422T091300
CREATED:20251006T202316Z
LAST-MODIFIED:20251206T161322Z
UID:10015031-1765188000-1765191600@www.nassaucountycouncilonaging.org
SUMMARY:Enerchi
DESCRIPTION:10:00 am – 11:00 am\nMary Bleck \nBook Now
URL:https://www.nassaucountycouncilonaging.org/calendar/enerchi-7-11-14-15-12-12-15-14/
LOCATION:Janice Ancrum Senior Life Center\, 1901 Island Walk Way\, Fernandina Beach\, FL\, 32034
CATEGORIES:Wellness, Health & Fitness
ATTACH;FMTTYPE=image/png:https://www.nassaucountycouncilonaging.org/wp-content/uploads/2021/12/excercise.png
END:VEVENT
BEGIN:VEVENT
DTSTART;TZID=America/New_York:20251208T113000
DTEND;TZID=America/New_York:20251208T123000
DTSTAMP:20260422T091300
CREATED:20251206T162648Z
LAST-MODIFIED:20251206T162651Z
UID:10015084-1765193400-1765197000@www.nassaucountycouncilonaging.org
SUMMARY:Standing Yoga
DESCRIPTION:11:30 am – 12:30 pm\nMary Bleck \nBook Now
URL:https://www.nassaucountycouncilonaging.org/calendar/standing-yoga-3-5-15-12-12-8-14-15-12-12-15-13-11/
LOCATION:Janice Ancrum Senior Life Center\, 1901 Island Walk Way\, Fernandina Beach\, FL\, 32034
CATEGORIES:Wellness, Health & Fitness
ATTACH;FMTTYPE=image/png:https://www.nassaucountycouncilonaging.org/wp-content/uploads/2021/12/excercise.png
END:VEVENT
BEGIN:VEVENT
DTSTART;TZID=America/New_York:20251208T151500
DTEND;TZID=America/New_York:20251208T160000
DTSTAMP:20260422T091300
CREATED:20251206T163605Z
LAST-MODIFIED:20251206T163607Z
UID:10015189-1765206900-1765209600@www.nassaucountycouncilonaging.org
SUMMARY:Tai Chi: 13 Elements
DESCRIPTION:3:15 pm – 4:00 pm\nTom Gagne \nBook Now
URL:https://www.nassaucountycouncilonaging.org/calendar/tai-chi-13-elements-5-7-11/
LOCATION:Janice Ancrum Senior Life Center\, 1901 Island Walk Way\, Fernandina Beach\, FL\, 32034
CATEGORIES:Wellness, Health & Fitness
ATTACH;FMTTYPE=image/png:https://www.nassaucountycouncilonaging.org/wp-content/uploads/2023/06/YinYang2Sized.png
END:VEVENT
BEGIN:VEVENT
DTSTART;TZID=America/New_York:20251208T160000
DTEND;TZID=America/New_York:20251208T170000
DTSTAMP:20260422T091300
CREATED:20251206T163710Z
LAST-MODIFIED:20251206T163713Z
UID:10015199-1765209600-1765213200@www.nassaucountycouncilonaging.org
SUMMARY:Tai Chi: 24 Postures
DESCRIPTION:4:00 pm – 5:00 pm\nTom Gagne \nBook Now
URL:https://www.nassaucountycouncilonaging.org/calendar/tai-chi-24-postures-5-7-11/
LOCATION:Janice Ancrum Senior Life Center\, 1901 Island Walk Way\, Fernandina Beach\, FL\, 32034
CATEGORIES:Wellness, Health & Fitness
ATTACH;FMTTYPE=image/png:https://www.nassaucountycouncilonaging.org/wp-content/uploads/2022/09/tai-chi.png
END:VEVENT
END:VCALENDAR