BEGIN:VCALENDAR
VERSION:2.0
PRODID:-//Nassau County Council on Aging - ECPv6.15.20//NONSGML v1.0//EN
CALSCALE:GREGORIAN
METHOD:PUBLISH
X-ORIGINAL-URL:https://www.nassaucountycouncilonaging.org
X-WR-CALDESC:Events for Nassau County Council on Aging
REFRESH-INTERVAL;VALUE=DURATION:PT1H
X-Robots-Tag:noindex
X-PUBLISHED-TTL:PT1H
BEGIN:VTIMEZONE
TZID:America/New_York
BEGIN:DAYLIGHT
TZOFFSETFROM:-0500
TZOFFSETTO:-0400
TZNAME:EDT
DTSTART:20240310T070000
END:DAYLIGHT
BEGIN:STANDARD
TZOFFSETFROM:-0400
TZOFFSETTO:-0500
TZNAME:EST
DTSTART:20241103T060000
END:STANDARD
BEGIN:DAYLIGHT
TZOFFSETFROM:-0500
TZOFFSETTO:-0400
TZNAME:EDT
DTSTART:20250309T070000
END:DAYLIGHT
BEGIN:STANDARD
TZOFFSETFROM:-0400
TZOFFSETTO:-0500
TZNAME:EST
DTSTART:20251102T060000
END:STANDARD
BEGIN:DAYLIGHT
TZOFFSETFROM:-0500
TZOFFSETTO:-0400
TZNAME:EDT
DTSTART:20260308T070000
END:DAYLIGHT
BEGIN:STANDARD
TZOFFSETFROM:-0400
TZOFFSETTO:-0500
TZNAME:EST
DTSTART:20261101T060000
END:STANDARD
END:VTIMEZONE
BEGIN:VEVENT
DTSTART;TZID=America/New_York:20251202T081500
DTEND;TZID=America/New_York:20251202T091500
DTSTAMP:20260422T131822
CREATED:20251201T202105Z
LAST-MODIFIED:20251201T202114Z
UID:10015203-1764663300-1764666900@www.nassaucountycouncilonaging.org
SUMMARY:Standing Core
DESCRIPTION:8:15 am – 9:15 am\nCatherine Paradise \nBook Now\n 
URL:https://www.nassaucountycouncilonaging.org/calendar/standing-core-15-11-15-15-9/
LOCATION:Janice Ancrum Senior Life Center\, 1901 Island Walk Way\, Fernandina Beach\, FL\, 32034
CATEGORIES:Wellness, Health & Fitness
ATTACH;FMTTYPE=image/png:https://www.nassaucountycouncilonaging.org/wp-content/uploads/2021/12/excercise.png
END:VEVENT
BEGIN:VEVENT
DTSTART;TZID=America/New_York:20251202T083000
DTEND;TZID=America/New_York:20251202T093000
DTSTAMP:20260422T131822
CREATED:20251201T202215Z
LAST-MODIFIED:20251201T202221Z
UID:10015216-1764664200-1764667800@www.nassaucountycouncilonaging.org
SUMMARY:Resistance Training Advanced
DESCRIPTION:8:30 – 9:30 am\nDebbi Senger \nBook Now\n  \n 
URL:https://www.nassaucountycouncilonaging.org/calendar/resistance-training-32-29-13-25-15-9/
LOCATION:Janice Ancrum Senior Life Center\, 1901 Island Walk Way\, Fernandina Beach\, FL\, 32034
CATEGORIES:Wellness, Health & Fitness
ATTACH;FMTTYPE=image/png:https://www.nassaucountycouncilonaging.org/wp-content/uploads/2021/12/excercise.png
END:VEVENT
BEGIN:VEVENT
DTSTART;TZID=America/New_York:20251202T093000
DTEND;TZID=America/New_York:20251202T103000
DTSTAMP:20260422T131822
CREATED:20251201T202736Z
LAST-MODIFIED:20251201T202743Z
UID:10015230-1764667800-1764671400@www.nassaucountycouncilonaging.org
SUMMARY:Floor Yoga Stretch
DESCRIPTION:Mat Required\n9:30 am – 10:30 am\nCatherine Paradise \nBook Now
URL:https://www.nassaucountycouncilonaging.org/calendar/floor-yoga-stretch-18-12-29-9/
LOCATION:Janice Ancrum Senior Life Center\, 1901 Island Walk Way\, Fernandina Beach\, FL\, 32034
CATEGORIES:Wellness, Health & Fitness
ATTACH;FMTTYPE=image/png:https://www.nassaucountycouncilonaging.org/wp-content/uploads/2021/12/yoga.png
END:VEVENT
BEGIN:VEVENT
DTSTART;TZID=America/New_York:20251202T100000
DTEND;TZID=America/New_York:20251202T110000
DTSTAMP:20260422T131822
CREATED:20251201T203707Z
LAST-MODIFIED:20251201T203710Z
UID:10015268-1764669600-1764673200@www.nassaucountycouncilonaging.org
SUMMARY:Stability Exercises
DESCRIPTION:10:00 am – 11:00 am\nMary Bleck \nBook Now\n  \n 
URL:https://www.nassaucountycouncilonaging.org/calendar/stability-exercises-5-8-8-35-30-12-47/
LOCATION:Janice Ancrum Senior Life Center\, 1901 Island Walk Way\, Fernandina Beach\, FL\, 32034
CATEGORIES:Wellness, Health & Fitness
ATTACH;FMTTYPE=image/png:https://www.nassaucountycouncilonaging.org/wp-content/uploads/2021/12/excercise.png
END:VEVENT
BEGIN:VEVENT
DTSTART;TZID=America/New_York:20251202T104500
DTEND;TZID=America/New_York:20251202T234500
DTSTAMP:20260422T131822
CREATED:20251201T203818Z
LAST-MODIFIED:20251201T203821Z
UID:10012139-1764672300-1764719100@www.nassaucountycouncilonaging.org
SUMMARY:Standing Pilates
DESCRIPTION:Mat Required\n10:45 am – 11:45 am\nMerle Sauer \nBook Now\n 
URL:https://www.nassaucountycouncilonaging.org/calendar/standing-pilates-24-15-6-4/
LOCATION:Janice Ancrum Senior Life Center\, 1901 Island Walk Way\, Fernandina Beach\, FL\, 32034
CATEGORIES:Wellness, Health & Fitness
ATTACH;FMTTYPE=image/png:https://www.nassaucountycouncilonaging.org/wp-content/uploads/2023/01/pelvic-floor-and-core.png
END:VEVENT
BEGIN:VEVENT
DTSTART;TZID=America/New_York:20251202T120000
DTEND;TZID=America/New_York:20251202T130000
DTSTAMP:20260422T131822
CREATED:20251201T204031Z
LAST-MODIFIED:20251201T204033Z
UID:10015307-1764676800-1764680400@www.nassaucountycouncilonaging.org
SUMMARY:Chair Aerobics
DESCRIPTION:12:00 pm – 1:00 pm\nMerle Sauer \nBook Now
URL:https://www.nassaucountycouncilonaging.org/calendar/chair-aerobics-5-12-15-9/
LOCATION:Janice Ancrum Senior Life Center\, 1901 Island Walk Way\, Fernandina Beach\, FL\, 32034
CATEGORIES:Wellness, Health & Fitness
ATTACH;FMTTYPE=image/png:https://www.nassaucountycouncilonaging.org/wp-content/uploads/2021/12/excercise.png
END:VEVENT
BEGIN:VEVENT
DTSTART;TZID=America/New_York:20251202T130000
DTEND;TZID=America/New_York:20251202T140000
DTSTAMP:20260422T131822
CREATED:20251201T204631Z
LAST-MODIFIED:20251201T204634Z
UID:10015375-1764680400-1764684000@www.nassaucountycouncilonaging.org
SUMMARY:Zumba Gold
DESCRIPTION:1:00 pm – 2:00 pm\nStacey “Sparkle” Vinson \nBook Now
URL:https://www.nassaucountycouncilonaging.org/calendar/zumba-gold-8-4-11-14-12-12-30-13-40-9/
LOCATION:Janice Ancrum Senior Life Center\, 1901 Island Walk Way\, Fernandina Beach\, FL\, 32034
CATEGORIES:Music & Dancing,Wellness, Health & Fitness
ATTACH;FMTTYPE=image/png:https://www.nassaucountycouncilonaging.org/wp-content/uploads/2023/01/zumba-gold-orange.png
END:VEVENT
END:VCALENDAR