BEGIN:VCALENDAR
VERSION:2.0
PRODID:-//Nassau County Council on Aging - ECPv6.15.20//NONSGML v1.0//EN
CALSCALE:GREGORIAN
METHOD:PUBLISH
X-WR-CALNAME:Nassau County Council on Aging
X-ORIGINAL-URL:https://www.nassaucountycouncilonaging.org
X-WR-CALDESC:Events for Nassau County Council on Aging
REFRESH-INTERVAL;VALUE=DURATION:PT1H
X-Robots-Tag:noindex
X-PUBLISHED-TTL:PT1H
BEGIN:VTIMEZONE
TZID:America/New_York
BEGIN:DAYLIGHT
TZOFFSETFROM:-0500
TZOFFSETTO:-0400
TZNAME:EDT
DTSTART:20240310T070000
END:DAYLIGHT
BEGIN:STANDARD
TZOFFSETFROM:-0400
TZOFFSETTO:-0500
TZNAME:EST
DTSTART:20241103T060000
END:STANDARD
BEGIN:DAYLIGHT
TZOFFSETFROM:-0500
TZOFFSETTO:-0400
TZNAME:EDT
DTSTART:20250309T070000
END:DAYLIGHT
BEGIN:STANDARD
TZOFFSETFROM:-0400
TZOFFSETTO:-0500
TZNAME:EST
DTSTART:20251102T060000
END:STANDARD
BEGIN:DAYLIGHT
TZOFFSETFROM:-0500
TZOFFSETTO:-0400
TZNAME:EDT
DTSTART:20260308T070000
END:DAYLIGHT
BEGIN:STANDARD
TZOFFSETFROM:-0400
TZOFFSETTO:-0500
TZNAME:EST
DTSTART:20261101T060000
END:STANDARD
END:VTIMEZONE
BEGIN:VEVENT
DTSTART;TZID=America/New_York:20251124T083000
DTEND;TZID=America/New_York:20251124T093000
DTSTAMP:20260422T095134
CREATED:20251121T220906Z
LAST-MODIFIED:20251121T220910Z
UID:10013775-1763973000-1763976600@www.nassaucountycouncilonaging.org
SUMMARY:Pelvic Floor & Core
DESCRIPTION:8:30 – 9:30 am\nJanice Clarkson \nMat Required \nBook Now
URL:https://www.nassaucountycouncilonaging.org/calendar/pelvic-floor-core-2-5-14-14-12-9-14-14-13-11-15-15-8/
LOCATION:Janice Ancrum Senior Life Center\, 1901 Island Walk Way\, Fernandina Beach\, FL\, 32034
CATEGORIES:Wellness, Health & Fitness
ATTACH;FMTTYPE=image/png:https://www.nassaucountycouncilonaging.org/wp-content/uploads/2021/12/excercise.png
END:VEVENT
BEGIN:VEVENT
DTSTART;TZID=America/New_York:20251124T090000
DTEND;TZID=America/New_York:20251124T094500
DTSTAMP:20260422T095134
CREATED:20251121T221024Z
LAST-MODIFIED:20251121T221027Z
UID:10013788-1763974800-1763977500@www.nassaucountycouncilonaging.org
SUMMARY:Chair Yoga with Tina
DESCRIPTION:9:00 am – 9:45 am\nTina LaVacca \nBook Now
URL:https://www.nassaucountycouncilonaging.org/calendar/chair-yoga-with-tina-12-8-14-15-13-11-15-14-9/
LOCATION:Janice Ancrum Senior Life Center\, 1901 Island Walk Way\, Fernandina Beach\, FL\, 32034
CATEGORIES:Wellness, Health & Fitness
ATTACH;FMTTYPE=image/png:https://www.nassaucountycouncilonaging.org/wp-content/uploads/2021/12/yoga.png
END:VEVENT
BEGIN:VEVENT
DTSTART;TZID=America/New_York:20251124T090000
DTEND;TZID=America/New_York:20251124T100000
DTSTAMP:20260422T095134
CREATED:20251121T221410Z
LAST-MODIFIED:20251121T221414Z
UID:10014550-1763974800-1763978400@www.nassaucountycouncilonaging.org
SUMMARY:Exercise with Tissa - FREE
DESCRIPTION:9:00 am – 10:00 am\nTissa Harold Lewis \nBook Now
URL:https://www.nassaucountycouncilonaging.org/calendar/just-friends-exercise-with-tissa-free-5-4-6/
LOCATION:Janice Ancrum Senior Life Center\, 1901 Island Walk Way\, Fernandina Beach\, FL\, 32034
CATEGORIES:Wellness, Health & Fitness
ATTACH;FMTTYPE=image/png:https://www.nassaucountycouncilonaging.org/wp-content/uploads/2021/12/excercise.png
END:VEVENT
BEGIN:VEVENT
DTSTART;TZID=America/New_York:20251124T100000
DTEND;TZID=America/New_York:20251124T110000
DTSTAMP:20260422T095134
CREATED:20251121T221627Z
LAST-MODIFIED:20251121T221629Z
UID:10013801-1763978400-1763982000@www.nassaucountycouncilonaging.org
SUMMARY:Enerchi
DESCRIPTION:10:00 am – 11:00 am\nMary Bleck \nBook Now
URL:https://www.nassaucountycouncilonaging.org/calendar/enerchi-7-11-14-15-12-12-15-14-9/
LOCATION:Janice Ancrum Senior Life Center\, 1901 Island Walk Way\, Fernandina Beach\, FL\, 32034
CATEGORIES:Wellness, Health & Fitness
ATTACH;FMTTYPE=image/png:https://www.nassaucountycouncilonaging.org/wp-content/uploads/2021/12/excercise.png
END:VEVENT
BEGIN:VEVENT
DTSTART;TZID=America/New_York:20251124T113000
DTEND;TZID=America/New_York:20251124T123000
DTSTAMP:20260422T095134
CREATED:20251121T222327Z
LAST-MODIFIED:20251121T222330Z
UID:10013862-1763983800-1763987400@www.nassaucountycouncilonaging.org
SUMMARY:Standing Yoga
DESCRIPTION:11:30 am – 12:30 pm\nMary Bleck \nBook Now
URL:https://www.nassaucountycouncilonaging.org/calendar/standing-yoga-3-5-15-12-12-8-14-15-12-12-15-13-9/
LOCATION:Janice Ancrum Senior Life Center\, 1901 Island Walk Way\, Fernandina Beach\, FL\, 32034
CATEGORIES:Wellness, Health & Fitness
ATTACH;FMTTYPE=image/png:https://www.nassaucountycouncilonaging.org/wp-content/uploads/2021/12/excercise.png
END:VEVENT
BEGIN:VEVENT
DTSTART;TZID=America/New_York:20251124T151500
DTEND;TZID=America/New_York:20251124T160000
DTSTAMP:20260422T095134
CREATED:20251121T223336Z
LAST-MODIFIED:20251121T223338Z
UID:10015187-1763997300-1764000000@www.nassaucountycouncilonaging.org
SUMMARY:Tai Chi: 13 Elements
DESCRIPTION:3:15 pm – 4:00 pm\nTom Gagne \nBook Now
URL:https://www.nassaucountycouncilonaging.org/calendar/tai-chi-13-elements-5-7-9/
LOCATION:Janice Ancrum Senior Life Center\, 1901 Island Walk Way\, Fernandina Beach\, FL\, 32034
CATEGORIES:Wellness, Health & Fitness
ATTACH;FMTTYPE=image/png:https://www.nassaucountycouncilonaging.org/wp-content/uploads/2023/06/YinYang2Sized.png
END:VEVENT
BEGIN:VEVENT
DTSTART;TZID=America/New_York:20251124T160000
DTEND;TZID=America/New_York:20251124T170000
DTSTAMP:20260422T095134
CREATED:20251121T223457Z
LAST-MODIFIED:20251121T223501Z
UID:10015197-1764000000-1764003600@www.nassaucountycouncilonaging.org
SUMMARY:Tai Chi: 24 Postures
DESCRIPTION:4:00 pm – 5:00 pm\nTom Gagne \nBook Now
URL:https://www.nassaucountycouncilonaging.org/calendar/tai-chi-24-postures-5-7-9/
LOCATION:Janice Ancrum Senior Life Center\, 1901 Island Walk Way\, Fernandina Beach\, FL\, 32034
CATEGORIES:Wellness, Health & Fitness
ATTACH;FMTTYPE=image/png:https://www.nassaucountycouncilonaging.org/wp-content/uploads/2022/09/tai-chi.png
END:VEVENT
END:VCALENDAR