BEGIN:VCALENDAR
VERSION:2.0
PRODID:-//Nassau County Council on Aging - ECPv6.15.20//NONSGML v1.0//EN
CALSCALE:GREGORIAN
METHOD:PUBLISH
X-WR-CALNAME:Nassau County Council on Aging
X-ORIGINAL-URL:https://www.nassaucountycouncilonaging.org
X-WR-CALDESC:Events for Nassau County Council on Aging
REFRESH-INTERVAL;VALUE=DURATION:PT1H
X-Robots-Tag:noindex
X-PUBLISHED-TTL:PT1H
BEGIN:VTIMEZONE
TZID:America/New_York
BEGIN:DAYLIGHT
TZOFFSETFROM:-0500
TZOFFSETTO:-0400
TZNAME:EDT
DTSTART:20240310T070000
END:DAYLIGHT
BEGIN:STANDARD
TZOFFSETFROM:-0400
TZOFFSETTO:-0500
TZNAME:EST
DTSTART:20241103T060000
END:STANDARD
BEGIN:DAYLIGHT
TZOFFSETFROM:-0500
TZOFFSETTO:-0400
TZNAME:EDT
DTSTART:20250309T070000
END:DAYLIGHT
BEGIN:STANDARD
TZOFFSETFROM:-0400
TZOFFSETTO:-0500
TZNAME:EST
DTSTART:20251102T060000
END:STANDARD
BEGIN:DAYLIGHT
TZOFFSETFROM:-0500
TZOFFSETTO:-0400
TZNAME:EDT
DTSTART:20260308T070000
END:DAYLIGHT
BEGIN:STANDARD
TZOFFSETFROM:-0400
TZOFFSETTO:-0500
TZNAME:EST
DTSTART:20261101T060000
END:STANDARD
END:VTIMEZONE
BEGIN:VEVENT
DTSTART;TZID=America/New_York:20251113T081500
DTEND;TZID=America/New_York:20251113T091500
DTSTAMP:20260422T095919
CREATED:20251108T192911Z
LAST-MODIFIED:20251108T192916Z
UID:10014338-1763021700-1763025300@www.nassaucountycouncilonaging.org
SUMMARY:Sit & Be Fit!
DESCRIPTION:8:15 – 9:15 am\nCatherine Paradise \nBook Now
URL:https://www.nassaucountycouncilonaging.org/calendar/mat-core-class-all-levels-4-7-12-13-29-6/
LOCATION:Janice Ancrum Senior Life Center\, 1901 Island Walk Way\, Fernandina Beach\, FL\, 32034
CATEGORIES:Wellness, Health & Fitness
ATTACH;FMTTYPE=image/png:https://www.nassaucountycouncilonaging.org/wp-content/uploads/2021/12/excercise.png
END:VEVENT
BEGIN:VEVENT
DTSTART;TZID=America/New_York:20251113T083000
DTEND;TZID=America/New_York:20251113T093000
DTSTAMP:20260422T095919
CREATED:20251108T193009Z
LAST-MODIFIED:20251108T193014Z
UID:10014351-1763022600-1763026200@www.nassaucountycouncilonaging.org
SUMMARY:Mat & Core Class - Advanced
DESCRIPTION:All Levels\nMat Required \n8:30 – 9:30 am\nDebi Senger \nBook Now
URL:https://www.nassaucountycouncilonaging.org/calendar/mat-core-class-34-29-12-13-15-15-7/
LOCATION:Janice Ancrum Senior Life Center\, 1901 Island Walk Way\, Fernandina Beach\, FL\, 32034
CATEGORIES:Wellness, Health & Fitness
ATTACH;FMTTYPE=image/png:https://www.nassaucountycouncilonaging.org/wp-content/uploads/2021/12/excercise.png
END:VEVENT
BEGIN:VEVENT
DTSTART;TZID=America/New_York:20251113T093000
DTEND;TZID=America/New_York:20251113T103000
DTSTAMP:20260422T095919
CREATED:20251108T193102Z
LAST-MODIFIED:20251108T193104Z
UID:10014364-1763026200-1763029800@www.nassaucountycouncilonaging.org
SUMMARY:Qigong Healing - Advanced
DESCRIPTION:The Art of Inhaling Life\n9:30 am – 10:30 am\nJohn Cipriani \nBook Now\n 
URL:https://www.nassaucountycouncilonaging.org/calendar/qigong-healing-12-26-14-13-13-29-8/
LOCATION:Janice Ancrum Senior Life Center\, 1901 Island Walk Way\, Fernandina Beach\, FL\, 32034
CATEGORIES:Wellness, Health & Fitness
ATTACH;FMTTYPE=image/png:https://www.nassaucountycouncilonaging.org/wp-content/uploads/2023/06/LungsSized.png
END:VEVENT
BEGIN:VEVENT
DTSTART;TZID=America/New_York:20251113T130000
DTEND;TZID=America/New_York:20251113T140000
DTSTAMP:20260422T095919
CREATED:20251108T194837Z
LAST-MODIFIED:20251108T194842Z
UID:10014455-1763038800-1763042400@www.nassaucountycouncilonaging.org
SUMMARY:Tapping Meditation: Tapping Cafe
DESCRIPTION:1:00 pm – 2:00 pm\nJean Kerry\, PhD\nAmelia Island Psychology \nBook Now
URL:https://www.nassaucountycouncilonaging.org/calendar/tapping-meditation-tapping-cafe-5-15-12-40-13-14-22-7/
LOCATION:Janice Ancrum Senior Life Center\, 1901 Island Walk Way\, Fernandina Beach\, FL\, 32034
CATEGORIES:Wellness, Health & Fitness
ATTACH;FMTTYPE=image/png:https://www.nassaucountycouncilonaging.org/wp-content/uploads/2021/12/yoga.png
END:VEVENT
END:VCALENDAR