BEGIN:VCALENDAR
VERSION:2.0
PRODID:-//Nassau County Council on Aging - ECPv6.15.20//NONSGML v1.0//EN
CALSCALE:GREGORIAN
METHOD:PUBLISH
X-WR-CALNAME:Nassau County Council on Aging
X-ORIGINAL-URL:https://www.nassaucountycouncilonaging.org
X-WR-CALDESC:Events for Nassau County Council on Aging
REFRESH-INTERVAL;VALUE=DURATION:PT1H
X-Robots-Tag:noindex
X-PUBLISHED-TTL:PT1H
BEGIN:VTIMEZONE
TZID:America/New_York
BEGIN:DAYLIGHT
TZOFFSETFROM:-0500
TZOFFSETTO:-0400
TZNAME:EDT
DTSTART:20220313T070000
END:DAYLIGHT
BEGIN:STANDARD
TZOFFSETFROM:-0400
TZOFFSETTO:-0500
TZNAME:EST
DTSTART:20221106T060000
END:STANDARD
BEGIN:DAYLIGHT
TZOFFSETFROM:-0500
TZOFFSETTO:-0400
TZNAME:EDT
DTSTART:20230312T070000
END:DAYLIGHT
BEGIN:STANDARD
TZOFFSETFROM:-0400
TZOFFSETTO:-0500
TZNAME:EST
DTSTART:20231105T060000
END:STANDARD
BEGIN:DAYLIGHT
TZOFFSETFROM:-0500
TZOFFSETTO:-0400
TZNAME:EDT
DTSTART:20240310T070000
END:DAYLIGHT
BEGIN:STANDARD
TZOFFSETFROM:-0400
TZOFFSETTO:-0500
TZNAME:EST
DTSTART:20241103T060000
END:STANDARD
BEGIN:DAYLIGHT
TZOFFSETFROM:-0500
TZOFFSETTO:-0400
TZNAME:EDT
DTSTART:20250309T070000
END:DAYLIGHT
BEGIN:STANDARD
TZOFFSETFROM:-0400
TZOFFSETTO:-0500
TZNAME:EST
DTSTART:20251102T060000
END:STANDARD
BEGIN:DAYLIGHT
TZOFFSETFROM:-0500
TZOFFSETTO:-0400
TZNAME:EDT
DTSTART:20260308T070000
END:DAYLIGHT
BEGIN:STANDARD
TZOFFSETFROM:-0400
TZOFFSETTO:-0500
TZNAME:EST
DTSTART:20261101T060000
END:STANDARD
END:VTIMEZONE
BEGIN:VEVENT
DTSTART;TZID=America/New_York:20230426T133000
DTEND;TZID=America/New_York:20230426T150000
DTSTAMP:20260425T124153
CREATED:20230321T215042Z
LAST-MODIFIED:20230424T200556Z
UID:10004233-1682515800-1682521200@www.nassaucountycouncilonaging.org
SUMMARY:Photography
DESCRIPTION:Yunnan\, China Photography Presentation\n1:30 – 3 pm\nAlwynne Lamp \nBook Now
URL:https://www.nassaucountycouncilonaging.org/calendar/photography/
LOCATION:Janice Ancrum Senior Life Center\, 1901 Island Walk Way\, Fernandina Beach\, FL\, 32034
CATEGORIES:Photography
ATTACH;FMTTYPE=image/png:https://www.nassaucountycouncilonaging.org/wp-content/uploads/2023/01/photography_001.png
END:VEVENT
BEGIN:VEVENT
DTSTART;TZID=America/New_York:20230726T133000
DTEND;TZID=America/New_York:20230726T150000
DTSTAMP:20260425T124153
CREATED:20230619T223850Z
LAST-MODIFIED:20230722T185706Z
UID:10005467-1690378200-1690383600@www.nassaucountycouncilonaging.org
SUMMARY:History\, Culture and Travel
DESCRIPTION:Yunnan China Photography Presentation \n1:30 – 3 pm\nAlwynne Lamp \nBook Now
URL:https://www.nassaucountycouncilonaging.org/calendar/history-culture-and-travel/
LOCATION:Janice Ancrum Senior Life Center\, 1901 Island Walk Way\, Fernandina Beach\, FL\, 32034
CATEGORIES:Culture and Travel,Photography
ATTACH;FMTTYPE=image/png:https://www.nassaucountycouncilonaging.org/wp-content/uploads/2022/09/world.png
END:VEVENT
BEGIN:VEVENT
DTSTART;TZID=America/New_York:20231012T130000
DTEND;TZID=America/New_York:20231012T140000
DTSTAMP:20260425T124153
CREATED:20230923T211918Z
LAST-MODIFIED:20231010T212805Z
UID:10006730-1697115600-1697119200@www.nassaucountycouncilonaging.org
SUMMARY:Photography - Florida
DESCRIPTION:For the Birds\n1 – 2 pm\nLen Messineo\, Nature & Wildlife Photographer \nBook Now
URL:https://www.nassaucountycouncilonaging.org/calendar/photography-florida/
LOCATION:Janice Ancrum Senior Life Center\, 1901 Island Walk Way\, Fernandina Beach\, FL\, 32034
CATEGORIES:Photography
ATTACH;FMTTYPE=image/png:https://www.nassaucountycouncilonaging.org/wp-content/uploads/2023/01/photography_001.png
END:VEVENT
BEGIN:VEVENT
DTSTART;TZID=America/New_York:20231109T130000
DTEND;TZID=America/New_York:20231109T140000
DTSTAMP:20260425T124153
CREATED:20230923T212116Z
LAST-MODIFIED:20231106T191902Z
UID:10006731-1699534800-1699538400@www.nassaucountycouncilonaging.org
SUMMARY:Photography - Florida
DESCRIPTION:Exotic Everglades in Progress\n1 – 2 pm\nLen Messineo\, Nature & Wildlife Photographer \nBook Now
URL:https://www.nassaucountycouncilonaging.org/calendar/photography-florida-2/
LOCATION:Janice Ancrum Senior Life Center\, 1901 Island Walk Way\, Fernandina Beach\, FL\, 32034
CATEGORIES:Photography
ATTACH;FMTTYPE=image/png:https://www.nassaucountycouncilonaging.org/wp-content/uploads/2023/01/photography_001.png
END:VEVENT
BEGIN:VEVENT
DTSTART;TZID=America/New_York:20231214T130000
DTEND;TZID=America/New_York:20231214T140000
DTSTAMP:20260425T124153
CREATED:20230923T212251Z
LAST-MODIFIED:20231209T193017Z
UID:10006732-1702558800-1702562400@www.nassaucountycouncilonaging.org
SUMMARY:Photography
DESCRIPTION:Creating Clarity Out of Chaos\n1 – 2 pm\nLen Messineo\, Nature & Wildlife Photographer \nBook Now
URL:https://www.nassaucountycouncilonaging.org/calendar/photography-3/
LOCATION:Janice Ancrum Senior Life Center\, 1901 Island Walk Way\, Fernandina Beach\, FL\, 32034
CATEGORIES:Photography
ATTACH;FMTTYPE=image/png:https://www.nassaucountycouncilonaging.org/wp-content/uploads/2023/01/photography_001.png
END:VEVENT
BEGIN:VEVENT
DTSTART;TZID=America/New_York:20240109T153000
DTEND;TZID=America/New_York:20240109T163000
DTSTAMP:20260425T124153
CREATED:20231226T215536Z
LAST-MODIFIED:20240108T182939Z
UID:10007427-1704814200-1704817800@www.nassaucountycouncilonaging.org
SUMMARY:Photography Series
DESCRIPTION:Camera: What are the Buttons and Knobs For?\n3:30 – 4:30 pm\nBuddy Price \nBook Now
URL:https://www.nassaucountycouncilonaging.org/calendar/photography-series/
LOCATION:Janice Ancrum Senior Life Center\, 1901 Island Walk Way\, Fernandina Beach\, FL\, 32034
CATEGORIES:Photography
ATTACH;FMTTYPE=image/png:https://www.nassaucountycouncilonaging.org/wp-content/uploads/2023/01/photography_001.png
END:VEVENT
BEGIN:VEVENT
DTSTART;TZID=America/New_York:20240111T153000
DTEND;TZID=America/New_York:20240111T163000
DTSTAMP:20260425T124153
CREATED:20231226T215857Z
LAST-MODIFIED:20240108T190329Z
UID:10007428-1704987000-1704990600@www.nassaucountycouncilonaging.org
SUMMARY:Photography Series
DESCRIPTION:The Lens – How Do I Know Which One to Use?\n3:30 – 4:30 pm\nBuddy Price \nBook  Now
URL:https://www.nassaucountycouncilonaging.org/calendar/photography-series-2/
LOCATION:Janice Ancrum Senior Life Center\, 1901 Island Walk Way\, Fernandina Beach\, FL\, 32034
CATEGORIES:Photography
ATTACH;FMTTYPE=image/png:https://www.nassaucountycouncilonaging.org/wp-content/uploads/2023/01/photography_001.png
END:VEVENT
BEGIN:VEVENT
DTSTART;TZID=America/New_York:20240116T153000
DTEND;TZID=America/New_York:20240116T163000
DTSTAMP:20260425T124153
CREATED:20231226T220037Z
LAST-MODIFIED:20231226T220037Z
UID:10007429-1705419000-1705422600@www.nassaucountycouncilonaging.org
SUMMARY:Photography Series
DESCRIPTION:Other Gear to Make Photography Easier\n3:30 – 4:30 pm\nBuddy Price
URL:https://www.nassaucountycouncilonaging.org/calendar/photography-series-3/
LOCATION:Janice Ancrum Senior Life Center\, 1901 Island Walk Way\, Fernandina Beach\, FL\, 32034
CATEGORIES:Photography
ATTACH;FMTTYPE=image/png:https://www.nassaucountycouncilonaging.org/wp-content/uploads/2023/01/photography_001.png
END:VEVENT
BEGIN:VEVENT
DTSTART;TZID=America/New_York:20240123T153000
DTEND;TZID=America/New_York:20240123T163000
DTSTAMP:20260425T124153
CREATED:20231226T220424Z
LAST-MODIFIED:20240123T164042Z
UID:10007431-1706023800-1706027400@www.nassaucountycouncilonaging.org
SUMMARY:Photography Series
DESCRIPTION:Essentials of Exposure 1\n3:30 – 4:30 pm\nBuddy Price \nBook Now
URL:https://www.nassaucountycouncilonaging.org/calendar/photography-series-5/
LOCATION:Janice Ancrum Senior Life Center\, 1901 Island Walk Way\, Fernandina Beach\, FL\, 32034
CATEGORIES:Photography
ATTACH;FMTTYPE=image/png:https://www.nassaucountycouncilonaging.org/wp-content/uploads/2023/01/photography_001.png
END:VEVENT
BEGIN:VEVENT
DTSTART;TZID=America/New_York:20240125T153000
DTEND;TZID=America/New_York:20240125T163000
DTSTAMP:20260425T124153
CREATED:20231226T220621Z
LAST-MODIFIED:20240123T181859Z
UID:10007432-1706196600-1706200200@www.nassaucountycouncilonaging.org
SUMMARY:Photography Series
DESCRIPTION:Essentials of Exposure 2\n3:30 – 4:30 pm\nBuddy Price \nBook Now
URL:https://www.nassaucountycouncilonaging.org/calendar/photography-series-6/
LOCATION:Janice Ancrum Senior Life Center\, 1901 Island Walk Way\, Fernandina Beach\, FL\, 32034
CATEGORIES:Photography
ATTACH;FMTTYPE=image/png:https://www.nassaucountycouncilonaging.org/wp-content/uploads/2023/01/photography_001.png
END:VEVENT
BEGIN:VEVENT
DTSTART;TZID=America/New_York:20240130T153000
DTEND;TZID=America/New_York:20240130T163000
DTSTAMP:20260425T124153
CREATED:20231226T220759Z
LAST-MODIFIED:20240127T223601Z
UID:10007433-1706628600-1706632200@www.nassaucountycouncilonaging.org
SUMMARY:Photography Series
DESCRIPTION:Exposure Modes – Going Beyond Auto\n3:30 – 4:30 pm\nBuddy Price \nBook Now
URL:https://www.nassaucountycouncilonaging.org/calendar/photography-series-7/
LOCATION:Janice Ancrum Senior Life Center\, 1901 Island Walk Way\, Fernandina Beach\, FL\, 32034
CATEGORIES:Photography
ATTACH;FMTTYPE=image/png:https://www.nassaucountycouncilonaging.org/wp-content/uploads/2023/01/photography_001.png
END:VEVENT
BEGIN:VEVENT
DTSTART;TZID=America/New_York:20240201T153000
DTEND;TZID=America/New_York:20240201T163000
DTSTAMP:20260425T124153
CREATED:20231226T220946Z
LAST-MODIFIED:20240127T230523Z
UID:10007434-1706801400-1706805000@www.nassaucountycouncilonaging.org
SUMMARY:Photography Series
DESCRIPTION:Elements of Composition\n3:30 – 4:30 pm\nBuddy Price \nBook Now
URL:https://www.nassaucountycouncilonaging.org/calendar/photography-series-8/
LOCATION:Janice Ancrum Senior Life Center\, 1901 Island Walk Way\, Fernandina Beach\, FL\, 32034
CATEGORIES:Photography
ATTACH;FMTTYPE=image/png:https://www.nassaucountycouncilonaging.org/wp-content/uploads/2023/01/photography_001.png
END:VEVENT
BEGIN:VEVENT
DTSTART;TZID=America/New_York:20240206T153000
DTEND;TZID=America/New_York:20240206T163000
DTSTAMP:20260425T124153
CREATED:20231226T221223Z
LAST-MODIFIED:20240204T224305Z
UID:10007435-1707233400-1707237000@www.nassaucountycouncilonaging.org
SUMMARY:Photography Series
DESCRIPTION:Exploring the Light – It’s all about the light\n3:30 – 4:30 pm\nBuddy Price \nBook Now
URL:https://www.nassaucountycouncilonaging.org/calendar/photography-series-9/
LOCATION:Janice Ancrum Senior Life Center\, 1901 Island Walk Way\, Fernandina Beach\, FL\, 32034
CATEGORIES:Photography
ATTACH;FMTTYPE=image/png:https://www.nassaucountycouncilonaging.org/wp-content/uploads/2023/01/photography_001.png
END:VEVENT
BEGIN:VEVENT
DTSTART;TZID=America/New_York:20240208T153000
DTEND;TZID=America/New_York:20240208T163000
DTSTAMP:20260425T124153
CREATED:20231226T221405Z
LAST-MODIFIED:20240205T173954Z
UID:10007436-1707406200-1707409800@www.nassaucountycouncilonaging.org
SUMMARY:Photography Series
DESCRIPTION:You Took the Picture – Now What?\n3:30 – 4:30 pm\nBuddy Price \nBook Now
URL:https://www.nassaucountycouncilonaging.org/calendar/photography-series-10/
LOCATION:Janice Ancrum Senior Life Center\, 1901 Island Walk Way\, Fernandina Beach\, FL\, 32034
CATEGORIES:Photography
ATTACH;FMTTYPE=image/png:https://www.nassaucountycouncilonaging.org/wp-content/uploads/2023/01/photography_001.png
END:VEVENT
BEGIN:VEVENT
DTSTART;TZID=America/New_York:20240305T150000
DTEND;TZID=America/New_York:20240305T163000
DTSTAMP:20260425T124153
CREATED:20231226T223854Z
LAST-MODIFIED:20240304T170606Z
UID:10007446-1709650800-1709656200@www.nassaucountycouncilonaging.org
SUMMARY:Great Decisions
DESCRIPTION:High Sea Treaty\n3:00 – 4:30 pm\nGreg Doyle \nBook Now
URL:https://www.nassaucountycouncilonaging.org/calendar/great-decisions-25/
LOCATION:Janice Ancrum Senior Life Center\, 1901 Island Walk Way\, Fernandina Beach\, FL\, 32034
CATEGORIES:Photography
ATTACH;FMTTYPE=image/png:https://www.nassaucountycouncilonaging.org/wp-content/uploads/2022/09/world.png
END:VEVENT
BEGIN:VEVENT
DTSTART;TZID=America/New_York:20240410T130000
DTEND;TZID=America/New_York:20240410T140000
DTSTAMP:20260425T124153
CREATED:20240330T211920Z
LAST-MODIFIED:20240408T223558Z
UID:10008945-1712754000-1712757600@www.nassaucountycouncilonaging.org
SUMMARY:Photo Journey to Antarctica
DESCRIPTION:1 – 2 pm\nGeorge Housley \nBook Now
URL:https://www.nassaucountycouncilonaging.org/calendar/photo-journey-to-antarctica/
LOCATION:Janice Ancrum Senior Life Center\, 1901 Island Walk Way\, Fernandina Beach\, FL\, 32034
CATEGORIES:Culture and Travel,Photography
ATTACH;FMTTYPE=image/png:https://www.nassaucountycouncilonaging.org/wp-content/uploads/2024/03/PhotoCameraSized.png
END:VEVENT
BEGIN:VEVENT
DTSTART;TZID=America/New_York:20240412T090000
DTEND;TZID=America/New_York:20240412T100000
DTSTAMP:20260425T124153
CREATED:20240330T212157Z
LAST-MODIFIED:20240408T230719Z
UID:10008946-1712912400-1712916000@www.nassaucountycouncilonaging.org
SUMMARY:Photography Presentation
DESCRIPTION:Florida: For the Birds\n9 – 10 am\nVideo from Local Photographer Len Messineo \nBook Now
URL:https://www.nassaucountycouncilonaging.org/calendar/creating-clarity-out-of-chaos/
LOCATION:Janice Ancrum Senior Life Center\, 1901 Island Walk Way\, Fernandina Beach\, FL\, 32034
CATEGORIES:Photography
ATTACH;FMTTYPE=image/png:https://www.nassaucountycouncilonaging.org/wp-content/uploads/2023/01/photography_001.png
END:VEVENT
BEGIN:VEVENT
DTSTART;TZID=America/New_York:20240423T133000
DTEND;TZID=America/New_York:20240423T150000
DTSTAMP:20260425T124153
CREATED:20240422T144831Z
LAST-MODIFIED:20240422T144831Z
UID:10008973-1713879000-1713884400@www.nassaucountycouncilonaging.org
SUMMARY:Photography Presentation
DESCRIPTION:Ladakh\, India\n1:30 pm – 3:00 pm\nAlwynne Lamp \nBook Now
URL:https://www.nassaucountycouncilonaging.org/calendar/photography-presentation-2/
LOCATION:Janice Ancrum Senior Life Center\, 1901 Island Walk Way\, Fernandina Beach\, FL\, 32034
CATEGORIES:Photography
ATTACH;FMTTYPE=image/png:https://www.nassaucountycouncilonaging.org/wp-content/uploads/2024/03/PhotoCameraSized.png
END:VEVENT
BEGIN:VEVENT
DTSTART;TZID=America/New_York:20240517T090000
DTEND;TZID=America/New_York:20240517T100000
DTSTAMP:20260425T124153
CREATED:20240330T212333Z
LAST-MODIFIED:20240513T194014Z
UID:10008947-1715936400-1715940000@www.nassaucountycouncilonaging.org
SUMMARY:Creating Clarity out of Chaos
DESCRIPTION:9 – 10 am\nVideo from Local Photographer Len Messineo \nBook Now
URL:https://www.nassaucountycouncilonaging.org/calendar/florida-for-the-birds/
LOCATION:Janice Ancrum Senior Life Center\, 1901 Island Walk Way\, Fernandina Beach\, FL\, 32034
CATEGORIES:Photography
ATTACH;FMTTYPE=image/png:https://www.nassaucountycouncilonaging.org/wp-content/uploads/2023/01/photography_001.png
END:VEVENT
BEGIN:VEVENT
DTSTART;TZID=America/New_York:20240614T090000
DTEND;TZID=America/New_York:20240614T100000
DTSTAMP:20260425T124153
CREATED:20240330T212530Z
LAST-MODIFIED:20240611T173807Z
UID:10008948-1718355600-1718359200@www.nassaucountycouncilonaging.org
SUMMARY:Exotic Everglades
DESCRIPTION:9 – 10 am\nVideo from Local Photographer Len Messineo \nBook Now
URL:https://www.nassaucountycouncilonaging.org/calendar/exotic-everglades/
LOCATION:Janice Ancrum Senior Life Center\, 1901 Island Walk Way\, Fernandina Beach\, FL\, 32034
CATEGORIES:Photography
ATTACH;FMTTYPE=image/png:https://www.nassaucountycouncilonaging.org/wp-content/uploads/2023/01/photography_001.png
END:VEVENT
BEGIN:VEVENT
DTSTART;TZID=America/New_York:20240903T100000
DTEND;TZID=America/New_York:20240903T110000
DTSTAMP:20260425T124153
CREATED:20240626T192007Z
LAST-MODIFIED:20240902T150830Z
UID:10009978-1725357600-1725361200@www.nassaucountycouncilonaging.org
SUMMARY:Photography
DESCRIPTION:The Camera\n10 – 11 am\nBuddy Price\, Photographer \nBook Now
URL:https://www.nassaucountycouncilonaging.org/calendar/photography-5/
LOCATION:FSCJ Yulee\, 76346 William Burgess Blvd\, Yulee\, FL\, 32097\, United States
CATEGORIES:Photography
ATTACH;FMTTYPE=image/png:https://www.nassaucountycouncilonaging.org/wp-content/uploads/2023/01/photography_001.png
END:VEVENT
BEGIN:VEVENT
DTSTART;TZID=America/New_York:20240910T100000
DTEND;TZID=America/New_York:20240910T110000
DTSTAMP:20260425T124153
CREATED:20240626T192134Z
LAST-MODIFIED:20240908T180636Z
UID:10009979-1725962400-1725966000@www.nassaucountycouncilonaging.org
SUMMARY:Photography
DESCRIPTION:Focusing Like a Pro\n10 – 11 am\nBuddy Price\, Photographer \nBook Now
URL:https://www.nassaucountycouncilonaging.org/calendar/photography-6/
LOCATION:FSCJ Yulee\, 76346 William Burgess Blvd\, Yulee\, FL\, 32097\, United States
CATEGORIES:Photography
ATTACH;FMTTYPE=image/png:https://www.nassaucountycouncilonaging.org/wp-content/uploads/2023/01/photography_001.png
END:VEVENT
BEGIN:VEVENT
DTSTART;TZID=America/New_York:20240924T100000
DTEND;TZID=America/New_York:20240924T110000
DTSTAMP:20260425T124153
CREATED:20240626T192429Z
LAST-MODIFIED:20240922T210457Z
UID:10009981-1727172000-1727175600@www.nassaucountycouncilonaging.org
SUMMARY:Photography
DESCRIPTION:Exposure Modes and How to Use Them\n10 – 11 am\nBuddy Price\, Photographer \nBook Now
URL:https://www.nassaucountycouncilonaging.org/calendar/photography-8/
LOCATION:FSCJ Yulee\, 76346 William Burgess Blvd\, Yulee\, FL\, 32097\, United States
CATEGORIES:Photography
ATTACH;FMTTYPE=image/png:https://www.nassaucountycouncilonaging.org/wp-content/uploads/2023/01/photography_001.png
END:VEVENT
BEGIN:VEVENT
DTSTART;TZID=America/New_York:20241001T100000
DTEND;TZID=America/New_York:20241001T110000
DTSTAMP:20260425T124153
CREATED:20240626T192645Z
LAST-MODIFIED:20240930T182725Z
UID:10009982-1727776800-1727780400@www.nassaucountycouncilonaging.org
SUMMARY:Photography
DESCRIPTION:iPhone Photography\n10 – 11 am\nBuddy Price\, Photographer \nBook Now
URL:https://www.nassaucountycouncilonaging.org/calendar/photography-9/
LOCATION:FSCJ Yulee\, 76346 William Burgess Blvd\, Yulee\, FL\, 32097\, United States
CATEGORIES:Photography
ATTACH;FMTTYPE=image/png:https://www.nassaucountycouncilonaging.org/wp-content/uploads/2023/03/phone-help.png
END:VEVENT
BEGIN:VEVENT
DTSTART;TZID=America/New_York:20241008T100000
DTEND;TZID=America/New_York:20241008T110000
DTSTAMP:20260425T124153
CREATED:20240626T192834Z
LAST-MODIFIED:20241007T215422Z
UID:10009983-1728381600-1728385200@www.nassaucountycouncilonaging.org
SUMMARY:Photography
DESCRIPTION:Apps for Cell Phone Photography\n10 – 11 am\nBuddy Price \nBook Now
URL:https://www.nassaucountycouncilonaging.org/calendar/photography-10/
LOCATION:FSCJ Yulee\, 76346 William Burgess Blvd\, Yulee\, FL\, 32097\, United States
CATEGORIES:Photography
ATTACH;FMTTYPE=image/png:https://www.nassaucountycouncilonaging.org/wp-content/uploads/2023/03/phone-help.png
END:VEVENT
BEGIN:VEVENT
DTSTART;TZID=America/New_York:20241015T100000
DTEND;TZID=America/New_York:20241015T110000
DTSTAMP:20260425T124153
CREATED:20240626T193011Z
LAST-MODIFIED:20241014T205459Z
UID:10009984-1728986400-1728990000@www.nassaucountycouncilonaging.org
SUMMARY:Photography
DESCRIPTION:Composition and Light\n10 – 11 am\nBuddy Price\, Photographer \nBook Now
URL:https://www.nassaucountycouncilonaging.org/calendar/photography-11/
LOCATION:FSCJ Yulee\, 76346 William Burgess Blvd\, Yulee\, FL\, 32097\, United States
CATEGORIES:Photography
ATTACH;FMTTYPE=image/png:https://www.nassaucountycouncilonaging.org/wp-content/uploads/2023/01/photography_001.png
END:VEVENT
BEGIN:VEVENT
DTSTART;TZID=America/New_York:20241017T130000
DTEND;TZID=America/New_York:20241017T140000
DTSTAMP:20260425T124153
CREATED:20241014T220655Z
LAST-MODIFIED:20241014T220655Z
UID:10011354-1729170000-1729173600@www.nassaucountycouncilonaging.org
SUMMARY:Photo Presentation:
DESCRIPTION:Cuba\n1:00 pm – 2:00 pm\nAlwynne Lamp \nBook Now
URL:https://www.nassaucountycouncilonaging.org/calendar/photo-presentation/
LOCATION:Janice Ancrum Senior Life Center\, 1901 Island Walk Way\, Fernandina Beach\, FL\, 32034
CATEGORIES:Photography
ATTACH;FMTTYPE=image/png:https://www.nassaucountycouncilonaging.org/wp-content/uploads/2024/03/PhotoCameraSized.png
END:VEVENT
BEGIN:VEVENT
DTSTART;TZID=America/New_York:20241022T100000
DTEND;TZID=America/New_York:20241022T110000
DTSTAMP:20260425T124153
CREATED:20240626T193143Z
LAST-MODIFIED:20241021T181340Z
UID:10009985-1729591200-1729594800@www.nassaucountycouncilonaging.org
SUMMARY:Photography
DESCRIPTION:A Deeper Dive into Composition\n10 – 11 am\nBuddy Price\, Photographer \nBook Now
URL:https://www.nassaucountycouncilonaging.org/calendar/photography-12/
LOCATION:FSCJ Yulee\, 76346 William Burgess Blvd\, Yulee\, FL\, 32097\, United States
CATEGORIES:Photography
ATTACH;FMTTYPE=image/png:https://www.nassaucountycouncilonaging.org/wp-content/uploads/2023/01/photography_001.png
END:VEVENT
BEGIN:VEVENT
DTSTART;TZID=America/New_York:20250123T130000
DTEND;TZID=America/New_York:20250123T150000
DTSTAMP:20260425T124153
CREATED:20250120T203728Z
LAST-MODIFIED:20250120T203728Z
UID:10012548-1737637200-1737644400@www.nassaucountycouncilonaging.org
SUMMARY:Photo Destination: Indonesia
DESCRIPTION:1:00 pm – 3:00 pm\nAlwynne Lamp \nBook Now
URL:https://www.nassaucountycouncilonaging.org/calendar/photo-destination-indonesia/
LOCATION:Janice Ancrum Senior Life Center\, 1901 Island Walk Way\, Fernandina Beach\, FL\, 32034
CATEGORIES:Culture and Travel,Photography
ATTACH;FMTTYPE=image/png:https://www.nassaucountycouncilonaging.org/wp-content/uploads/2024/03/PhotoCameraSized.png
END:VEVENT
BEGIN:VEVENT
DTSTART;TZID=America/New_York:20250515T090000
DTEND;TZID=America/New_York:20250515T100000
DTSTAMP:20260425T124153
CREATED:20250512T171328Z
LAST-MODIFIED:20250512T171328Z
UID:10013631-1747299600-1747303200@www.nassaucountycouncilonaging.org
SUMMARY:Photo Destination w/Alwynne - FREE
DESCRIPTION:9:00 am – 10:00 am\nAlwynne Lamp \nBook Now
URL:https://www.nassaucountycouncilonaging.org/calendar/photo-destination-w-alwynne-free/
LOCATION:Janice Ancrum Senior Life Center\, 1901 Island Walk Way\, Fernandina Beach\, FL\, 32034
CATEGORIES:Photography
ATTACH;FMTTYPE=image/png:https://www.nassaucountycouncilonaging.org/wp-content/uploads/2024/03/PhotoCameraSized.png
END:VEVENT
END:VCALENDAR