BEGIN:VCALENDAR
VERSION:2.0
PRODID:-//Nassau County Council on Aging - ECPv6.15.20//NONSGML v1.0//EN
CALSCALE:GREGORIAN
METHOD:PUBLISH
X-WR-CALNAME:Nassau County Council on Aging
X-ORIGINAL-URL:https://www.nassaucountycouncilonaging.org
X-WR-CALDESC:Events for Nassau County Council on Aging
REFRESH-INTERVAL;VALUE=DURATION:PT1H
X-Robots-Tag:noindex
X-PUBLISHED-TTL:PT1H
BEGIN:VTIMEZONE
TZID:America/New_York
BEGIN:DAYLIGHT
TZOFFSETFROM:-0500
TZOFFSETTO:-0400
TZNAME:EDT
DTSTART:20220313T070000
END:DAYLIGHT
BEGIN:STANDARD
TZOFFSETFROM:-0400
TZOFFSETTO:-0500
TZNAME:EST
DTSTART:20221106T060000
END:STANDARD
BEGIN:DAYLIGHT
TZOFFSETFROM:-0500
TZOFFSETTO:-0400
TZNAME:EDT
DTSTART:20230312T070000
END:DAYLIGHT
BEGIN:STANDARD
TZOFFSETFROM:-0400
TZOFFSETTO:-0500
TZNAME:EST
DTSTART:20231105T060000
END:STANDARD
BEGIN:DAYLIGHT
TZOFFSETFROM:-0500
TZOFFSETTO:-0400
TZNAME:EDT
DTSTART:20240310T070000
END:DAYLIGHT
BEGIN:STANDARD
TZOFFSETFROM:-0400
TZOFFSETTO:-0500
TZNAME:EST
DTSTART:20241103T060000
END:STANDARD
END:VTIMEZONE
BEGIN:VEVENT
DTSTART;TZID=America/New_York:20230202T143000
DTEND;TZID=America/New_York:20230202T160000
DTSTAMP:20260424T002544
CREATED:20230102T214419Z
LAST-MODIFIED:20230130T160226Z
UID:10003192-1675348200-1675353600@www.nassaucountycouncilonaging.org
SUMMARY:Photography Workshop
DESCRIPTION:2:30 – 4 pm\nJack Casto
URL:https://www.nassaucountycouncilonaging.org/calendar/photography-workshop/2023-02-02/
LOCATION:Janice Ancrum Senior Life Center\, 1901 Island Walk Way\, Fernandina Beach\, FL\, 32034
CATEGORIES:Photography
ATTACH;FMTTYPE=image/png:https://www.nassaucountycouncilonaging.org/wp-content/uploads/2023/01/photography_001.png
END:VEVENT
BEGIN:VEVENT
DTSTART;TZID=America/New_York:20230207T151500
DTEND;TZID=America/New_York:20230207T163000
DTSTAMP:20260424T002544
CREATED:20230102T215449Z
LAST-MODIFIED:20230102T215449Z
UID:10003202-1675782900-1675787400@www.nassaucountycouncilonaging.org
SUMMARY:Photography with Buddy Price
DESCRIPTION:Essentials of Exposure 2 –\nWhy Didn’t The Camera Get It Right?\n3:15 – 4:30 pm\nBuddy Price
URL:https://www.nassaucountycouncilonaging.org/calendar/photography-with-buddy-price-16/
LOCATION:Janice Ancrum Senior Life Center\, 1901 Island Walk Way\, Fernandina Beach\, FL\, 32034
CATEGORIES:Photography
ATTACH;FMTTYPE=image/png:https://www.nassaucountycouncilonaging.org/wp-content/uploads/2023/01/photography.png
END:VEVENT
BEGIN:VEVENT
DTSTART;TZID=America/New_York:20230209T143000
DTEND;TZID=America/New_York:20230209T160000
DTSTAMP:20260424T002544
CREATED:20230102T214419Z
LAST-MODIFIED:20230130T160226Z
UID:10003193-1675953000-1675958400@www.nassaucountycouncilonaging.org
SUMMARY:Photography Workshop
DESCRIPTION:2:30 – 4 pm\nJack Casto
URL:https://www.nassaucountycouncilonaging.org/calendar/photography-workshop/2023-02-09/
LOCATION:Janice Ancrum Senior Life Center\, 1901 Island Walk Way\, Fernandina Beach\, FL\, 32034
CATEGORIES:Photography
ATTACH;FMTTYPE=image/png:https://www.nassaucountycouncilonaging.org/wp-content/uploads/2023/01/photography_001.png
END:VEVENT
BEGIN:VEVENT
DTSTART;TZID=America/New_York:20230214T151500
DTEND;TZID=America/New_York:20230214T163000
DTSTAMP:20260424T002544
CREATED:20230102T215624Z
LAST-MODIFIED:20230102T215624Z
UID:10003203-1676387700-1676392200@www.nassaucountycouncilonaging.org
SUMMARY:Photography with Buddy Price
DESCRIPTION:Exposure Modes – Going beyond Auto\n3:15 – 4:30 pm\nBuddy Price
URL:https://www.nassaucountycouncilonaging.org/calendar/photography-with-buddy-price-17/
LOCATION:Janice Ancrum Senior Life Center\, 1901 Island Walk Way\, Fernandina Beach\, FL\, 32034
CATEGORIES:Photography
ATTACH;FMTTYPE=image/png:https://www.nassaucountycouncilonaging.org/wp-content/uploads/2023/01/photography.png
END:VEVENT
BEGIN:VEVENT
DTSTART;TZID=America/New_York:20230216T143000
DTEND;TZID=America/New_York:20230216T160000
DTSTAMP:20260424T002544
CREATED:20230102T214419Z
LAST-MODIFIED:20230130T160226Z
UID:10003194-1676557800-1676563200@www.nassaucountycouncilonaging.org
SUMMARY:Photography Workshop
DESCRIPTION:2:30 – 4 pm\nJack Casto
URL:https://www.nassaucountycouncilonaging.org/calendar/photography-workshop/2023-02-16/
LOCATION:Janice Ancrum Senior Life Center\, 1901 Island Walk Way\, Fernandina Beach\, FL\, 32034
CATEGORIES:Photography
ATTACH;FMTTYPE=image/png:https://www.nassaucountycouncilonaging.org/wp-content/uploads/2023/01/photography_001.png
END:VEVENT
BEGIN:VEVENT
DTSTART;TZID=America/New_York:20230223T143000
DTEND;TZID=America/New_York:20230223T160000
DTSTAMP:20260424T002544
CREATED:20230102T214419Z
LAST-MODIFIED:20230130T160226Z
UID:10003195-1677162600-1677168000@www.nassaucountycouncilonaging.org
SUMMARY:Photography Workshop
DESCRIPTION:2:30 – 4 pm\nJack Casto
URL:https://www.nassaucountycouncilonaging.org/calendar/photography-workshop/2023-02-23/
LOCATION:Janice Ancrum Senior Life Center\, 1901 Island Walk Way\, Fernandina Beach\, FL\, 32034
CATEGORIES:Photography
ATTACH;FMTTYPE=image/png:https://www.nassaucountycouncilonaging.org/wp-content/uploads/2023/01/photography_001.png
END:VEVENT
BEGIN:VEVENT
DTSTART;TZID=America/New_York:20230228T151500
DTEND;TZID=America/New_York:20230228T163000
DTSTAMP:20260424T002544
CREATED:20230102T215747Z
LAST-MODIFIED:20230226T212226Z
UID:10003204-1677597300-1677601800@www.nassaucountycouncilonaging.org
SUMMARY:Photography with Buddy Price
DESCRIPTION:Elements of Composition –\nMaking a more pleasing image\n3:15 – 4:30 pm\nBuddy Price \nREGISTER HERE
URL:https://www.nassaucountycouncilonaging.org/calendar/16854/
LOCATION:Janice Ancrum Senior Life Center\, 1901 Island Walk Way\, Fernandina Beach\, FL\, 32034
CATEGORIES:Photography
ATTACH;FMTTYPE=image/png:https://www.nassaucountycouncilonaging.org/wp-content/uploads/2023/01/photography_001.png
END:VEVENT
END:VCALENDAR