BEGIN:VCALENDAR
VERSION:2.0
PRODID:-//Nassau County Council on Aging - ECPv6.15.20//NONSGML v1.0//EN
CALSCALE:GREGORIAN
METHOD:PUBLISH
X-ORIGINAL-URL:https://www.nassaucountycouncilonaging.org
X-WR-CALDESC:Events for Nassau County Council on Aging
REFRESH-INTERVAL;VALUE=DURATION:PT1H
X-Robots-Tag:noindex
X-PUBLISHED-TTL:PT1H
BEGIN:VTIMEZONE
TZID:America/New_York
BEGIN:DAYLIGHT
TZOFFSETFROM:-0500
TZOFFSETTO:-0400
TZNAME:EDT
DTSTART:20220313T070000
END:DAYLIGHT
BEGIN:STANDARD
TZOFFSETFROM:-0400
TZOFFSETTO:-0500
TZNAME:EST
DTSTART:20221106T060000
END:STANDARD
BEGIN:DAYLIGHT
TZOFFSETFROM:-0500
TZOFFSETTO:-0400
TZNAME:EDT
DTSTART:20230312T070000
END:DAYLIGHT
BEGIN:STANDARD
TZOFFSETFROM:-0400
TZOFFSETTO:-0500
TZNAME:EST
DTSTART:20231105T060000
END:STANDARD
BEGIN:DAYLIGHT
TZOFFSETFROM:-0500
TZOFFSETTO:-0400
TZNAME:EDT
DTSTART:20240310T070000
END:DAYLIGHT
BEGIN:STANDARD
TZOFFSETFROM:-0400
TZOFFSETTO:-0500
TZNAME:EST
DTSTART:20241103T060000
END:STANDARD
END:VTIMEZONE
BEGIN:VEVENT
DTSTART;TZID=America/New_York:20230809T090000
DTEND;TZID=America/New_York:20230809T100000
DTSTAMP:20260423T123437
CREATED:20230805T190814Z
LAST-MODIFIED:20230805T190814Z
UID:10005943-1691571600-1691575200@www.nassaucountycouncilonaging.org
SUMMARY:Storytelling w/ Chip
DESCRIPTION:9:00 am – 10:00 am\nChip Kirkpatrick
URL:https://www.nassaucountycouncilonaging.org/calendar/storytelling-w-chip/
LOCATION:Janice Ancrum Senior Life Center\, 1901 Island Walk Way\, Fernandina Beach\, FL\, 32034
CATEGORIES:Other Opportunities
ATTACH;FMTTYPE=image/png:https://www.nassaucountycouncilonaging.org/wp-content/uploads/2023/06/BookStackSized.png
END:VEVENT
BEGIN:VEVENT
DTSTART;TZID=America/New_York:20230809T133000
DTEND;TZID=America/New_York:20230809T153000
DTSTAMP:20260423T123437
CREATED:20230620T134919Z
LAST-MODIFIED:20230805T183625Z
UID:10005472-1691587800-1691595000@www.nassaucountycouncilonaging.org
SUMMARY:The Shocking Truth Behind Electricity
DESCRIPTION:1:30 – 3:30 pm\nTom Polito \nBook Now
URL:https://www.nassaucountycouncilonaging.org/calendar/the-shocking-truth-behind-electricity-5/
LOCATION:Janice Ancrum Senior Life Center\, 1901 Island Walk Way\, Fernandina Beach\, FL\, 32034
CATEGORIES:Other Opportunities
ATTACH;FMTTYPE=image/png:https://www.nassaucountycouncilonaging.org/wp-content/uploads/2023/01/enlightening.png
END:VEVENT
END:VCALENDAR