BEGIN:VCALENDAR
VERSION:2.0
PRODID:-//Nassau County Council on Aging - ECPv6.15.20//NONSGML v1.0//EN
CALSCALE:GREGORIAN
METHOD:PUBLISH
X-WR-CALNAME:Nassau County Council on Aging
X-ORIGINAL-URL:https://www.nassaucountycouncilonaging.org
X-WR-CALDESC:Events for Nassau County Council on Aging
REFRESH-INTERVAL;VALUE=DURATION:PT1H
X-Robots-Tag:noindex
X-PUBLISHED-TTL:PT1H
BEGIN:VTIMEZONE
TZID:America/New_York
BEGIN:DAYLIGHT
TZOFFSETFROM:-0500
TZOFFSETTO:-0400
TZNAME:EDT
DTSTART:20210314T070000
END:DAYLIGHT
BEGIN:STANDARD
TZOFFSETFROM:-0400
TZOFFSETTO:-0500
TZNAME:EST
DTSTART:20211107T060000
END:STANDARD
BEGIN:DAYLIGHT
TZOFFSETFROM:-0500
TZOFFSETTO:-0400
TZNAME:EDT
DTSTART:20220313T070000
END:DAYLIGHT
BEGIN:STANDARD
TZOFFSETFROM:-0400
TZOFFSETTO:-0500
TZNAME:EST
DTSTART:20221106T060000
END:STANDARD
BEGIN:DAYLIGHT
TZOFFSETFROM:-0500
TZOFFSETTO:-0400
TZNAME:EDT
DTSTART:20230312T070000
END:DAYLIGHT
BEGIN:STANDARD
TZOFFSETFROM:-0400
TZOFFSETTO:-0500
TZNAME:EST
DTSTART:20231105T060000
END:STANDARD
END:VTIMEZONE
BEGIN:VEVENT
DTSTART;TZID=America/New_York:20220804T130000
DTEND;TZID=America/New_York:20220804T140000
DTSTAMP:20260425T130031
CREATED:20220627T180910Z
LAST-MODIFIED:20220627T180910Z
UID:10001510-1659618000-1659621600@www.nassaucountycouncilonaging.org
SUMMARY:Helping Seniors Downsize:
DESCRIPTION: 3.  Downsize\n1 – 2 pm\nCarmen Drake
URL:https://www.nassaucountycouncilonaging.org/calendar/helping-seniors-downsize-3/
LOCATION:Janice Ancrum Senior Life Center\, 1901 Island Walk Way\, Fernandina Beach\, FL\, 32034
CATEGORIES:Other Opportunities
ATTACH;FMTTYPE=image/jpeg:https://www.nassaucountycouncilonaging.org/wp-content/uploads/2021/05/ja-senior-life-center.jpg
END:VEVENT
BEGIN:VEVENT
DTSTART;TZID=America/New_York:20220804T140000
DTEND;TZID=America/New_York:20220804T150000
DTSTAMP:20260425T130031
CREATED:20220627T175857Z
LAST-MODIFIED:20220822T182418Z
UID:10001499-1659621600-1659625200@www.nassaucountycouncilonaging.org
SUMMARY:Journal for Generations:
DESCRIPTION:Recording Your History\nYou and your relatives\, childhood\, adulthood/working life\, life today\nSession 2 \n2 – 3 pm\nLannie Kremin
URL:https://www.nassaucountycouncilonaging.org/calendar/journal-for-generations-2/2022-08-04/
LOCATION:Janice Ancrum Senior Life Center\, 1901 Island Walk Way\, Fernandina Beach\, FL\, 32034
CATEGORIES:Other Opportunities
ATTACH;FMTTYPE=image/jpeg:https://www.nassaucountycouncilonaging.org/wp-content/uploads/2021/05/ja-senior-life-center.jpg
END:VEVENT
END:VCALENDAR