BEGIN:VCALENDAR
VERSION:2.0
PRODID:-//Nassau County Council on Aging - ECPv6.15.20//NONSGML v1.0//EN
CALSCALE:GREGORIAN
METHOD:PUBLISH
X-WR-CALNAME:Nassau County Council on Aging
X-ORIGINAL-URL:https://www.nassaucountycouncilonaging.org
X-WR-CALDESC:Events for Nassau County Council on Aging
REFRESH-INTERVAL;VALUE=DURATION:PT1H
X-Robots-Tag:noindex
X-PUBLISHED-TTL:PT1H
BEGIN:VTIMEZONE
TZID:America/New_York
BEGIN:DAYLIGHT
TZOFFSETFROM:-0500
TZOFFSETTO:-0400
TZNAME:EDT
DTSTART:20220313T070000
END:DAYLIGHT
BEGIN:STANDARD
TZOFFSETFROM:-0400
TZOFFSETTO:-0500
TZNAME:EST
DTSTART:20221106T060000
END:STANDARD
BEGIN:DAYLIGHT
TZOFFSETFROM:-0500
TZOFFSETTO:-0400
TZNAME:EDT
DTSTART:20230312T070000
END:DAYLIGHT
BEGIN:STANDARD
TZOFFSETFROM:-0400
TZOFFSETTO:-0500
TZNAME:EST
DTSTART:20231105T060000
END:STANDARD
BEGIN:DAYLIGHT
TZOFFSETFROM:-0500
TZOFFSETTO:-0400
TZNAME:EDT
DTSTART:20240310T070000
END:DAYLIGHT
BEGIN:STANDARD
TZOFFSETFROM:-0400
TZOFFSETTO:-0500
TZNAME:EST
DTSTART:20241103T060000
END:STANDARD
END:VTIMEZONE
BEGIN:VEVENT
DTSTART;TZID=America/New_York:20230905T140000
DTEND;TZID=America/New_York:20230905T150000
DTSTAMP:20260423T062833
CREATED:20230828T171814Z
LAST-MODIFIED:20230902T185024Z
UID:10006070-1693922400-1693926000@www.nassaucountycouncilonaging.org
SUMMARY:Fun Time with Amelia Cruizers
DESCRIPTION:2:00 pm – 3:00 pm\nGene Freund \n 
URL:https://www.nassaucountycouncilonaging.org/calendar/fun-time-with-amelia-cruizers/2023-09-05/
LOCATION:Janice Ancrum Senior Life Center\, 1901 Island Walk Way\, Fernandina Beach\, FL\, 32034
CATEGORIES:Other Opportunities
ATTACH;FMTTYPE=image/png:https://www.nassaucountycouncilonaging.org/wp-content/uploads/2023/08/CarSized.png
END:VEVENT
BEGIN:VEVENT
DTSTART;TZID=America/New_York:20230908T090000
DTEND;TZID=America/New_York:20230908T130000
DTSTAMP:20260423T062833
CREATED:20230902T221613Z
LAST-MODIFIED:20230902T222151Z
UID:10006106-1694163600-1694178000@www.nassaucountycouncilonaging.org
SUMMARY:Senior Expo - FREE
DESCRIPTION:9:00 am – 1:00 pm\nAtlantic Rec Center\nPresented by NCCOA & Baptist Health \nBook Now
URL:https://www.nassaucountycouncilonaging.org/calendar/senior-expo-free/
LOCATION:Atlantic Recreational Center\, 2500 Atlantic Avenue\, Fernandina Beach\, FL\, 32034\, United States
CATEGORIES:Other Opportunities
ATTACH;FMTTYPE=image/png:https://www.nassaucountycouncilonaging.org/wp-content/uploads/2023/09/SeniorExpoSized.png
END:VEVENT
BEGIN:VEVENT
DTSTART;TZID=America/New_York:20230912T100000
DTEND;TZID=America/New_York:20230912T110000
DTSTAMP:20260423T062833
CREATED:20230911T164316Z
LAST-MODIFIED:20230911T164316Z
UID:10006111-1694512800-1694516400@www.nassaucountycouncilonaging.org
SUMMARY:Writers Workshop
DESCRIPTION:10:00 am – 11:00 am\nSteve Gibbs \nBook Now
URL:https://www.nassaucountycouncilonaging.org/calendar/writers-workshop-2/
LOCATION:Janice Ancrum Senior Life Center\, 1901 Island Walk Way\, Fernandina Beach\, FL\, 32034
CATEGORIES:Other Opportunities
ATTACH;FMTTYPE=image/png:https://www.nassaucountycouncilonaging.org/wp-content/uploads/2023/07/WritingSized.png
END:VEVENT
BEGIN:VEVENT
DTSTART;TZID=America/New_York:20230912T140000
DTEND;TZID=America/New_York:20230912T150000
DTSTAMP:20260423T062833
CREATED:20230828T171814Z
LAST-MODIFIED:20230902T185024Z
UID:10006071-1694527200-1694530800@www.nassaucountycouncilonaging.org
SUMMARY:Fun Time with Amelia Cruizers
DESCRIPTION:2:00 pm – 3:00 pm\nGene Freund \n 
URL:https://www.nassaucountycouncilonaging.org/calendar/fun-time-with-amelia-cruizers/2023-09-12/
LOCATION:Janice Ancrum Senior Life Center\, 1901 Island Walk Way\, Fernandina Beach\, FL\, 32034
CATEGORIES:Other Opportunities
ATTACH;FMTTYPE=image/png:https://www.nassaucountycouncilonaging.org/wp-content/uploads/2023/08/CarSized.png
END:VEVENT
BEGIN:VEVENT
DTSTART;TZID=America/New_York:20230913T090000
DTEND;TZID=America/New_York:20230913T100000
DTSTAMP:20260423T062833
CREATED:20230911T165903Z
LAST-MODIFIED:20230911T165903Z
UID:10006112-1694595600-1694599200@www.nassaucountycouncilonaging.org
SUMMARY:Storytelling w/Chip - FREE
DESCRIPTION:9:00 am – 10:00 am
URL:https://www.nassaucountycouncilonaging.org/calendar/storytelling-w-chip-free/
LOCATION:Janice Ancrum Senior Life Center\, 1901 Island Walk Way\, Fernandina Beach\, FL\, 32034
CATEGORIES:Other Opportunities
ATTACH;FMTTYPE=image/png:https://www.nassaucountycouncilonaging.org/wp-content/uploads/2023/06/BookStackSized.png
END:VEVENT
BEGIN:VEVENT
DTSTART;TZID=America/New_York:20230914T143000
DTEND;TZID=America/New_York:20230914T153000
DTSTAMP:20260423T062833
CREATED:20230911T175111Z
LAST-MODIFIED:20230911T175111Z
UID:10006120-1694701800-1694705400@www.nassaucountycouncilonaging.org
SUMMARY:Fraud - Protecting Your Mobile Device & Computer
DESCRIPTION:2:30 pm – 3:30 pm\nJeff Fatora \nBook Now
URL:https://www.nassaucountycouncilonaging.org/calendar/fraud-protecting-your-mobile-device-computer/
LOCATION:Janice Ancrum Senior Life Center\, 1901 Island Walk Way\, Fernandina Beach\, FL\, 32034
CATEGORIES:Other Opportunities
ATTACH;FMTTYPE=image/png:https://www.nassaucountycouncilonaging.org/wp-content/uploads/2023/01/credit-card-hacks.png
END:VEVENT
BEGIN:VEVENT
DTSTART;TZID=America/New_York:20230919T140000
DTEND;TZID=America/New_York:20230919T150000
DTSTAMP:20260423T062833
CREATED:20230828T171814Z
LAST-MODIFIED:20230902T185024Z
UID:10006072-1695132000-1695135600@www.nassaucountycouncilonaging.org
SUMMARY:Fun Time with Amelia Cruizers
DESCRIPTION:2:00 pm – 3:00 pm\nGene Freund \n 
URL:https://www.nassaucountycouncilonaging.org/calendar/fun-time-with-amelia-cruizers/2023-09-19/
LOCATION:Janice Ancrum Senior Life Center\, 1901 Island Walk Way\, Fernandina Beach\, FL\, 32034
CATEGORIES:Other Opportunities
ATTACH;FMTTYPE=image/png:https://www.nassaucountycouncilonaging.org/wp-content/uploads/2023/08/CarSized.png
END:VEVENT
END:VCALENDAR