BEGIN:VCALENDAR
VERSION:2.0
PRODID:-//Nassau County Council on Aging - ECPv6.15.20//NONSGML v1.0//EN
CALSCALE:GREGORIAN
METHOD:PUBLISH
X-ORIGINAL-URL:https://www.nassaucountycouncilonaging.org
X-WR-CALDESC:Events for Nassau County Council on Aging
REFRESH-INTERVAL;VALUE=DURATION:PT1H
X-Robots-Tag:noindex
X-PUBLISHED-TTL:PT1H
BEGIN:VTIMEZONE
TZID:America/New_York
BEGIN:DAYLIGHT
TZOFFSETFROM:-0500
TZOFFSETTO:-0400
TZNAME:EDT
DTSTART:20220313T070000
END:DAYLIGHT
BEGIN:STANDARD
TZOFFSETFROM:-0400
TZOFFSETTO:-0500
TZNAME:EST
DTSTART:20221106T060000
END:STANDARD
BEGIN:DAYLIGHT
TZOFFSETFROM:-0500
TZOFFSETTO:-0400
TZNAME:EDT
DTSTART:20230312T070000
END:DAYLIGHT
BEGIN:STANDARD
TZOFFSETFROM:-0400
TZOFFSETTO:-0500
TZNAME:EST
DTSTART:20231105T060000
END:STANDARD
BEGIN:DAYLIGHT
TZOFFSETFROM:-0500
TZOFFSETTO:-0400
TZNAME:EDT
DTSTART:20240310T070000
END:DAYLIGHT
BEGIN:STANDARD
TZOFFSETFROM:-0400
TZOFFSETTO:-0500
TZNAME:EST
DTSTART:20241103T060000
END:STANDARD
END:VTIMEZONE
BEGIN:VEVENT
DTSTART;TZID=America/New_York:20230706T143000
DTEND;TZID=America/New_York:20230706T153000
DTSTAMP:20260423T133940
CREATED:20230703T163733Z
LAST-MODIFIED:20230703T163733Z
UID:10005914-1688653800-1688657400@www.nassaucountycouncilonaging.org
SUMMARY:Fraud - Think Before You Click
DESCRIPTION:2:30 pm – 3:30 pm\nJeff Fatora\, Secure Amelia \nBook Now
URL:https://www.nassaucountycouncilonaging.org/calendar/fraud-think-before-you-click/
LOCATION:Janice Ancrum Senior Life Center\, 1901 Island Walk Way\, Fernandina Beach\, FL\, 32034
CATEGORIES:Other Opportunities
ATTACH;FMTTYPE=image/png:https://www.nassaucountycouncilonaging.org/wp-content/uploads/2023/01/credit-card-hacks.png
END:VEVENT
BEGIN:VEVENT
DTSTART;TZID=America/New_York:20230712T090000
DTEND;TZID=America/New_York:20230712T100000
DTSTAMP:20260423T133940
CREATED:20230620T133817Z
LAST-MODIFIED:20230707T201926Z
UID:10005468-1689152400-1689156000@www.nassaucountycouncilonaging.org
SUMMARY:Author Spotlight - Free
DESCRIPTION:9 – 10 am\nChip Kirkpatrick\nAuthor of ROSCOE: My Cardinal Sin \nBook Now\n 
URL:https://www.nassaucountycouncilonaging.org/calendar/author-spotlight-free/
LOCATION:Janice Ancrum Senior Life Center\, 1901 Island Walk Way\, Fernandina Beach\, FL\, 32034
CATEGORIES:Other Opportunities
ATTACH;FMTTYPE=image/png:https://www.nassaucountycouncilonaging.org/wp-content/uploads/2023/06/BookStackSized.png
END:VEVENT
BEGIN:VEVENT
DTSTART;TZID=America/New_York:20230726T090000
DTEND;TZID=America/New_York:20230726T100000
DTSTAMP:20260423T133940
CREATED:20230722T190446Z
LAST-MODIFIED:20230722T190446Z
UID:10005929-1690362000-1690365600@www.nassaucountycouncilonaging.org
SUMMARY:Author Spotlight
DESCRIPTION:9:00 am – 10:00 am\nChip Kirkpatrick \nBook Now
URL:https://www.nassaucountycouncilonaging.org/calendar/author-spotlight-2/
LOCATION:Janice Ancrum Senior Life Center\, 1901 Island Walk Way\, Fernandina Beach\, FL\, 32034
CATEGORIES:Other Opportunities
ATTACH;FMTTYPE=image/png:https://www.nassaucountycouncilonaging.org/wp-content/uploads/2023/07/WritingSized.png
END:VEVENT
BEGIN:VEVENT
DTSTART;TZID=America/New_York:20230727T140000
DTEND;TZID=America/New_York:20230727T150000
DTSTAMP:20260423T133940
CREATED:20230620T134018Z
LAST-MODIFIED:20230722T192447Z
UID:10005469-1690466400-1690470000@www.nassaucountycouncilonaging.org
SUMMARY:Writer's Workshop
DESCRIPTION:2 – 3 pm\nSteve Gibbs\, Author \nBook Now
URL:https://www.nassaucountycouncilonaging.org/calendar/writers-workshop/
LOCATION:Janice Ancrum Senior Life Center\, 1901 Island Walk Way\, Fernandina Beach\, FL\, 32034
CATEGORIES:Other Opportunities
ATTACH;FMTTYPE=image/png:https://www.nassaucountycouncilonaging.org/wp-content/uploads/2023/07/WritingSized.png
END:VEVENT
BEGIN:VEVENT
DTSTART;TZID=America/New_York:20230727T153000
DTEND;TZID=America/New_York:20230727T160000
DTSTAMP:20260423T133940
CREATED:20230722T192707Z
LAST-MODIFIED:20230722T192707Z
UID:10005939-1690471800-1690473600@www.nassaucountycouncilonaging.org
SUMMARY:Save a Life w/ Narcan
DESCRIPTION:3:30 pm – 4:00 pm\nSusan Pendergrass \nBook Now
URL:https://www.nassaucountycouncilonaging.org/calendar/save-a-life-w-narcan/
LOCATION:Janice Ancrum Senior Life Center\, 1901 Island Walk Way\, Fernandina Beach\, FL\, 32034
CATEGORIES:Health & Support,Other Opportunities
ATTACH;FMTTYPE=image/png:https://www.nassaucountycouncilonaging.org/wp-content/uploads/2023/03/drug.png
END:VEVENT
END:VCALENDAR