BEGIN:VCALENDAR
VERSION:2.0
PRODID:-//Nassau County Council on Aging - ECPv6.15.20//NONSGML v1.0//EN
CALSCALE:GREGORIAN
METHOD:PUBLISH
X-ORIGINAL-URL:https://www.nassaucountycouncilonaging.org
X-WR-CALDESC:Events for Nassau County Council on Aging
REFRESH-INTERVAL;VALUE=DURATION:PT1H
X-Robots-Tag:noindex
X-PUBLISHED-TTL:PT1H
BEGIN:VTIMEZONE
TZID:America/New_York
BEGIN:DAYLIGHT
TZOFFSETFROM:-0500
TZOFFSETTO:-0400
TZNAME:EDT
DTSTART:20210314T070000
END:DAYLIGHT
BEGIN:STANDARD
TZOFFSETFROM:-0400
TZOFFSETTO:-0500
TZNAME:EST
DTSTART:20211107T060000
END:STANDARD
BEGIN:DAYLIGHT
TZOFFSETFROM:-0500
TZOFFSETTO:-0400
TZNAME:EDT
DTSTART:20220313T070000
END:DAYLIGHT
BEGIN:STANDARD
TZOFFSETFROM:-0400
TZOFFSETTO:-0500
TZNAME:EST
DTSTART:20221106T060000
END:STANDARD
BEGIN:DAYLIGHT
TZOFFSETFROM:-0500
TZOFFSETTO:-0400
TZNAME:EDT
DTSTART:20230312T070000
END:DAYLIGHT
BEGIN:STANDARD
TZOFFSETFROM:-0400
TZOFFSETTO:-0500
TZNAME:EST
DTSTART:20231105T060000
END:STANDARD
END:VTIMEZONE
BEGIN:VEVENT
DTSTART;TZID=America/New_York:20221104T190000
DTEND;TZID=America/New_York:20221104T200000
DTSTAMP:20260424T235357
CREATED:20221102T201145Z
LAST-MODIFIED:20221102T201145Z
UID:10001753-1667588400-1667592000@www.nassaucountycouncilonaging.org
SUMMARY:Sylvia Anchorage
DESCRIPTION:..a play about coming to terms\nwith your past\, by Alice Adams\nFriday\, November 4\, 7 pm\nSaturday\, November 5\, 2 pm \nTickets: $15\n(pay at the door; cash only)\nFor reservations\, call 904-261-0701. \nQuestions?\nContact Joyce Frink\, 904-710-5651. \nProceeds benefit NCCOA
URL:https://www.nassaucountycouncilonaging.org/calendar/sylvia-anchorage/2022-11-04/
LOCATION:Janice Ancrum Senior Life Center\, 1901 Island Walk Way\, Fernandina Beach\, FL\, 32034
CATEGORIES:Other Opportunities
ATTACH;FMTTYPE=image/jpeg:https://www.nassaucountycouncilonaging.org/wp-content/uploads/2022/11/sylvia-anchorage.jpg
END:VEVENT
BEGIN:VEVENT
DTSTART;TZID=America/New_York:20221105T020000
DTEND;TZID=America/New_York:20221105T150000
DTSTAMP:20260424T235357
CREATED:20221102T201145Z
LAST-MODIFIED:20221102T201145Z
UID:10001754-1667613600-1667660400@www.nassaucountycouncilonaging.org
SUMMARY:Sylvia Anchorage
DESCRIPTION:..a play about coming to terms\nwith your past\, by Alice Adams\nFriday\, November 4\, 7 pm\nSaturday\, November 5\, 2 pm \nTickets: $15\n(pay at the door; cash only)\nFor reservations\, call 904-261-0701. \nQuestions?\nContact Joyce Frink\, 904-710-5651. \nProceeds benefit NCCOA
URL:https://www.nassaucountycouncilonaging.org/calendar/sylvia-anchorage/2022-11-05/
LOCATION:Janice Ancrum Senior Life Center\, 1901 Island Walk Way\, Fernandina Beach\, FL\, 32034
CATEGORIES:Other Opportunities
ATTACH;FMTTYPE=image/jpeg:https://www.nassaucountycouncilonaging.org/wp-content/uploads/2022/11/sylvia-anchorage.jpg
END:VEVENT
BEGIN:VEVENT
DTSTART;TZID=America/New_York:20221122T133000
DTEND;TZID=America/New_York:20221122T150000
DTSTAMP:20260424T235357
CREATED:20220928T155426Z
LAST-MODIFIED:20221119T200930Z
UID:10001698-1669123800-1669129200@www.nassaucountycouncilonaging.org
SUMMARY:Seniors Self Defense
DESCRIPTION:1:30 – 3:00 pm\nTom Gagne
URL:https://www.nassaucountycouncilonaging.org/calendar/seniors-self-defense/2022-11-22/
LOCATION:Janice Ancrum Senior Life Center\, 1901 Island Walk Way\, Fernandina Beach\, FL\, 32034
CATEGORIES:Other Opportunities
ATTACH;FMTTYPE=image/png:https://www.nassaucountycouncilonaging.org/wp-content/uploads/2022/09/self-defense.png
END:VEVENT
BEGIN:VEVENT
DTSTART;VALUE=DATE:20221124
DTEND;VALUE=DATE:20221126
DTSTAMP:20260424T235357
CREATED:20221102T194225Z
LAST-MODIFIED:20221102T194225Z
UID:10001752-1669248000-1669420799@www.nassaucountycouncilonaging.org
SUMMARY:Happy Thanksgiving
DESCRIPTION:Our offices and centers are closed to celebrate Thanksgiving.
URL:https://www.nassaucountycouncilonaging.org/calendar/happy-thanksgiving/
LOCATION:Janice Ancrum Senior Life Center\, 1901 Island Walk Way\, Fernandina Beach\, FL\, 32034
CATEGORIES:Other Opportunities
ATTACH;FMTTYPE=image/jpeg:https://www.nassaucountycouncilonaging.org/wp-content/uploads/2022/11/happy-Thanksgiving.jpg
END:VEVENT
BEGIN:VEVENT
DTSTART;TZID=America/New_York:20221129T133000
DTEND;TZID=America/New_York:20221129T143000
DTSTAMP:20260424T235357
CREATED:20221130T173014Z
LAST-MODIFIED:20221130T173350Z
UID:10002092-1669728600-1669732200@www.nassaucountycouncilonaging.org
SUMMARY:Seniors Self Defense
DESCRIPTION:1:30 – 3:00 pm\nTom Gagne
URL:https://www.nassaucountycouncilonaging.org/calendar/seniors-self-defense-2/
LOCATION:Janice Ancrum Senior Life Center\, 1901 Island Walk Way\, Fernandina Beach\, FL\, 32034
CATEGORIES:Other Opportunities
ATTACH;FMTTYPE=image/png:https://www.nassaucountycouncilonaging.org/wp-content/uploads/2022/09/self-defense.png
END:VEVENT
END:VCALENDAR