BEGIN:VCALENDAR
VERSION:2.0
PRODID:-//Nassau County Council on Aging - ECPv6.15.20//NONSGML v1.0//EN
CALSCALE:GREGORIAN
METHOD:PUBLISH
X-WR-CALNAME:Nassau County Council on Aging
X-ORIGINAL-URL:https://www.nassaucountycouncilonaging.org
X-WR-CALDESC:Events for Nassau County Council on Aging
REFRESH-INTERVAL;VALUE=DURATION:PT1H
X-Robots-Tag:noindex
X-PUBLISHED-TTL:PT1H
BEGIN:VTIMEZONE
TZID:America/New_York
BEGIN:DAYLIGHT
TZOFFSETFROM:-0500
TZOFFSETTO:-0400
TZNAME:EDT
DTSTART:20250309T070000
END:DAYLIGHT
BEGIN:STANDARD
TZOFFSETFROM:-0400
TZOFFSETTO:-0500
TZNAME:EST
DTSTART:20251102T060000
END:STANDARD
BEGIN:DAYLIGHT
TZOFFSETFROM:-0500
TZOFFSETTO:-0400
TZNAME:EDT
DTSTART:20260308T070000
END:DAYLIGHT
BEGIN:STANDARD
TZOFFSETFROM:-0400
TZOFFSETTO:-0500
TZNAME:EST
DTSTART:20261101T060000
END:STANDARD
BEGIN:DAYLIGHT
TZOFFSETFROM:-0500
TZOFFSETTO:-0400
TZNAME:EDT
DTSTART:20270314T070000
END:DAYLIGHT
BEGIN:STANDARD
TZOFFSETFROM:-0400
TZOFFSETTO:-0500
TZNAME:EST
DTSTART:20271107T060000
END:STANDARD
END:VTIMEZONE
BEGIN:VEVENT
DTSTART;TZID=America/New_York:20260421T111500
DTEND;TZID=America/New_York:20260421T121500
DTSTAMP:20260419T145418
CREATED:20260112T195136Z
LAST-MODIFIED:20260112T195139Z
UID:10016666-1776770100-1776773700@www.nassaucountycouncilonaging.org
SUMMARY:Belly Dancing
DESCRIPTION:11:15 am – 12:15 pm\nLaura Giordano
URL:https://www.nassaucountycouncilonaging.org/calendar/belly-dancing-13-12-13/2026-04-21/
LOCATION:Janice Ancrum Senior Life Center\, 1901 Island Walk Way\, Fernandina Beach\, FL\, 32034
CATEGORIES:Music & Dancing
ATTACH;FMTTYPE=image/png:https://www.nassaucountycouncilonaging.org/wp-content/uploads/2022/10/belly-dancing.png
END:VEVENT
BEGIN:VEVENT
DTSTART;TZID=America/New_York:20260421T130000
DTEND;TZID=America/New_York:20260421T134500
DTSTAMP:20260419T145418
CREATED:20260112T200800Z
LAST-MODIFIED:20260112T200803Z
UID:10016738-1776776400-1776779100@www.nassaucountycouncilonaging.org
SUMMARY:Line Dancing
DESCRIPTION:Basic Beginner\n1:00 pm – 1:45 pm\nKathy Ball
URL:https://www.nassaucountycouncilonaging.org/calendar/line-dancing-7-12-9-19-13-40-14/2026-04-21/
LOCATION:Janice Ancrum Senior Life Center\, 1901 Island Walk Way\, Fernandina Beach\, FL\, 32034
CATEGORIES:Music & Dancing
ATTACH;FMTTYPE=image/png:https://www.nassaucountycouncilonaging.org/wp-content/uploads/2021/05/line-dancing.png
END:VEVENT
BEGIN:VEVENT
DTSTART;TZID=America/New_York:20260421T130000
DTEND;TZID=America/New_York:20260421T140000
DTSTAMP:20260419T145418
CREATED:20260112T200953Z
LAST-MODIFIED:20260112T200958Z
UID:10016751-1776776400-1776780000@www.nassaucountycouncilonaging.org
SUMMARY:Zumba Gold
DESCRIPTION:1:00 pm – 2:00 pm\nStacey “Sparkle” Vinson
URL:https://www.nassaucountycouncilonaging.org/calendar/zumba-gold-8-4-11-14-12-12-30-13-40-14/2026-04-21/
LOCATION:Janice Ancrum Senior Life Center\, 1901 Island Walk Way\, Fernandina Beach\, FL\, 32034
CATEGORIES:Music & Dancing,Wellness, Health & Fitness
ATTACH;FMTTYPE=image/png:https://www.nassaucountycouncilonaging.org/wp-content/uploads/2023/01/zumba-gold-orange.png
END:VEVENT
BEGIN:VEVENT
DTSTART;TZID=America/New_York:20260421T140000
DTEND;TZID=America/New_York:20260421T150000
DTSTAMP:20260419T145418
CREATED:20260112T202845Z
LAST-MODIFIED:20260112T202848Z
UID:10016766-1776780000-1776783600@www.nassaucountycouncilonaging.org
SUMMARY:Line Dancing
DESCRIPTION:Intermediate\n2:00 pm – 3:00 pm\nKathy Ball
URL:https://www.nassaucountycouncilonaging.org/calendar/line-dancing-14-21-13-40-14/2026-04-21/
LOCATION:Janice Ancrum Senior Life Center\, 1901 Island Walk Way\, Fernandina Beach\, FL\, 32034
CATEGORIES:Music & Dancing
ATTACH;FMTTYPE=image/png:https://www.nassaucountycouncilonaging.org/wp-content/uploads/2021/05/line-dancing.png
END:VEVENT
BEGIN:VEVENT
DTSTART;TZID=America/New_York:20260421T150000
DTEND;TZID=America/New_York:20260421T164500
DTSTAMP:20260419T145418
CREATED:20260112T203920Z
LAST-MODIFIED:20260112T203923Z
UID:10016785-1776783600-1776789900@www.nassaucountycouncilonaging.org
SUMMARY:String Ensemble
DESCRIPTION:3:00 pm – 4:45 pm\nJudith Ward \n 
URL:https://www.nassaucountycouncilonaging.org/calendar/string-ensemble-9-5-15-13/2026-04-21/
LOCATION:Janice Ancrum Senior Life Center\, 1901 Island Walk Way\, Fernandina Beach\, FL\, 32034
CATEGORIES:Music & Dancing
ATTACH;FMTTYPE=image/png:https://www.nassaucountycouncilonaging.org/wp-content/uploads/2023/06/ViolinSized.png
END:VEVENT
END:VCALENDAR