BEGIN:VCALENDAR
VERSION:2.0
PRODID:-//Nassau County Council on Aging - ECPv6.15.20//NONSGML v1.0//EN
CALSCALE:GREGORIAN
METHOD:PUBLISH
X-WR-CALNAME:Nassau County Council on Aging
X-ORIGINAL-URL:https://www.nassaucountycouncilonaging.org
X-WR-CALDESC:Events for Nassau County Council on Aging
REFRESH-INTERVAL;VALUE=DURATION:PT1H
X-Robots-Tag:noindex
X-PUBLISHED-TTL:PT1H
BEGIN:VTIMEZONE
TZID:America/New_York
BEGIN:DAYLIGHT
TZOFFSETFROM:-0500
TZOFFSETTO:-0400
TZNAME:EDT
DTSTART:20250309T070000
END:DAYLIGHT
BEGIN:STANDARD
TZOFFSETFROM:-0400
TZOFFSETTO:-0500
TZNAME:EST
DTSTART:20251102T060000
END:STANDARD
BEGIN:DAYLIGHT
TZOFFSETFROM:-0500
TZOFFSETTO:-0400
TZNAME:EDT
DTSTART:20260308T070000
END:DAYLIGHT
BEGIN:STANDARD
TZOFFSETFROM:-0400
TZOFFSETTO:-0500
TZNAME:EST
DTSTART:20261101T060000
END:STANDARD
BEGIN:DAYLIGHT
TZOFFSETFROM:-0500
TZOFFSETTO:-0400
TZNAME:EDT
DTSTART:20270314T070000
END:DAYLIGHT
BEGIN:STANDARD
TZOFFSETFROM:-0400
TZOFFSETTO:-0500
TZNAME:EST
DTSTART:20271107T060000
END:STANDARD
END:VTIMEZONE
BEGIN:VEVENT
DTSTART;TZID=America/New_York:20260330T100000
DTEND;TZID=America/New_York:20260330T110000
DTSTAMP:20260419T145408
CREATED:20260112T182424Z
LAST-MODIFIED:20260112T182427Z
UID:10016404-1774864800-1774868400@www.nassaucountycouncilonaging.org
SUMMARY:Ukulele
DESCRIPTION:Open Play\n10 – 11 am\nJulie and Jim Black
URL:https://www.nassaucountycouncilonaging.org/calendar/ukulele-4-16-14-12-8-14-13-14-12-15-13-15/2026-03-30/
LOCATION:Janice Ancrum Senior Life Center\, 1901 Island Walk Way\, Fernandina Beach\, FL\, 32034
CATEGORIES:Music & Dancing
ATTACH;FMTTYPE=image/png:https://www.nassaucountycouncilonaging.org/wp-content/uploads/2021/12/ukuele.png
END:VEVENT
BEGIN:VEVENT
DTSTART;TZID=America/New_York:20260330T103000
DTEND;TZID=America/New_York:20260330T111500
DTSTAMP:20260419T145408
CREATED:20260112T183110Z
LAST-MODIFIED:20260112T183113Z
UID:10016420-1774866600-1774869300@www.nassaucountycouncilonaging.org
SUMMARY:Beginning Ballet
DESCRIPTION:10:30 am – 11:15 am\nLaura Giordano
URL:https://www.nassaucountycouncilonaging.org/calendar/beginning-ballet-19-11-11-11-12-12/2026-03-30/
LOCATION:Janice Ancrum Senior Life Center\, 1901 Island Walk Way\, Fernandina Beach\, FL\, 32034
CATEGORIES:Music & Dancing
ATTACH;FMTTYPE=image/png:https://www.nassaucountycouncilonaging.org/wp-content/uploads/2022/10/belly-dancing.png
END:VEVENT
BEGIN:VEVENT
DTSTART;TZID=America/New_York:20260330T124500
DTEND;TZID=America/New_York:20260330T134500
DTSTAMP:20260419T145408
CREATED:20260112T184916Z
LAST-MODIFIED:20260112T184920Z
UID:10016459-1774874700-1774878300@www.nassaucountycouncilonaging.org
SUMMARY:Tap Dancing
DESCRIPTION:12:45 pm – 1:45 pm\nLaura Giordano
URL:https://www.nassaucountycouncilonaging.org/calendar/tap-dancing-10-6-3-14-5-14-11-11-6-13/2026-03-30/
LOCATION:Janice Ancrum Senior Life Center\, 1901 Island Walk Way\, Fernandina Beach\, FL\, 32034
CATEGORIES:Music & Dancing
ATTACH;FMTTYPE=image/png:https://www.nassaucountycouncilonaging.org/wp-content/uploads/2022/09/happy-tappy.png
END:VEVENT
BEGIN:VEVENT
DTSTART;TZID=America/New_York:20260330T130000
DTEND;TZID=America/New_York:20260330T143000
DTSTAMP:20260419T145408
CREATED:20260112T185105Z
LAST-MODIFIED:20260112T185108Z
UID:10016472-1774875600-1774881000@www.nassaucountycouncilonaging.org
SUMMARY:Tap FUNdamentals!
DESCRIPTION:1:00 pm – 2:30 pm\nGwen White
URL:https://www.nassaucountycouncilonaging.org/calendar/tap-fundamentals-6-15/2026-03-30/
LOCATION:Janice Ancrum Senior Life Center\, 1901 Island Walk Way\, Fernandina Beach\, FL\, 32034
CATEGORIES:Music & Dancing
ATTACH;FMTTYPE=image/png:https://www.nassaucountycouncilonaging.org/wp-content/uploads/2021/12/dancing.png
END:VEVENT
BEGIN:VEVENT
DTSTART;TZID=America/New_York:20260330T143000
DTEND;TZID=America/New_York:20260330T153000
DTSTAMP:20260419T145408
CREATED:20260112T190406Z
LAST-MODIFIED:20260112T190410Z
UID:10016514-1774881000-1774884600@www.nassaucountycouncilonaging.org
SUMMARY:Guitar Slow Jam with Bass
DESCRIPTION:All Levels\n2:30 – 3:30 pm\nJoyce Whorton\, Musician
URL:https://www.nassaucountycouncilonaging.org/calendar/guitar-slow-jam-with-bass-12-5-10-15/2026-03-30/
LOCATION:Janice Ancrum Senior Life Center\, 1901 Island Walk Way\, Fernandina Beach\, FL\, 32034
CATEGORIES:Music & Dancing
ATTACH;FMTTYPE=image/png:https://www.nassaucountycouncilonaging.org/wp-content/uploads/2024/06/GuitarSized.png
END:VEVENT
END:VCALENDAR