BEGIN:VCALENDAR
VERSION:2.0
PRODID:-//Nassau County Council on Aging - ECPv6.15.20//NONSGML v1.0//EN
CALSCALE:GREGORIAN
METHOD:PUBLISH
X-WR-CALNAME:Nassau County Council on Aging
X-ORIGINAL-URL:https://www.nassaucountycouncilonaging.org
X-WR-CALDESC:Events for Nassau County Council on Aging
REFRESH-INTERVAL;VALUE=DURATION:PT1H
X-Robots-Tag:noindex
X-PUBLISHED-TTL:PT1H
BEGIN:VTIMEZONE
TZID:America/New_York
BEGIN:DAYLIGHT
TZOFFSETFROM:-0500
TZOFFSETTO:-0400
TZNAME:EDT
DTSTART:20250309T070000
END:DAYLIGHT
BEGIN:STANDARD
TZOFFSETFROM:-0400
TZOFFSETTO:-0500
TZNAME:EST
DTSTART:20251102T060000
END:STANDARD
BEGIN:DAYLIGHT
TZOFFSETFROM:-0500
TZOFFSETTO:-0400
TZNAME:EDT
DTSTART:20260308T070000
END:DAYLIGHT
BEGIN:STANDARD
TZOFFSETFROM:-0400
TZOFFSETTO:-0500
TZNAME:EST
DTSTART:20261101T060000
END:STANDARD
BEGIN:DAYLIGHT
TZOFFSETFROM:-0500
TZOFFSETTO:-0400
TZNAME:EDT
DTSTART:20270314T070000
END:DAYLIGHT
BEGIN:STANDARD
TZOFFSETFROM:-0400
TZOFFSETTO:-0500
TZNAME:EST
DTSTART:20271107T060000
END:STANDARD
END:VTIMEZONE
BEGIN:VEVENT
DTSTART;TZID=America/New_York:20260218T090000
DTEND;TZID=America/New_York:20260218T100000
DTSTAMP:20260424T103143
CREATED:20260216T222918Z
LAST-MODIFIED:20260216T222923Z
UID:10016211-1771405200-1771408800@www.nassaucountycouncilonaging.org
SUMMARY:Sing Along w/Bruce - FREE
DESCRIPTION:9:00 am – 10:00 am\nBruce Beville \nBook Now
URL:https://www.nassaucountycouncilonaging.org/calendar/sing-along-w-bruce-free-5-20-6/
LOCATION:Janice Ancrum Senior Life Center\, 1901 Island Walk Way\, Fernandina Beach\, FL\, 32034
CATEGORIES:Music & Dancing
ATTACH;FMTTYPE=image/png:https://www.nassaucountycouncilonaging.org/wp-content/uploads/2022/09/music.png
END:VEVENT
BEGIN:VEVENT
DTSTART;TZID=America/New_York:20260218T130000
DTEND;TZID=America/New_York:20260218T134500
DTSTAMP:20260424T103143
CREATED:20260216T224905Z
LAST-MODIFIED:20260216T224911Z
UID:10015553-1771419600-1771422300@www.nassaucountycouncilonaging.org
SUMMARY:Line Dancing
DESCRIPTION:Basic\n1:00 pm – 1:45 pm\nKathy Ball \nBook Now
URL:https://www.nassaucountycouncilonaging.org/calendar/line-dancing-6-28-14-40-11-41-13-7/
LOCATION:Janice Ancrum Senior Life Center\, 1901 Island Walk Way\, Fernandina Beach\, FL\, 32034
CATEGORIES:Music & Dancing
ATTACH;FMTTYPE=image/png:https://www.nassaucountycouncilonaging.org/wp-content/uploads/2021/05/line-dancing.png
END:VEVENT
BEGIN:VEVENT
DTSTART;TZID=America/New_York:20260218T140000
DTEND;TZID=America/New_York:20260218T150000
DTSTAMP:20260424T103143
CREATED:20260216T225049Z
LAST-MODIFIED:20260216T225056Z
UID:10015566-1771423200-1771426800@www.nassaucountycouncilonaging.org
SUMMARY:Line Dancing
DESCRIPTION:Intermediate\n2:00 pm – 3:00 pm\nKathy Ball \nBook Now
URL:https://www.nassaucountycouncilonaging.org/calendar/line-dancing-2-5-12-17-14-39-12-40-13-7/
LOCATION:Janice Ancrum Senior Life Center\, 1901 Island Walk Way\, Fernandina Beach\, FL\, 32034
CATEGORIES:Music & Dancing
ATTACH;FMTTYPE=image/png:https://www.nassaucountycouncilonaging.org/wp-content/uploads/2021/05/line-dancing.png
END:VEVENT
END:VCALENDAR