BEGIN:VCALENDAR
VERSION:2.0
PRODID:-//Nassau County Council on Aging - ECPv6.15.20//NONSGML v1.0//EN
CALSCALE:GREGORIAN
METHOD:PUBLISH
X-WR-CALNAME:Nassau County Council on Aging
X-ORIGINAL-URL:https://www.nassaucountycouncilonaging.org
X-WR-CALDESC:Events for Nassau County Council on Aging
REFRESH-INTERVAL;VALUE=DURATION:PT1H
X-Robots-Tag:noindex
X-PUBLISHED-TTL:PT1H
BEGIN:VTIMEZONE
TZID:America/New_York
BEGIN:DAYLIGHT
TZOFFSETFROM:-0500
TZOFFSETTO:-0400
TZNAME:EDT
DTSTART:20220313T070000
END:DAYLIGHT
BEGIN:STANDARD
TZOFFSETFROM:-0400
TZOFFSETTO:-0500
TZNAME:EST
DTSTART:20221106T060000
END:STANDARD
BEGIN:DAYLIGHT
TZOFFSETFROM:-0500
TZOFFSETTO:-0400
TZNAME:EDT
DTSTART:20230312T070000
END:DAYLIGHT
BEGIN:STANDARD
TZOFFSETFROM:-0400
TZOFFSETTO:-0500
TZNAME:EST
DTSTART:20231105T060000
END:STANDARD
BEGIN:DAYLIGHT
TZOFFSETFROM:-0500
TZOFFSETTO:-0400
TZNAME:EDT
DTSTART:20240310T070000
END:DAYLIGHT
BEGIN:STANDARD
TZOFFSETFROM:-0400
TZOFFSETTO:-0500
TZNAME:EST
DTSTART:20241103T060000
END:STANDARD
BEGIN:DAYLIGHT
TZOFFSETFROM:-0500
TZOFFSETTO:-0400
TZNAME:EDT
DTSTART:20250309T070000
END:DAYLIGHT
BEGIN:STANDARD
TZOFFSETFROM:-0400
TZOFFSETTO:-0500
TZNAME:EST
DTSTART:20251102T060000
END:STANDARD
BEGIN:DAYLIGHT
TZOFFSETFROM:-0500
TZOFFSETTO:-0400
TZNAME:EDT
DTSTART:20260308T070000
END:DAYLIGHT
BEGIN:STANDARD
TZOFFSETFROM:-0400
TZOFFSETTO:-0500
TZNAME:EST
DTSTART:20261101T060000
END:STANDARD
END:VTIMEZONE
BEGIN:VEVENT
DTSTART;TZID=America/New_York:20230801T143000
DTEND;TZID=America/New_York:20230801T153000
DTSTAMP:20260425T071409
CREATED:20230729T163424Z
LAST-MODIFIED:20230729T163424Z
UID:10005940-1690900200-1690903800@www.nassaucountycouncilonaging.org
SUMMARY:Fraud: Everything About Passwords
DESCRIPTION:2:30 pm – 3:30 pm\nJeff Fatora \nBook Now
URL:https://www.nassaucountycouncilonaging.org/calendar/fraud-everything-about-passwords/
LOCATION:Janice Ancrum Senior Life Center\, 1901 Island Walk Way\, Fernandina Beach\, FL\, 32034
CATEGORIES:Member Education,Other Opportunities
ATTACH;FMTTYPE=image/png:https://www.nassaucountycouncilonaging.org/wp-content/uploads/2023/01/credit-card-hacks.png
END:VEVENT
BEGIN:VEVENT
DTSTART;TZID=America/New_York:20231107T150000
DTEND;TZID=America/New_York:20231107T163000
DTSTAMP:20260425T071409
CREATED:20230923T213839Z
LAST-MODIFIED:20231106T183739Z
UID:10006740-1699369200-1699374600@www.nassaucountycouncilonaging.org
SUMMARY:Critical Issues Forum
DESCRIPTION:The U.S. Electrical Grid & Future Changes\n3 – 4:30 pm\nThomas Polito \nBook Now
URL:https://www.nassaucountycouncilonaging.org/calendar/critical-issues-forum-6/
LOCATION:Janice Ancrum Senior Life Center\, 1901 Island Walk Way\, Fernandina Beach\, FL\, 32034
CATEGORIES:Member Education
ATTACH;FMTTYPE=image/png:https://www.nassaucountycouncilonaging.org/wp-content/uploads/2022/09/world.png
END:VEVENT
BEGIN:VEVENT
DTSTART;TZID=America/New_York:20231114T150000
DTEND;TZID=America/New_York:20231114T163000
DTSTAMP:20260425T071409
CREATED:20230923T214022Z
LAST-MODIFIED:20231111T185921Z
UID:10006741-1699974000-1699979400@www.nassaucountycouncilonaging.org
SUMMARY:Critical Issues Forum
DESCRIPTION:Our Imperiled Global Oceans\n3 – 4:30 pm\nGreg Doyle \nBook Now
URL:https://www.nassaucountycouncilonaging.org/calendar/critical-issues-forum-7/
LOCATION:Janice Ancrum Senior Life Center\, 1901 Island Walk Way\, Fernandina Beach\, FL\, 32034
CATEGORIES:Member Education
ATTACH;FMTTYPE=image/png:https://www.nassaucountycouncilonaging.org/wp-content/uploads/2022/09/world.png
END:VEVENT
BEGIN:VEVENT
DTSTART;TZID=America/New_York:20231205T150000
DTEND;TZID=America/New_York:20231205T163000
DTSTAMP:20260425T071409
CREATED:20230923T214404Z
LAST-MODIFIED:20231204T224908Z
UID:10006743-1701788400-1701793800@www.nassaucountycouncilonaging.org
SUMMARY:Critical Issues Forum
DESCRIPTION:Taiwan Stability & Semiconductor Supply Security\n3 – 4:30 pm\nPaul Pierson \nBook Now
URL:https://www.nassaucountycouncilonaging.org/calendar/critical-issues-forum-9/
LOCATION:Janice Ancrum Senior Life Center\, 1901 Island Walk Way\, Fernandina Beach\, FL\, 32034
CATEGORIES:Member Education
ATTACH;FMTTYPE=image/png:https://www.nassaucountycouncilonaging.org/wp-content/uploads/2022/09/world.png
END:VEVENT
BEGIN:VEVENT
DTSTART;TZID=America/New_York:20240910T150000
DTEND;TZID=America/New_York:20240910T163000
DTSTAMP:20260425T071409
CREATED:20240908T182817Z
LAST-MODIFIED:20240908T182817Z
UID:10010173-1725980400-1725985800@www.nassaucountycouncilonaging.org
SUMMARY:Critical Issues - Emerging Power Sources:
DESCRIPTION:Postulating Our Future\n3:00 pm – 4:30 pm\nRichard Scribner \nBook Now
URL:https://www.nassaucountycouncilonaging.org/calendar/critical-issues-emerging-power-sources/
LOCATION:Janice Ancrum Senior Life Center\, 1901 Island Walk Way\, Fernandina Beach\, FL\, 32034
CATEGORIES:Member Education
ATTACH;FMTTYPE=image/png:https://www.nassaucountycouncilonaging.org/wp-content/uploads/2022/09/world.png
END:VEVENT
BEGIN:VEVENT
DTSTART;TZID=America/New_York:20250605T090000
DTEND;TZID=America/New_York:20250605T100000
DTSTAMP:20260425T071409
CREATED:20250602T183206Z
LAST-MODIFIED:20250602T183206Z
UID:10013691-1749114000-1749117600@www.nassaucountycouncilonaging.org
SUMMARY:Hurricane Preparedness Workshop - FREE
DESCRIPTION:9:00 am – 10:00 am\nJami McCormick \nBook Now
URL:https://www.nassaucountycouncilonaging.org/calendar/hurricane-preparedness-workshop-free/
LOCATION:Janice Ancrum Senior Life Center\, 1901 Island Walk Way\, Fernandina Beach\, FL\, 32034
CATEGORIES:Member Education
ATTACH;FMTTYPE=image/png:https://www.nassaucountycouncilonaging.org/wp-content/uploads/2025/05/hurricane-icon.png
END:VEVENT
BEGIN:VEVENT
DTSTART;TZID=America/New_York:20250605T101500
DTEND;TZID=America/New_York:20250605T111500
DTSTAMP:20260425T071409
CREATED:20250602T183714Z
LAST-MODIFIED:20250602T183714Z
UID:10013692-1749118500-1749122100@www.nassaucountycouncilonaging.org
SUMMARY:Hurricane Preparedness Class
DESCRIPTION:10:15 am – 11:15 am\nJami McCormick \nBook Now
URL:https://www.nassaucountycouncilonaging.org/calendar/hurricane-preparedness-class/
LOCATION:Janice Ancrum Senior Life Center\, 1901 Island Walk Way\, Fernandina Beach\, FL\, 32034
CATEGORIES:Member Education
ATTACH;FMTTYPE=image/png:https://www.nassaucountycouncilonaging.org/wp-content/uploads/2025/05/hurricane-icon.png
END:VEVENT
BEGIN:VEVENT
DTSTART;TZID=America/New_York:20250924T140000
DTEND;TZID=America/New_York:20250924T150000
DTSTAMP:20260425T071409
CREATED:20250924T163402Z
LAST-MODIFIED:20250924T163402Z
UID:10014981-1758722400-1758726000@www.nassaucountycouncilonaging.org
SUMMARY:My Active Center Assistance - FREE
DESCRIPTION:2:00 pm – 3:00 pm\nCami Lawson \nBook Now
URL:https://www.nassaucountycouncilonaging.org/calendar/my-active-center-assistance-free/
LOCATION:Janice Ancrum Senior Life Center\, 1901 Island Walk Way\, Fernandina Beach\, FL\, 32034
CATEGORIES:Member Education
ATTACH;FMTTYPE=image/png:https://www.nassaucountycouncilonaging.org/wp-content/uploads/2025/09/active-center.png
END:VEVENT
BEGIN:VEVENT
DTSTART;TZID=America/New_York:20251015T140000
DTEND;TZID=America/New_York:20251015T150000
DTSTAMP:20260425T071409
CREATED:20251013T214805Z
LAST-MODIFIED:20251013T214805Z
UID:10016212-1760536800-1760540400@www.nassaucountycouncilonaging.org
SUMMARY:MyActiveCenter Assistance - FREE
DESCRIPTION:2:00 pm – 3:00 pm\nCami Lawson \nBook Now
URL:https://www.nassaucountycouncilonaging.org/calendar/myactivecenter-assistance-free/
LOCATION:Janice Ancrum Senior Life Center\, 1901 Island Walk Way\, Fernandina Beach\, FL\, 32034
CATEGORIES:Member Education
ATTACH;FMTTYPE=image/png:https://www.nassaucountycouncilonaging.org/wp-content/uploads/2025/09/active-center.png
END:VEVENT
BEGIN:VEVENT
DTSTART;TZID=America/New_York:20251020T153000
DTEND;TZID=America/New_York:20251020T170000
DTSTAMP:20260425T071409
CREATED:20251018T200316Z
LAST-MODIFIED:20251018T200316Z
UID:10016223-1760974200-1760979600@www.nassaucountycouncilonaging.org
SUMMARY:The Successful Caregiver
DESCRIPTION:3:30 pm – 5:00 pm\nJennifer Gundling \nDo you want to become a more educated caregiver? This support group is facilitated by a registered nurse and public health professional. Come ask questions relating to transportation\, nutrition\, medical equipment\, “awkward” topics and more. \nRegister with jgrundling@nassaucountycoa.org
URL:https://www.nassaucountycouncilonaging.org/calendar/the-successful-caregiver-6/2025-10-20/
LOCATION:Janice Ancrum Senior Life Center\, 1901 Island Walk Way\, Fernandina Beach\, FL\, 32034
CATEGORIES:Member Education
ATTACH;FMTTYPE=image/png:https://www.nassaucountycouncilonaging.org/wp-content/uploads/2025/03/successful-caregiver.png
END:VEVENT
BEGIN:VEVENT
DTSTART;TZID=America/New_York:20251117T153000
DTEND;TZID=America/New_York:20251117T170000
DTSTAMP:20260425T071409
CREATED:20251018T200316Z
LAST-MODIFIED:20251018T200316Z
UID:10016224-1763393400-1763398800@www.nassaucountycouncilonaging.org
SUMMARY:The Successful Caregiver
DESCRIPTION:3:30 pm – 5:00 pm\nJennifer Gundling \nDo you want to become a more educated caregiver? This support group is facilitated by a registered nurse and public health professional. Come ask questions relating to transportation\, nutrition\, medical equipment\, “awkward” topics and more. \nRegister with jgrundling@nassaucountycoa.org
URL:https://www.nassaucountycouncilonaging.org/calendar/the-successful-caregiver-6/2025-11-17/
LOCATION:Janice Ancrum Senior Life Center\, 1901 Island Walk Way\, Fernandina Beach\, FL\, 32034
CATEGORIES:Member Education
ATTACH;FMTTYPE=image/png:https://www.nassaucountycouncilonaging.org/wp-content/uploads/2025/03/successful-caregiver.png
END:VEVENT
BEGIN:VEVENT
DTSTART;TZID=America/New_York:20251215T153000
DTEND;TZID=America/New_York:20251215T170000
DTSTAMP:20260425T071409
CREATED:20251018T200316Z
LAST-MODIFIED:20251018T200316Z
UID:10016225-1765812600-1765818000@www.nassaucountycouncilonaging.org
SUMMARY:The Successful Caregiver
DESCRIPTION:3:30 pm – 5:00 pm\nJennifer Gundling \nDo you want to become a more educated caregiver? This support group is facilitated by a registered nurse and public health professional. Come ask questions relating to transportation\, nutrition\, medical equipment\, “awkward” topics and more. \nRegister with jgrundling@nassaucountycoa.org
URL:https://www.nassaucountycouncilonaging.org/calendar/the-successful-caregiver-6/2025-12-15/
LOCATION:Janice Ancrum Senior Life Center\, 1901 Island Walk Way\, Fernandina Beach\, FL\, 32034
CATEGORIES:Member Education
ATTACH;FMTTYPE=image/png:https://www.nassaucountycouncilonaging.org/wp-content/uploads/2025/03/successful-caregiver.png
END:VEVENT
END:VCALENDAR