BEGIN:VCALENDAR
VERSION:2.0
PRODID:-//Nassau County Council on Aging - ECPv6.15.20//NONSGML v1.0//EN
CALSCALE:GREGORIAN
METHOD:PUBLISH
X-ORIGINAL-URL:https://www.nassaucountycouncilonaging.org
X-WR-CALDESC:Events for Nassau County Council on Aging
REFRESH-INTERVAL;VALUE=DURATION:PT1H
X-Robots-Tag:noindex
X-PUBLISHED-TTL:PT1H
BEGIN:VTIMEZONE
TZID:America/New_York
BEGIN:DAYLIGHT
TZOFFSETFROM:-0500
TZOFFSETTO:-0400
TZNAME:EDT
DTSTART:20240310T070000
END:DAYLIGHT
BEGIN:STANDARD
TZOFFSETFROM:-0400
TZOFFSETTO:-0500
TZNAME:EST
DTSTART:20241103T060000
END:STANDARD
BEGIN:DAYLIGHT
TZOFFSETFROM:-0500
TZOFFSETTO:-0400
TZNAME:EDT
DTSTART:20250309T070000
END:DAYLIGHT
BEGIN:STANDARD
TZOFFSETFROM:-0400
TZOFFSETTO:-0500
TZNAME:EST
DTSTART:20251102T060000
END:STANDARD
BEGIN:DAYLIGHT
TZOFFSETFROM:-0500
TZOFFSETTO:-0400
TZNAME:EDT
DTSTART:20260308T070000
END:DAYLIGHT
BEGIN:STANDARD
TZOFFSETFROM:-0400
TZOFFSETTO:-0500
TZNAME:EST
DTSTART:20261101T060000
END:STANDARD
END:VTIMEZONE
BEGIN:VEVENT
DTSTART;TZID=America/New_York:20251211T100000
DTEND;TZID=America/New_York:20251211T110000
DTSTAMP:20260420T043657
CREATED:20251206T182826Z
LAST-MODIFIED:20251206T182829Z
UID:10015668-1765447200-1765450800@www.nassaucountycouncilonaging.org
SUMMARY:Sign Language Series
DESCRIPTION:10:00 am – 11:00 am\nLynn Freeman \nBook Now\n 
URL:https://www.nassaucountycouncilonaging.org/calendar/sign-language-series-4-12-14-14-15-9/
LOCATION:Janice Ancrum Senior Life Center\, 1901 Island Walk Way\, Fernandina Beach\, FL\, 32034
CATEGORIES:Language
ATTACH;FMTTYPE=image/png:https://www.nassaucountycouncilonaging.org/wp-content/uploads/2025/03/sign-language.png
END:VEVENT
BEGIN:VEVENT
DTSTART;TZID=America/New_York:20251211T100000
DTEND;TZID=America/New_York:20251211T110000
DTSTAMP:20260420T043657
CREATED:20251206T182933Z
LAST-MODIFIED:20251206T182944Z
UID:10015686-1765447200-1765450800@www.nassaucountycouncilonaging.org
SUMMARY:Spanish - Level 1 Basic
DESCRIPTION:10:00 am – 11:00 am\nMaria Hernandez \nBook Now\n 
URL:https://www.nassaucountycouncilonaging.org/calendar/spanish-level-1-basic-7-9/
LOCATION:Janice Ancrum Senior Life Center\, 1901 Island Walk Way\, Fernandina Beach\, FL\, 32034
CATEGORIES:Language
ATTACH;FMTTYPE=image/png:https://www.nassaucountycouncilonaging.org/wp-content/uploads/2022/11/sign-language.png
END:VEVENT
BEGIN:VEVENT
DTSTART;TZID=America/New_York:20251211T110000
DTEND;TZID=America/New_York:20251211T120000
DTSTAMP:20260420T043657
CREATED:20251206T183331Z
LAST-MODIFIED:20251206T183335Z
UID:10015738-1765450800-1765454400@www.nassaucountycouncilonaging.org
SUMMARY:Spanish - Level 2 Conversational
DESCRIPTION:11:00 am – 12:00 pm\nMaria Hernandez \nBook Now
URL:https://www.nassaucountycouncilonaging.org/calendar/spanish-level-2-conversational-7-9/
LOCATION:Janice Ancrum Senior Life Center\, 1901 Island Walk Way\, Fernandina Beach\, FL\, 32034
CATEGORIES:Language
ATTACH;FMTTYPE=image/png:https://www.nassaucountycouncilonaging.org/wp-content/uploads/2022/11/sign-language.png
END:VEVENT
END:VCALENDAR