BEGIN:VCALENDAR
VERSION:2.0
PRODID:-//Nassau County Council on Aging - ECPv6.15.20//NONSGML v1.0//EN
CALSCALE:GREGORIAN
METHOD:PUBLISH
X-WR-CALNAME:Nassau County Council on Aging
X-ORIGINAL-URL:https://www.nassaucountycouncilonaging.org
X-WR-CALDESC:Events for Nassau County Council on Aging
REFRESH-INTERVAL;VALUE=DURATION:PT1H
X-Robots-Tag:noindex
X-PUBLISHED-TTL:PT1H
BEGIN:VTIMEZONE
TZID:America/New_York
BEGIN:DAYLIGHT
TZOFFSETFROM:-0500
TZOFFSETTO:-0400
TZNAME:EDT
DTSTART:20240310T070000
END:DAYLIGHT
BEGIN:STANDARD
TZOFFSETFROM:-0400
TZOFFSETTO:-0500
TZNAME:EST
DTSTART:20241103T060000
END:STANDARD
BEGIN:DAYLIGHT
TZOFFSETFROM:-0500
TZOFFSETTO:-0400
TZNAME:EDT
DTSTART:20250309T070000
END:DAYLIGHT
BEGIN:STANDARD
TZOFFSETFROM:-0400
TZOFFSETTO:-0500
TZNAME:EST
DTSTART:20251102T060000
END:STANDARD
BEGIN:DAYLIGHT
TZOFFSETFROM:-0500
TZOFFSETTO:-0400
TZNAME:EDT
DTSTART:20260308T070000
END:DAYLIGHT
BEGIN:STANDARD
TZOFFSETFROM:-0400
TZOFFSETTO:-0500
TZNAME:EST
DTSTART:20261101T060000
END:STANDARD
END:VTIMEZONE
BEGIN:VEVENT
DTSTART;TZID=America/New_York:20251110T173000
DTEND;TZID=America/New_York:20251110T190000
DTSTAMP:20260422T005706
CREATED:20251108T180844Z
LAST-MODIFIED:20251108T180846Z
UID:10016155-1762795800-1762801200@www.nassaucountycouncilonaging.org
SUMMARY:Support Group: Grieving w/Hope
DESCRIPTION:5:30 pm – 7:00 pm\nJennifer Gundling \nShare stories and find support for those who have also lost a family member or close friend. \nBook via email: jgundling@nassaucountycoa.org
URL:https://www.nassaucountycouncilonaging.org/calendar/support-group-grieving-w-hope-10-3/
LOCATION:Janice Ancrum Senior Life Center\, 1901 Island Walk Way\, Fernandina Beach\, FL\, 32034
CATEGORIES:Health & Support
ATTACH;FMTTYPE=image/png:https://www.nassaucountycouncilonaging.org/wp-content/uploads/2023/06/GrievingWithHopeSized.png
END:VEVENT
BEGIN:VEVENT
DTSTART;TZID=America/New_York:20251110T161500
DTEND;TZID=America/New_York:20251110T171500
DTSTAMP:20260422T005706
CREATED:20251108T180720Z
LAST-MODIFIED:20251108T180722Z
UID:10016145-1762791300-1762794900@www.nassaucountycouncilonaging.org
SUMMARY:Yoga for the Grieving Heart
DESCRIPTION:4:15 pm – 5:15 pm\nTina LaVacca \nGrief Yoga® is accompanied by Restorative Yoga to aide in the release of physical pain and emotional struggle experienced through grief and loss. \nBook Now
URL:https://www.nassaucountycouncilonaging.org/calendar/yoga-for-the-grieving-heart-4-4/
LOCATION:Janice Ancrum Senior Life Center\, 1901 Island Walk Way\, Fernandina Beach\, FL\, 32034
CATEGORIES:Health & Support
ATTACH;FMTTYPE=image/png:https://www.nassaucountycouncilonaging.org/wp-content/uploads/2025/10/yoga-for-grieving-heart.png
END:VEVENT
BEGIN:VEVENT
DTSTART;TZID=America/New_York:20251107T110000
DTEND;TZID=America/New_York:20251107T123000
DTSTAMP:20260422T005706
CREATED:20251101T212302Z
LAST-MODIFIED:20251101T212304Z
UID:10014673-1762513200-1762518600@www.nassaucountycouncilonaging.org
SUMMARY:NAMI Mental Health Support Group
DESCRIPTION:National Alliance of Mental Illness (NAMI)\n11:00 am – 12:30 pm \nShare experiences with individuals\, family members and friends impacted by mental illness\nContact: NAMI Nassau\, 904-277-1886\nNational Alliance of Mental Illness \nBook Now
URL:https://www.nassaucountycouncilonaging.org/calendar/nami-mental-health-support-group-3-2-2-6-49-30-11-14-15-14-6/
LOCATION:Janice Ancrum Senior Life Center\, 1901 Island Walk Way\, Fernandina Beach\, FL\, 32034
CATEGORIES:Health & Support
ATTACH;FMTTYPE=image/png:https://www.nassaucountycouncilonaging.org/wp-content/uploads/2023/03/NAMISized.png
END:VEVENT
BEGIN:VEVENT
DTSTART;TZID=America/New_York:20251106T103000
DTEND;TZID=America/New_York:20251106T113000
DTSTAMP:20260422T005706
CREATED:20251101T210528Z
LAST-MODIFIED:20251101T210530Z
UID:10015702-1762425000-1762428600@www.nassaucountycouncilonaging.org
SUMMARY:Introduction to Qigong
DESCRIPTION:10:30 am – 11:30 am\nJohn Cipriani \nBook Now
URL:https://www.nassaucountycouncilonaging.org/calendar/qigong-healing-for-beginners-16-22-6/
LOCATION:Janice Ancrum Senior Life Center\, 1901 Island Walk Way\, Fernandina Beach\, FL\, 32034
CATEGORIES:Health & Support
ATTACH;FMTTYPE=image/png:https://www.nassaucountycouncilonaging.org/wp-content/uploads/2023/06/LungsSized.png
END:VEVENT
BEGIN:VEVENT
DTSTART;TZID=America/New_York:20251105T171500
DTEND;TZID=America/New_York:20251105T190000
DTSTAMP:20260422T005706
CREATED:20251101T205852Z
LAST-MODIFIED:20251101T205852Z
UID:10016265-1762362900-1762369200@www.nassaucountycouncilonaging.org
SUMMARY:Seeing Voices Hearing Signing Social Club - FREE
DESCRIPTION:5:15 pm – 7:00 pm\nLynn Freeman \nBook Now
URL:https://www.nassaucountycouncilonaging.org/calendar/seeing-voices-hearing-signing-social-club-free/
LOCATION:Janice Ancrum Senior Life Center\, 1901 Island Walk Way\, Fernandina Beach\, FL\, 32034
CATEGORIES:Health & Support
ATTACH;FMTTYPE=image/png:https://www.nassaucountycouncilonaging.org/wp-content/uploads/2025/05/seeing-hearing-icon.png
END:VEVENT
BEGIN:VEVENT
DTSTART;TZID=America/New_York:20251105T110000
DTEND;TZID=America/New_York:20251105T120000
DTSTAMP:20260422T005706
CREATED:20251101T202256Z
LAST-MODIFIED:20251101T204453Z
UID:10016264-1762340400-1762344000@www.nassaucountycouncilonaging.org
SUMMARY:Battling the Aging Brain
DESCRIPTION:11:00 am – 12:00 pm\nDr. Francis DeCandis \nBook Now
URL:https://www.nassaucountycouncilonaging.org/calendar/battling-the-aging-brain-2/
LOCATION:Janice Ancrum Senior Life Center\, 1901 Island Walk Way\, Fernandina Beach\, FL\, 32034
CATEGORIES:Health & Support
ATTACH;FMTTYPE=image/png:https://www.nassaucountycouncilonaging.org/wp-content/uploads/2025/03/brain-booster.png
END:VEVENT
BEGIN:VEVENT
DTSTART;TZID=America/New_York:20251104T120000
DTEND;TZID=America/New_York:20251104T133000
DTSTAMP:20260422T005706
CREATED:20251101T195928Z
LAST-MODIFIED:20251101T195929Z
UID:10014058-1762257600-1762263000@www.nassaucountycouncilonaging.org
SUMMARY:Support Group: Hearing Loss
DESCRIPTION:12:00 pm – 1:30 pm\nFrances Bartelt \nLoss of hearing can lead to feelings of isolation and frustration. Learn about assistive listening devices and /or lip-reading\, hearing aids and local resources. \nBook Now
URL:https://www.nassaucountycouncilonaging.org/calendar/support-group-hearing-loss-3-11/
LOCATION:Janice Ancrum Senior Life Center\, 1901 Island Walk Way\, Fernandina Beach\, FL\, 32034
CATEGORIES:Health & Support
ATTACH;FMTTYPE=image/png:https://www.nassaucountycouncilonaging.org/wp-content/uploads/2023/01/EarSized.png
END:VEVENT
BEGIN:VEVENT
DTSTART;TZID=America/New_York:20251031T110000
DTEND;TZID=America/New_York:20251031T123000
DTSTAMP:20260422T005706
CREATED:20251027T193347Z
LAST-MODIFIED:20251027T193351Z
UID:10014672-1761908400-1761913800@www.nassaucountycouncilonaging.org
SUMMARY:NAMI Mental Health Support Group
DESCRIPTION:National Alliance of Mental Illness (NAMI)\n11:00 am – 12:30 pm \nShare experiences with individuals\, family members and friends impacted by mental illness\nContact: NAMI Nassau\, 904-277-1886\nNational Alliance of Mental Illness \nBook Now
URL:https://www.nassaucountycouncilonaging.org/calendar/nami-mental-health-support-group-3-2-2-6-49-30-11-14-15-14-5/
LOCATION:Janice Ancrum Senior Life Center\, 1901 Island Walk Way\, Fernandina Beach\, FL\, 32034
CATEGORIES:Health & Support
ATTACH;FMTTYPE=image/png:https://www.nassaucountycouncilonaging.org/wp-content/uploads/2023/03/NAMISized.png
END:VEVENT
BEGIN:VEVENT
DTSTART;TZID=America/New_York:20251030T103000
DTEND;TZID=America/New_York:20251030T113000
DTSTAMP:20260422T005706
CREATED:20251027T190418Z
LAST-MODIFIED:20251027T190433Z
UID:10015701-1761820200-1761823800@www.nassaucountycouncilonaging.org
SUMMARY:Introduction to Qigong
DESCRIPTION:10:30 am – 11:30 am\nJohn Cipriani \nBook Now
URL:https://www.nassaucountycouncilonaging.org/calendar/qigong-healing-for-beginners-16-22-5/
LOCATION:Janice Ancrum Senior Life Center\, 1901 Island Walk Way\, Fernandina Beach\, FL\, 32034
CATEGORIES:Health & Support
ATTACH;FMTTYPE=image/png:https://www.nassaucountycouncilonaging.org/wp-content/uploads/2023/06/LungsSized.png
END:VEVENT
BEGIN:VEVENT
DTSTART;TZID=America/New_York:20251027T173000
DTEND;TZID=America/New_York:20251027T190000
DTSTAMP:20260422T005706
CREATED:20251027T180446Z
LAST-MODIFIED:20251027T180456Z
UID:10012803-1761586200-1761591600@www.nassaucountycouncilonaging.org
SUMMARY:Support Group: Grieving w/Hope
DESCRIPTION:5:30 pm – 7:00 pm\nJennifer Gundling \nRegister at jgundling@nassaucountycoa.org \nGrief is a universal – and most often misunderstood – experience. Learn about dealing with loss on your own personal healing journey. \nBook Now
URL:https://www.nassaucountycouncilonaging.org/calendar/support-group-grieving-w-hope-6-2-4-2/
LOCATION:Janice Ancrum Senior Life Center\, 1901 Island Walk Way\, Fernandina Beach\, FL\, 32034
CATEGORIES:Health & Support
ATTACH;FMTTYPE=image/png:https://www.nassaucountycouncilonaging.org/wp-content/uploads/2023/06/GrievingWithHopeSized.png
END:VEVENT
BEGIN:VEVENT
DTSTART;TZID=America/New_York:20251027T173000
DTEND;TZID=America/New_York:20251027T190000
DTSTAMP:20260422T005706
CREATED:20251013T181002Z
LAST-MODIFIED:20251013T181002Z
UID:10016159-1761586200-1761591600@www.nassaucountycouncilonaging.org
SUMMARY:Support Group: Grieving w/Hope
DESCRIPTION:5:30 pm – 7:00 pm\nJennifer Gundling \nShare stories and find support for those who have also lost a family member or close friend.
URL:https://www.nassaucountycouncilonaging.org/calendar/support-group-grieving-w-hope-11/
LOCATION:Janice Ancrum Senior Life Center\, 1901 Island Walk Way\, Fernandina Beach\, FL\, 32034
CATEGORIES:Health & Support
ATTACH;FMTTYPE=image/png:https://www.nassaucountycouncilonaging.org/wp-content/uploads/2023/06/GrievingWithHopeSized.png
END:VEVENT
BEGIN:VEVENT
DTSTART;TZID=America/New_York:20251027T143000
DTEND;TZID=America/New_York:20251027T160000
DTSTAMP:20260422T005706
CREATED:20251027T180924Z
LAST-MODIFIED:20251027T181039Z
UID:10016240-1761575400-1761580800@www.nassaucountycouncilonaging.org
SUMMARY:SHINE Medicare Presentation - FREE
DESCRIPTION:2:30 pm – 4:00 pm\nEmily Harris \nBook Now
URL:https://www.nassaucountycouncilonaging.org/calendar/shine-medicare-presentation-free/
LOCATION:Janice Ancrum Senior Life Center\, 1901 Island Walk Way\, Fernandina Beach\, FL\, 32034
CATEGORIES:Health & Support
ATTACH;FMTTYPE=image/png:https://www.nassaucountycouncilonaging.org/wp-content/uploads/2022/09/health-checks.png
END:VEVENT
BEGIN:VEVENT
DTSTART;TZID=America/New_York:20251024T110000
DTEND;TZID=America/New_York:20251024T123000
DTSTAMP:20260422T005706
CREATED:20251022T180337Z
LAST-MODIFIED:20251022T180340Z
UID:10014671-1761303600-1761309000@www.nassaucountycouncilonaging.org
SUMMARY:NAMI Mental Health Support Group
DESCRIPTION:National Alliance of Mental Illness (NAMI)\n11:00 am – 12:30 pm \nShare experiences with individuals\, family members and friends impacted by mental illness\nContact: NAMI Nassau\, 904-277-1886\nNational Alliance of Mental Illness \nBook Now
URL:https://www.nassaucountycouncilonaging.org/calendar/nami-mental-health-support-group-3-2-2-6-49-30-11-14-15-14-4/
LOCATION:Janice Ancrum Senior Life Center\, 1901 Island Walk Way\, Fernandina Beach\, FL\, 32034
CATEGORIES:Health & Support
ATTACH;FMTTYPE=image/png:https://www.nassaucountycouncilonaging.org/wp-content/uploads/2023/03/NAMISized.png
END:VEVENT
BEGIN:VEVENT
DTSTART;TZID=America/New_York:20251023T103000
DTEND;TZID=America/New_York:20251023T113000
DTSTAMP:20260422T005706
CREATED:20251022T173426Z
LAST-MODIFIED:20251022T173431Z
UID:10015700-1761215400-1761219000@www.nassaucountycouncilonaging.org
SUMMARY:Introduction to Qigong
DESCRIPTION:10:30 am – 11:30 am\nJohn Cipriani \nBook Now
URL:https://www.nassaucountycouncilonaging.org/calendar/qigong-healing-for-beginners-16-22-4/
LOCATION:Janice Ancrum Senior Life Center\, 1901 Island Walk Way\, Fernandina Beach\, FL\, 32034
CATEGORIES:Health & Support
ATTACH;FMTTYPE=image/png:https://www.nassaucountycouncilonaging.org/wp-content/uploads/2023/06/LungsSized.png
END:VEVENT
BEGIN:VEVENT
DTSTART;TZID=America/New_York:20251022T153000
DTEND;TZID=America/New_York:20251022T170000
DTSTAMP:20260422T005706
CREATED:20250106T222426Z
LAST-MODIFIED:20251022T165626Z
UID:10012431-1761147000-1761152400@www.nassaucountycouncilonaging.org
SUMMARY:Support Group: Caregivers
DESCRIPTION:Sustaining the unsung Heroes\n3:30 – 5:00 pm \nCaregiving has been described as both a labor of love and the most difficult job on the planet. Learn how to better deal with physical and emotional strain\, and get the relief you  need through validation\, self-care\, respite and resource sharing. \nVarious facilitators\nMore  information: Jennifer Gundling\, NCCOA Home Health\, Training & Caregiver Services Manager\, 904-775-5488 \nRegister with jgundling@nassaucountycoa.org\n 
URL:https://www.nassaucountycouncilonaging.org/calendar/support-group-caregivers-3/2025-10-22/
LOCATION:Janice Ancrum Senior Life Center\, 1901 Island Walk Way\, Fernandina Beach\, FL\, 32034
CATEGORIES:Health & Support
ATTACH;FMTTYPE=image/png:https://www.nassaucountycouncilonaging.org/wp-content/uploads/2023/06/CareSized.png
END:VEVENT
BEGIN:VEVENT
DTSTART;TZID=America/New_York:20251022T133000
DTEND;TZID=America/New_York:20251022T150000
DTSTAMP:20260422T005706
CREATED:20251022T165437Z
LAST-MODIFIED:20251022T165437Z
UID:10016229-1761139800-1761145200@www.nassaucountycouncilonaging.org
SUMMARY:Caregiver Stressbusters Forum - FREE
DESCRIPTION:1:30 pm – 3:00 pm\nJennifer Gundling \nPractice stress-reducing techniques\, find support from other caregivers\, reduce anxiety and improve quality of life. A respite activity for loved ones is available by reservation for a nominal fee for club members during the meeting. \nRegister with jgundling@nassaucountycoa.org
URL:https://www.nassaucountycouncilonaging.org/calendar/caregiver-stressbusters-forum-free-20/2025-10-22/
LOCATION:Janice Ancrum Senior Life Center\, 1901 Island Walk Way\, Fernandina Beach\, FL\, 32034
CATEGORIES:Health & Support
ATTACH;FMTTYPE=image/png:https://www.nassaucountycouncilonaging.org/wp-content/uploads/2025/03/caregiver.png
END:VEVENT
BEGIN:VEVENT
DTSTART;TZID=America/New_York:20251022T110000
DTEND;TZID=America/New_York:20251022T123000
DTSTAMP:20260422T005706
CREATED:20251022T170111Z
LAST-MODIFIED:20251022T170112Z
UID:10016234-1761130800-1761136200@www.nassaucountycouncilonaging.org
SUMMARY:Support Group: Low Vision
DESCRIPTION:11:00 am – 12:30 pm\nFrances Bartelt \nDiscuss latest adaptive devices and member experiences to assist with vision loss in daily living. \nBook Now
URL:https://www.nassaucountycouncilonaging.org/calendar/support-group-low-vision-4-2/
LOCATION:Janice Ancrum Senior Life Center\, 1901 Island Walk Way\, Fernandina Beach\, FL\, 32034
CATEGORIES:Health & Support
ATTACH;FMTTYPE=image/png:https://www.nassaucountycouncilonaging.org/wp-content/uploads/2023/03/LowVisionSized.png
END:VEVENT
BEGIN:VEVENT
DTSTART;TZID=America/New_York:20251021T140000
DTEND;TZID=America/New_York:20251021T160000
DTSTAMP:20260422T005706
CREATED:20251018T204655Z
LAST-MODIFIED:20251018T204655Z
UID:10016228-1761055200-1761062400@www.nassaucountycouncilonaging.org
SUMMARY:Honoring Choices
DESCRIPTION:2:00 pm – 4:00 pm\nCindy Newman \nBook Now
URL:https://www.nassaucountycouncilonaging.org/calendar/honoring-choices-17/
LOCATION:Janice Ancrum Senior Life Center\, 1901 Island Walk Way\, Fernandina Beach\, FL\, 32034
CATEGORIES:Health & Support
ATTACH;FMTTYPE=image/png:https://www.nassaucountycouncilonaging.org/wp-content/uploads/2022/12/honoring-choices.png
END:VEVENT
BEGIN:VEVENT
DTSTART;TZID=America/New_York:20251017T110000
DTEND;TZID=America/New_York:20251017T123000
DTSTAMP:20260422T005706
CREATED:20251013T224709Z
LAST-MODIFIED:20251013T224711Z
UID:10014670-1760698800-1760704200@www.nassaucountycouncilonaging.org
SUMMARY:NAMI Mental Health Support Group
DESCRIPTION:National Alliance of Mental Illness (NAMI)\n11:00 am – 12:30 pm \nShare experiences with individuals\, family members and friends impacted by mental illness\nContact: NAMI Nassau\, 904-277-1886\nNational Alliance of Mental Illness \nBook Now
URL:https://www.nassaucountycouncilonaging.org/calendar/nami-mental-health-support-group-3-2-2-6-49-30-11-14-15-14-3/
LOCATION:Janice Ancrum Senior Life Center\, 1901 Island Walk Way\, Fernandina Beach\, FL\, 32034
CATEGORIES:Health & Support
ATTACH;FMTTYPE=image/png:https://www.nassaucountycouncilonaging.org/wp-content/uploads/2023/03/NAMISized.png
END:VEVENT
BEGIN:VEVENT
DTSTART;TZID=America/New_York:20251016T103000
DTEND;TZID=America/New_York:20251016T113000
DTSTAMP:20260422T005706
CREATED:20251013T221813Z
LAST-MODIFIED:20251013T221814Z
UID:10015699-1760610600-1760614200@www.nassaucountycouncilonaging.org
SUMMARY:Introduction to Qigong
DESCRIPTION:10:30 am – 11:30 am\nJohn Cipriani \nBook Now
URL:https://www.nassaucountycouncilonaging.org/calendar/qigong-healing-for-beginners-16-22-3/
LOCATION:Janice Ancrum Senior Life Center\, 1901 Island Walk Way\, Fernandina Beach\, FL\, 32034
CATEGORIES:Health & Support
ATTACH;FMTTYPE=image/png:https://www.nassaucountycouncilonaging.org/wp-content/uploads/2023/06/LungsSized.png
END:VEVENT
BEGIN:VEVENT
DTSTART;TZID=America/New_York:20251016T100000
DTEND;TZID=America/New_York:20251016T110000
DTSTAMP:20260422T005706
CREATED:20251013T220439Z
LAST-MODIFIED:20251013T221651Z
UID:10016215-1760608800-1760612400@www.nassaucountycouncilonaging.org
SUMMARY:Support Group: Parkinson's - You Are Not Alone
DESCRIPTION:10:00 am – 11:00 am\nTina LaVacca \nOpen to individuals with Parkinson’s and their care partners to share experiences\, learn coping strategies and find encouragement. \nBook Now
URL:https://www.nassaucountycouncilonaging.org/calendar/support-group-parkinsons-you-are-not-alone-2/
LOCATION:Janice Ancrum Senior Life Center\, 1901 Island Walk Way\, Fernandina Beach\, FL\, 32034
CATEGORIES:Health & Support
ATTACH;FMTTYPE=image/png:https://www.nassaucountycouncilonaging.org/wp-content/uploads/2025/10/parkinson-icon1.png
END:VEVENT
BEGIN:VEVENT
DTSTART;TZID=America/New_York:20251013T173000
DTEND;TZID=America/New_York:20251013T190000
DTSTAMP:20260422T005706
CREATED:20251013T180832Z
LAST-MODIFIED:20251013T180834Z
UID:10016154-1760376600-1760382000@www.nassaucountycouncilonaging.org
SUMMARY:Support Group: Grieving w/Hope
DESCRIPTION:5:30 pm – 7:00 pm\nJennifer Gundling \nShare stories and find support for those who have also lost a family member or close friend. \nBook Now
URL:https://www.nassaucountycouncilonaging.org/calendar/support-group-grieving-w-hope-10-2/
LOCATION:Janice Ancrum Senior Life Center\, 1901 Island Walk Way\, Fernandina Beach\, FL\, 32034
CATEGORIES:Health & Support
ATTACH;FMTTYPE=image/png:https://www.nassaucountycouncilonaging.org/wp-content/uploads/2023/06/GrievingWithHopeSized.png
END:VEVENT
BEGIN:VEVENT
DTSTART;TZID=America/New_York:20251013T161500
DTEND;TZID=America/New_York:20251013T171500
DTSTAMP:20260422T005706
CREATED:20251013T180405Z
LAST-MODIFIED:20251013T180406Z
UID:10016144-1760372100-1760375700@www.nassaucountycouncilonaging.org
SUMMARY:Yoga for the Grieving Heart
DESCRIPTION:4:15 pm – 5:15 pm\nTina LaVacca \nGrief Yoga® is accompanied by Restorative Yoga to aide in the release of physical pain and emotional struggle experienced through grief and loss. \nBook Now
URL:https://www.nassaucountycouncilonaging.org/calendar/yoga-for-the-grieving-heart-4-2/
LOCATION:Janice Ancrum Senior Life Center\, 1901 Island Walk Way\, Fernandina Beach\, FL\, 32034
CATEGORIES:Health & Support
ATTACH;FMTTYPE=image/png:https://www.nassaucountycouncilonaging.org/wp-content/uploads/2025/08/yoga-icon.png
END:VEVENT
BEGIN:VEVENT
DTSTART;TZID=America/New_York:20251010T110000
DTEND;TZID=America/New_York:20251010T123000
DTSTAMP:20260422T005706
CREATED:20251007T152901Z
LAST-MODIFIED:20251007T152902Z
UID:10014669-1760094000-1760099400@www.nassaucountycouncilonaging.org
SUMMARY:NAMI Mental Health Support Group
DESCRIPTION:National Alliance of Mental Illness (NAMI)\n11:00 am – 12:30 pm \nShare experiences with individuals\, family members and friends impacted by mental illness\nContact: NAMI Nassau\, 904-277-1886\nNational Alliance of Mental Illness \nBook Now
URL:https://www.nassaucountycouncilonaging.org/calendar/nami-mental-health-support-group-3-2-2-6-49-30-11-14-15-14-2/
LOCATION:Janice Ancrum Senior Life Center\, 1901 Island Walk Way\, Fernandina Beach\, FL\, 32034
CATEGORIES:Health & Support
ATTACH;FMTTYPE=image/png:https://www.nassaucountycouncilonaging.org/wp-content/uploads/2023/03/NAMISized.png
END:VEVENT
BEGIN:VEVENT
DTSTART;TZID=America/New_York:20251010T100000
DTEND;TZID=America/New_York:20251010T110000
DTSTAMP:20260422T005706
CREATED:20251007T152045Z
LAST-MODIFIED:20251007T152045Z
UID:10015894-1760090400-1760094000@www.nassaucountycouncilonaging.org
SUMMARY:Brain Boosters:
DESCRIPTION:Eat Smarter for a Sharper Mind\n10:00 am – 11:00 am\nApril Blue Moseley \nBook Now
URL:https://www.nassaucountycouncilonaging.org/calendar/brain-boosters-16/
LOCATION:FSCJ Yulee\, 76346 William Burgess Blvd\, Yulee\, FL\, 32097\, United States
CATEGORIES:Culinary,Health & Support
ATTACH;FMTTYPE=image/png:https://www.nassaucountycouncilonaging.org/wp-content/uploads/2025/03/brain-booster.png
END:VEVENT
BEGIN:VEVENT
DTSTART;TZID=America/New_York:20251009T103000
DTEND;TZID=America/New_York:20251009T113000
DTSTAMP:20260422T005706
CREATED:20251007T143137Z
LAST-MODIFIED:20251007T143139Z
UID:10015698-1760005800-1760009400@www.nassaucountycouncilonaging.org
SUMMARY:Introduction to Qigong
DESCRIPTION:10:30 am – 11:30 am\nJohn Cipriani \nBook Now
URL:https://www.nassaucountycouncilonaging.org/calendar/qigong-healing-for-beginners-16-22-2/
LOCATION:Janice Ancrum Senior Life Center\, 1901 Island Walk Way\, Fernandina Beach\, FL\, 32034
CATEGORIES:Health & Support
ATTACH;FMTTYPE=image/png:https://www.nassaucountycouncilonaging.org/wp-content/uploads/2023/06/LungsSized.png
END:VEVENT
BEGIN:VEVENT
DTSTART;TZID=America/New_York:20251008T153000
DTEND;TZID=America/New_York:20251008T170000
DTSTAMP:20260422T005706
CREATED:20251006T223005Z
LAST-MODIFIED:20251006T223203Z
UID:10015601-1759937400-1759942800@www.nassaucountycouncilonaging.org
SUMMARY:Support Group: Caregivers
DESCRIPTION:3:30 pm – 5:00 pm\nJennifer Gundling \nRegister at:  jgundling@nassaucountycoa.org
URL:https://www.nassaucountycouncilonaging.org/calendar/support-group-caregivers-5/2025-10-08/
LOCATION:Janice Ancrum Senior Life Center\, 1901 Island Walk Way\, Fernandina Beach\, FL\, 32034
CATEGORIES:Health & Support
ATTACH;FMTTYPE=image/png:https://www.nassaucountycouncilonaging.org/wp-content/uploads/2022/09/caregiver-stressbuster.png
END:VEVENT
BEGIN:VEVENT
DTSTART;TZID=America/New_York:20251008T133000
DTEND;TZID=America/New_York:20251008T150000
DTSTAMP:20260422T005706
CREATED:20251006T223352Z
LAST-MODIFIED:20251006T223352Z
UID:10015606-1759930200-1759935600@www.nassaucountycouncilonaging.org
SUMMARY:Caregiver Stressbusters Forum - FREE
DESCRIPTION:1:30 pm – 3:00 pm\nJennifer Gundling \nRegister at:jgundling@nassaucountycoa.org
URL:https://www.nassaucountycouncilonaging.org/calendar/caregiver-stressbusters-forum-free-19/
LOCATION:Janice Ancrum Senior Life Center\, 1901 Island Walk Way\, Fernandina Beach\, FL\, 32034
CATEGORIES:Health & Support
ATTACH;FMTTYPE=image/png:https://www.nassaucountycouncilonaging.org/wp-content/uploads/2025/03/caregiver.png
END:VEVENT
BEGIN:VEVENT
DTSTART;TZID=America/New_York:20251007T120000
DTEND;TZID=America/New_York:20251007T133000
DTSTAMP:20260422T005706
CREATED:20251006T213055Z
LAST-MODIFIED:20251006T213057Z
UID:10014057-1759838400-1759843800@www.nassaucountycouncilonaging.org
SUMMARY:Support Group: Hearing Loss
DESCRIPTION:12:00 pm – 1:30 pm\nFrances Bartelt \nLoss of hearing can lead to feelings of isolation and frustration. Learn about assistive listening devices and /or lip-reading\, hearing aids and local resources. \nBook Now
URL:https://www.nassaucountycouncilonaging.org/calendar/support-group-hearing-loss-3-10/
LOCATION:Janice Ancrum Senior Life Center\, 1901 Island Walk Way\, Fernandina Beach\, FL\, 32034
CATEGORIES:Health & Support
ATTACH;FMTTYPE=image/png:https://www.nassaucountycouncilonaging.org/wp-content/uploads/2023/01/EarSized.png
END:VEVENT
BEGIN:VEVENT
DTSTART;TZID=America/New_York:20251003T110000
DTEND;TZID=America/New_York:20251003T123000
DTSTAMP:20260422T005706
CREATED:20250929T211311Z
LAST-MODIFIED:20250929T211313Z
UID:10014668-1759489200-1759494600@www.nassaucountycouncilonaging.org
SUMMARY:NAMI Mental Health Support Group
DESCRIPTION:National Alliance of Mental Illness (NAMI)\n11:00 am – 12:30 pm \nShare experiences with individuals\, family members and friends impacted by mental illness\nContact: NAMI Nassau\, 904-277-1886\nNational Alliance of Mental Illness \nBook Now
URL:https://www.nassaucountycouncilonaging.org/calendar/nami-mental-health-support-group-3-2-2-6-49-30-11-14-15-13/
LOCATION:Janice Ancrum Senior Life Center\, 1901 Island Walk Way\, Fernandina Beach\, FL\, 32034
CATEGORIES:Health & Support
ATTACH;FMTTYPE=image/png:https://www.nassaucountycouncilonaging.org/wp-content/uploads/2023/03/NAMISized.png
END:VEVENT
END:VCALENDAR