BEGIN:VCALENDAR
VERSION:2.0
PRODID:-//Nassau County Council on Aging - ECPv6.15.20//NONSGML v1.0//EN
CALSCALE:GREGORIAN
METHOD:PUBLISH
X-ORIGINAL-URL:https://www.nassaucountycouncilonaging.org
X-WR-CALDESC:Events for Nassau County Council on Aging
REFRESH-INTERVAL;VALUE=DURATION:PT1H
X-Robots-Tag:noindex
X-PUBLISHED-TTL:PT1H
BEGIN:VTIMEZONE
TZID:America/New_York
BEGIN:DAYLIGHT
TZOFFSETFROM:-0500
TZOFFSETTO:-0400
TZNAME:EDT
DTSTART:20240310T070000
END:DAYLIGHT
BEGIN:STANDARD
TZOFFSETFROM:-0400
TZOFFSETTO:-0500
TZNAME:EST
DTSTART:20241103T060000
END:STANDARD
BEGIN:DAYLIGHT
TZOFFSETFROM:-0500
TZOFFSETTO:-0400
TZNAME:EDT
DTSTART:20250309T070000
END:DAYLIGHT
BEGIN:STANDARD
TZOFFSETFROM:-0400
TZOFFSETTO:-0500
TZNAME:EST
DTSTART:20251102T060000
END:STANDARD
BEGIN:DAYLIGHT
TZOFFSETFROM:-0500
TZOFFSETTO:-0400
TZNAME:EDT
DTSTART:20260308T070000
END:DAYLIGHT
BEGIN:STANDARD
TZOFFSETFROM:-0400
TZOFFSETTO:-0500
TZNAME:EST
DTSTART:20261101T060000
END:STANDARD
BEGIN:DAYLIGHT
TZOFFSETFROM:-0500
TZOFFSETTO:-0400
TZNAME:EDT
DTSTART:20270314T070000
END:DAYLIGHT
BEGIN:STANDARD
TZOFFSETFROM:-0400
TZOFFSETTO:-0500
TZNAME:EST
DTSTART:20271107T060000
END:STANDARD
END:VTIMEZONE
BEGIN:VEVENT
DTSTART;TZID=America/New_York:20260109T110000
DTEND;TZID=America/New_York:20260109T123000
DTSTAMP:20260421T203020
CREATED:20251007T152830Z
LAST-MODIFIED:20251007T152833Z
UID:10015917-1767956400-1767961800@www.nassaucountycouncilonaging.org
SUMMARY:NAMI Mental Health Support Group
DESCRIPTION:National Alliance of Mental Illness (NAMI)\n11:00 am – 12:30 pm \nShare experiences with individuals\, family members and friends impacted by mental illness\nContact: NAMI Nassau\, 904-277-1886\nNational Alliance of Mental Illness
URL:https://www.nassaucountycouncilonaging.org/calendar/nami-mental-health-support-group-3-2-2-6-49-30-11-14-15-14/
LOCATION:Janice Ancrum Senior Life Center\, 1901 Island Walk Way\, Fernandina Beach\, FL\, 32034
CATEGORIES:Health & Support
ATTACH;FMTTYPE=image/png:https://www.nassaucountycouncilonaging.org/wp-content/uploads/2023/03/NAMISized.png
END:VEVENT
BEGIN:VEVENT
DTSTART;TZID=America/New_York:20260108T103000
DTEND;TZID=America/New_York:20260108T113000
DTSTAMP:20260421T203020
CREATED:20251007T143109Z
LAST-MODIFIED:20251007T143112Z
UID:10015711-1767868200-1767871800@www.nassaucountycouncilonaging.org
SUMMARY:Introduction to Qigong
DESCRIPTION:10:30 am – 11:30 am\nJohn Cipriani
URL:https://www.nassaucountycouncilonaging.org/calendar/qigong-healing-for-beginners-16-22/
LOCATION:Janice Ancrum Senior Life Center\, 1901 Island Walk Way\, Fernandina Beach\, FL\, 32034
CATEGORIES:Health & Support
ATTACH;FMTTYPE=image/png:https://www.nassaucountycouncilonaging.org/wp-content/uploads/2023/06/LungsSized.png
END:VEVENT
BEGIN:VEVENT
DTSTART;TZID=America/New_York:20260106T120000
DTEND;TZID=America/New_York:20260106T133000
DTSTAMP:20260421T203020
CREATED:20250203T214736Z
LAST-MODIFIED:20251006T213027Z
UID:10015321-1767700800-1767706200@www.nassaucountycouncilonaging.org
SUMMARY:Support Group: Hearing Loss
DESCRIPTION:12:00 pm – 1:30 pm\nFrances Bartelt \nLoss of hearing can lead to feelings of isolation and frustration. Learn about assistive listening devices and /or lip-reading\, hearing aids and local resources.
URL:https://www.nassaucountycouncilonaging.org/calendar/support-group-hearing-loss-3/2026-01-06/
LOCATION:Janice Ancrum Senior Life Center\, 1901 Island Walk Way\, Fernandina Beach\, FL\, 32034
CATEGORIES:Health & Support
ATTACH;FMTTYPE=image/png:https://www.nassaucountycouncilonaging.org/wp-content/uploads/2023/01/EarSized.png
END:VEVENT
BEGIN:VEVENT
DTSTART;TZID=America/New_York:20251223T140000
DTEND;TZID=America/New_York:20251223T150000
DTSTAMP:20260421T203020
CREATED:20251220T203633Z
LAST-MODIFIED:20251220T203633Z
UID:10016333-1766498400-1766502000@www.nassaucountycouncilonaging.org
SUMMARY:Memory Cafe
DESCRIPTION:2:00 pm – 3:00 pm\nJennifer Gundling \nBook via email:  jgundling@nassaucountycoa.org
URL:https://www.nassaucountycouncilonaging.org/calendar/memory-cafe-3/
LOCATION:Janice Ancrum Senior Life Center\, 1901 Island Walk Way\, Fernandina Beach\, FL\, 32034
CATEGORIES:Health & Support
ATTACH;FMTTYPE=image/png:https://www.nassaucountycouncilonaging.org/wp-content/uploads/2025/12/coffee-cup.png
END:VEVENT
BEGIN:VEVENT
DTSTART;TZID=America/New_York:20251222T173000
DTEND;TZID=America/New_York:20251222T190000
DTSTAMP:20260421T203020
CREATED:20251220T194502Z
LAST-MODIFIED:20251220T194505Z
UID:10016161-1766424600-1766430000@www.nassaucountycouncilonaging.org
SUMMARY:Support Group: Grieving w/Hope
DESCRIPTION:5:30 pm – 7:00 pm\nJennifer Gundling \nShare stories and find support for those who have also lost a family member or close friend. \nBook via email jgundling@nassaucountycoa.org
URL:https://www.nassaucountycouncilonaging.org/calendar/support-group-grieving-w-hope-11-3/2025-12-22/
LOCATION:Janice Ancrum Senior Life Center\, 1901 Island Walk Way\, Fernandina Beach\, FL\, 32034
CATEGORIES:Health & Support
ATTACH;FMTTYPE=image/png:https://www.nassaucountycouncilonaging.org/wp-content/uploads/2023/06/GrievingWithHopeSized.png
END:VEVENT
BEGIN:VEVENT
DTSTART;TZID=America/New_York:20251219T110000
DTEND;TZID=America/New_York:20251219T123000
DTSTAMP:20260421T203020
CREATED:20251215T175310Z
LAST-MODIFIED:20251215T175312Z
UID:10015914-1766142000-1766147400@www.nassaucountycouncilonaging.org
SUMMARY:NAMI Mental Health Support Group
DESCRIPTION:National Alliance of Mental Illness (NAMI)\n11:00 am – 12:30 pm \nShare experiences with individuals\, family members and friends impacted by mental illness\nContact: NAMI Nassau\, 904-277-1886\nNational Alliance of Mental Illness \nBook Now
URL:https://www.nassaucountycouncilonaging.org/calendar/nami-mental-health-support-group-3-2-2-6-49-30-11-14-15-14-11/
LOCATION:Janice Ancrum Senior Life Center\, 1901 Island Walk Way\, Fernandina Beach\, FL\, 32034
CATEGORIES:Health & Support
ATTACH;FMTTYPE=image/png:https://www.nassaucountycouncilonaging.org/wp-content/uploads/2023/03/NAMISized.png
END:VEVENT
BEGIN:VEVENT
DTSTART;TZID=America/New_York:20251218T103000
DTEND;TZID=America/New_York:20251218T113000
DTSTAMP:20260421T203020
CREATED:20251215T173105Z
LAST-MODIFIED:20251215T173107Z
UID:10015708-1766053800-1766057400@www.nassaucountycouncilonaging.org
SUMMARY:Introduction to Qigong
DESCRIPTION:10:30 am – 11:30 am\nJohn Cipriani \nBook Now
URL:https://www.nassaucountycouncilonaging.org/calendar/qigong-healing-for-beginners-16-22-11/
LOCATION:Janice Ancrum Senior Life Center\, 1901 Island Walk Way\, Fernandina Beach\, FL\, 32034
CATEGORIES:Health & Support
ATTACH;FMTTYPE=image/png:https://www.nassaucountycouncilonaging.org/wp-content/uploads/2023/06/LungsSized.png
END:VEVENT
BEGIN:VEVENT
DTSTART;TZID=America/New_York:20251218T100000
DTEND;TZID=America/New_York:20251218T110000
DTSTAMP:20260421T203020
CREATED:20251215T172734Z
LAST-MODIFIED:20251215T172737Z
UID:10016217-1766052000-1766055600@www.nassaucountycouncilonaging.org
SUMMARY:Support Group: Parkinson's - You Are Not Alone
DESCRIPTION:10:00 am – 11:00 am\nTina LaVacca \nOpen to individuals with Parkinson’s and their care partners to share experiences\, learn coping strategies and find encouragement. \nBook Now
URL:https://www.nassaucountycouncilonaging.org/calendar/support-group-parkinsons-you-are-not-alone-3/
LOCATION:Janice Ancrum Senior Life Center\, 1901 Island Walk Way\, Fernandina Beach\, FL\, 32034
CATEGORIES:Health & Support
ATTACH;FMTTYPE=image/png:https://www.nassaucountycouncilonaging.org/wp-content/uploads/2025/10/parkinson-icon1.png
END:VEVENT
BEGIN:VEVENT
DTSTART;TZID=America/New_York:20251217T153000
DTEND;TZID=America/New_York:20251217T170000
DTSTAMP:20260421T203020
CREATED:20251215T172235Z
LAST-MODIFIED:20251215T172235Z
UID:10016325-1765985400-1765990800@www.nassaucountycouncilonaging.org
SUMMARY:Support Group: Caregivers
DESCRIPTION:3:30 pm – 5:00 pm\nJennifer Gundling \nBook with jgundling@nassaucountycoa.org
URL:https://www.nassaucountycouncilonaging.org/calendar/support-group-caregivers-6/
LOCATION:Janice Ancrum Senior Life Center\, 1901 Island Walk Way\, Fernandina Beach\, FL\, 32034
CATEGORIES:Health & Support
ATTACH;FMTTYPE=image/png:https://www.nassaucountycouncilonaging.org/wp-content/uploads/2023/06/CareSized.png
END:VEVENT
BEGIN:VEVENT
DTSTART;TZID=America/New_York:20251217T133000
DTEND;TZID=America/New_York:20251217T150000
DTSTAMP:20260421T203020
CREATED:20251215T172101Z
LAST-MODIFIED:20251215T172101Z
UID:10016324-1765978200-1765983600@www.nassaucountycouncilonaging.org
SUMMARY:Caregiver Stressbusters Forum - FREE
DESCRIPTION:1:30 pm – 3:00 pm\nJennifer Gundling \nBook at jgundling@nassaucountycoa.org
URL:https://www.nassaucountycouncilonaging.org/calendar/caregiver-stressbusters-forum-free-23/
LOCATION:Janice Ancrum Senior Life Center\, 1901 Island Walk Way\, Fernandina Beach\, FL\, 32034
CATEGORIES:Health & Support
ATTACH;FMTTYPE=image/png:https://www.nassaucountycouncilonaging.org/wp-content/uploads/2025/03/caregiver.png
END:VEVENT
BEGIN:VEVENT
DTSTART;TZID=America/New_York:20251212T110000
DTEND;TZID=America/New_York:20251212T123000
DTSTAMP:20260421T203020
CREATED:20251206T185930Z
LAST-MODIFIED:20251206T185932Z
UID:10015913-1765537200-1765542600@www.nassaucountycouncilonaging.org
SUMMARY:NAMI Mental Health Support Group
DESCRIPTION:National Alliance of Mental Illness (NAMI)\n11:00 am – 12:30 pm \nShare experiences with individuals\, family members and friends impacted by mental illness\nContact: NAMI Nassau\, 904-277-1886\nNational Alliance of Mental Illness \nBook Now
URL:https://www.nassaucountycouncilonaging.org/calendar/nami-mental-health-support-group-3-2-2-6-49-30-11-14-15-14-10/
LOCATION:Janice Ancrum Senior Life Center\, 1901 Island Walk Way\, Fernandina Beach\, FL\, 32034
CATEGORIES:Health & Support
ATTACH;FMTTYPE=image/png:https://www.nassaucountycouncilonaging.org/wp-content/uploads/2023/03/NAMISized.png
END:VEVENT
BEGIN:VEVENT
DTSTART;TZID=America/New_York:20251212T090000
DTEND;TZID=America/New_York:20251212T100000
DTSTAMP:20260421T203020
CREATED:20251206T191303Z
LAST-MODIFIED:20251206T191303Z
UID:10016316-1765530000-1765533600@www.nassaucountycouncilonaging.org
SUMMARY:Heart Healthy Nutrition Habits - FREE
DESCRIPTION:9:00 am – 10:00 am\nYulee Emergency \nBook Now
URL:https://www.nassaucountycouncilonaging.org/calendar/heart-healthy-nutrition-habits-free/
LOCATION:Janice Ancrum Senior Life Center\, 1901 Island Walk Way\, Fernandina Beach\, FL\, 32034
CATEGORIES:Culinary,Health & Support
ATTACH;FMTTYPE=image/png:https://www.nassaucountycouncilonaging.org/wp-content/uploads/2023/01/cooking-food.png
END:VEVENT
BEGIN:VEVENT
DTSTART;TZID=America/New_York:20251211T103000
DTEND;TZID=America/New_York:20251211T113000
DTSTAMP:20260421T203020
CREATED:20251206T183202Z
LAST-MODIFIED:20251206T183206Z
UID:10015707-1765449000-1765452600@www.nassaucountycouncilonaging.org
SUMMARY:Introduction to Qigong
DESCRIPTION:10:30 am – 11:30 am\nJohn Cipriani \nBook Now
URL:https://www.nassaucountycouncilonaging.org/calendar/qigong-healing-for-beginners-16-22-10/
LOCATION:Janice Ancrum Senior Life Center\, 1901 Island Walk Way\, Fernandina Beach\, FL\, 32034
CATEGORIES:Health & Support
ATTACH;FMTTYPE=image/png:https://www.nassaucountycouncilonaging.org/wp-content/uploads/2023/06/LungsSized.png
END:VEVENT
BEGIN:VEVENT
DTSTART;TZID=America/New_York:20251210T153000
DTEND;TZID=America/New_York:20251210T170000
DTSTAMP:20260421T203020
CREATED:20251006T223005Z
LAST-MODIFIED:20251006T223203Z
UID:10015603-1765380600-1765386000@www.nassaucountycouncilonaging.org
SUMMARY:Support Group: Caregivers
DESCRIPTION:3:30 pm – 5:00 pm\nJennifer Gundling \nRegister at:  jgundling@nassaucountycoa.org
URL:https://www.nassaucountycouncilonaging.org/calendar/support-group-caregivers-5/2025-12-10/
LOCATION:Janice Ancrum Senior Life Center\, 1901 Island Walk Way\, Fernandina Beach\, FL\, 32034
CATEGORIES:Health & Support
ATTACH;FMTTYPE=image/png:https://www.nassaucountycouncilonaging.org/wp-content/uploads/2022/09/caregiver-stressbuster.png
END:VEVENT
BEGIN:VEVENT
DTSTART;TZID=America/New_York:20251210T133000
DTEND;TZID=America/New_York:20251210T150000
DTSTAMP:20260421T203020
CREATED:20251206T181944Z
LAST-MODIFIED:20251206T181944Z
UID:10016313-1765373400-1765378800@www.nassaucountycouncilonaging.org
SUMMARY:Caregiver Stressbusters Forum - FREE
DESCRIPTION:1:30 pm – 3:00 pm\nJennifer Gundling \nBook via email: jgundling@nassaucountycoa.org
URL:https://www.nassaucountycouncilonaging.org/calendar/caregiver-stressbusters-forum-free-22/
LOCATION:Janice Ancrum Senior Life Center\, 1901 Island Walk Way\, Fernandina Beach\, FL\, 32034
CATEGORIES:Health & Support
ATTACH;FMTTYPE=image/png:https://www.nassaucountycouncilonaging.org/wp-content/uploads/2025/03/caregiver.png
END:VEVENT
BEGIN:VEVENT
DTSTART;TZID=America/New_York:20251209T140000
DTEND;TZID=America/New_York:20251209T150000
DTSTAMP:20260421T203020
CREATED:20251206T171604Z
LAST-MODIFIED:20251206T171604Z
UID:10016312-1765288800-1765292400@www.nassaucountycouncilonaging.org
SUMMARY:Memory Cafe - FREE
DESCRIPTION:2:00 pm – 3:00 pm\nJennifer Gundling \nBook via email:  jgundling@nassaucountycoa.org
URL:https://www.nassaucountycouncilonaging.org/calendar/memory-cafe-free/
LOCATION:Janice Ancrum Senior Life Center\, 1901 Island Walk Way\, Fernandina Beach\, FL\, 32034
CATEGORIES:Health & Support
ATTACH;FMTTYPE=image/png:https://www.nassaucountycouncilonaging.org/wp-content/uploads/2025/12/coffee-cup.png
END:VEVENT
BEGIN:VEVENT
DTSTART;TZID=America/New_York:20251208T173000
DTEND;TZID=America/New_York:20251208T190000
DTSTAMP:20260421T203020
CREATED:20251013T180758Z
LAST-MODIFIED:20251206T164029Z
UID:10016156-1765215000-1765220400@www.nassaucountycouncilonaging.org
SUMMARY:Support Group: Grieving w/Hope
DESCRIPTION:5:30 pm – 7:00 pm\nJennifer Gundling \nShare stories and find support for those who have also lost a family member or close friend. \nBook via email:  jgundling@nassaucountycoa.org
URL:https://www.nassaucountycouncilonaging.org/calendar/support-group-grieving-w-hope-10/
LOCATION:Janice Ancrum Senior Life Center\, 1901 Island Walk Way\, Fernandina Beach\, FL\, 32034
CATEGORIES:Health & Support
ATTACH;FMTTYPE=image/png:https://www.nassaucountycouncilonaging.org/wp-content/uploads/2023/06/GrievingWithHopeSized.png
END:VEVENT
BEGIN:VEVENT
DTSTART;TZID=America/New_York:20251208T161500
DTEND;TZID=America/New_York:20251208T171500
DTSTAMP:20260421T203020
CREATED:20251206T163846Z
LAST-MODIFIED:20251206T163848Z
UID:10016146-1765210500-1765214100@www.nassaucountycouncilonaging.org
SUMMARY:Yoga for the Grieving Heart
DESCRIPTION:4:15 pm – 5:15 pm\nTina LaVacca \nGrief Yoga® is accompanied by Restorative Yoga to aide in the release of physical pain and emotional struggle experienced through grief and loss. \nBook Now
URL:https://www.nassaucountycouncilonaging.org/calendar/yoga-for-the-grieving-heart-4-5/
LOCATION:Janice Ancrum Senior Life Center\, 1901 Island Walk Way\, Fernandina Beach\, FL\, 32034
CATEGORIES:Health & Support
ATTACH;FMTTYPE=image/png:https://www.nassaucountycouncilonaging.org/wp-content/uploads/2025/10/yoga-for-grieving-heart.png
END:VEVENT
BEGIN:VEVENT
DTSTART;TZID=America/New_York:20251205T110000
DTEND;TZID=America/New_York:20251205T123000
DTSTAMP:20260421T203020
CREATED:20251201T220207Z
LAST-MODIFIED:20251201T220211Z
UID:10015912-1764932400-1764937800@www.nassaucountycouncilonaging.org
SUMMARY:NAMI Mental Health Support Group
DESCRIPTION:National Alliance of Mental Illness (NAMI)\n11:00 am – 12:30 pm \nShare experiences with individuals\, family members and friends impacted by mental illness\nContact: NAMI Nassau\, 904-277-1886\nNational Alliance of Mental Illness \nBook Now
URL:https://www.nassaucountycouncilonaging.org/calendar/nami-mental-health-support-group-3-2-2-6-49-30-11-14-15-14-9/
LOCATION:Janice Ancrum Senior Life Center\, 1901 Island Walk Way\, Fernandina Beach\, FL\, 32034
CATEGORIES:Health & Support
ATTACH;FMTTYPE=image/png:https://www.nassaucountycouncilonaging.org/wp-content/uploads/2023/03/NAMISized.png
END:VEVENT
BEGIN:VEVENT
DTSTART;TZID=America/New_York:20251204T103000
DTEND;TZID=America/New_York:20251204T113000
DTSTAMP:20260421T203020
CREATED:20251201T213311Z
LAST-MODIFIED:20251201T213314Z
UID:10015706-1764844200-1764847800@www.nassaucountycouncilonaging.org
SUMMARY:Introduction to Qigong
DESCRIPTION:10:30 am – 11:30 am\nJohn Cipriani \nBook Now
URL:https://www.nassaucountycouncilonaging.org/calendar/qigong-healing-for-beginners-16-22-9/
LOCATION:Janice Ancrum Senior Life Center\, 1901 Island Walk Way\, Fernandina Beach\, FL\, 32034
CATEGORIES:Health & Support
ATTACH;FMTTYPE=image/png:https://www.nassaucountycouncilonaging.org/wp-content/uploads/2023/06/LungsSized.png
END:VEVENT
BEGIN:VEVENT
DTSTART;TZID=America/New_York:20251203T110000
DTEND;TZID=America/New_York:20251203T120000
DTSTAMP:20260421T203020
CREATED:20251201T210949Z
LAST-MODIFIED:20251201T210949Z
UID:10016293-1764759600-1764763200@www.nassaucountycouncilonaging.org
SUMMARY:Support Group: Low Vision - FREE
DESCRIPTION:11:00 am – 12:00 pm\nFrances Bartelt \nBook Now
URL:https://www.nassaucountycouncilonaging.org/calendar/support-group-low-vision-free/
LOCATION:Janice Ancrum Senior Life Center\, 1901 Island Walk Way\, Fernandina Beach\, FL\, 32034
CATEGORIES:Health & Support
ATTACH;FMTTYPE=image/png:https://www.nassaucountycouncilonaging.org/wp-content/uploads/2023/03/LowVisionSized.png
END:VEVENT
BEGIN:VEVENT
DTSTART;TZID=America/New_York:20251202T120000
DTEND;TZID=America/New_York:20251202T133000
DTSTAMP:20260421T203020
CREATED:20251201T204142Z
LAST-MODIFIED:20251201T204144Z
UID:10015320-1764676800-1764682200@www.nassaucountycouncilonaging.org
SUMMARY:Support Group: Hearing Loss
DESCRIPTION:12:00 pm – 1:30 pm\nFrances Bartelt \nLoss of hearing can lead to feelings of isolation and frustration. Learn about assistive listening devices and /or lip-reading\, hearing aids and local resources. \nBook Now
URL:https://www.nassaucountycouncilonaging.org/calendar/support-group-hearing-loss-3-12/
LOCATION:Janice Ancrum Senior Life Center\, 1901 Island Walk Way\, Fernandina Beach\, FL\, 32034
CATEGORIES:Health & Support
ATTACH;FMTTYPE=image/png:https://www.nassaucountycouncilonaging.org/wp-content/uploads/2023/01/EarSized.png
END:VEVENT
BEGIN:VEVENT
DTSTART;TZID=America/New_York:20251126T153000
DTEND;TZID=America/New_York:20251126T170000
DTSTAMP:20260421T203020
CREATED:20250106T222426Z
LAST-MODIFIED:20251022T165626Z
UID:10012432-1764171000-1764176400@www.nassaucountycouncilonaging.org
SUMMARY:Support Group: Caregivers
DESCRIPTION:Sustaining the unsung Heroes\n3:30 – 5:00 pm \nCaregiving has been described as both a labor of love and the most difficult job on the planet. Learn how to better deal with physical and emotional strain\, and get the relief you  need through validation\, self-care\, respite and resource sharing. \nVarious facilitators\nMore  information: Jennifer Gundling\, NCCOA Home Health\, Training & Caregiver Services Manager\, 904-775-5488 \nRegister with jgundling@nassaucountycoa.org\n 
URL:https://www.nassaucountycouncilonaging.org/calendar/support-group-caregivers-3/2025-11-26/
LOCATION:Janice Ancrum Senior Life Center\, 1901 Island Walk Way\, Fernandina Beach\, FL\, 32034
CATEGORIES:Health & Support
ATTACH;FMTTYPE=image/png:https://www.nassaucountycouncilonaging.org/wp-content/uploads/2023/06/CareSized.png
END:VEVENT
BEGIN:VEVENT
DTSTART;TZID=America/New_York:20251126T133000
DTEND;TZID=America/New_York:20251126T150000
DTSTAMP:20260421T203020
CREATED:20251022T165437Z
LAST-MODIFIED:20251022T165437Z
UID:10016230-1764163800-1764169200@www.nassaucountycouncilonaging.org
SUMMARY:Caregiver Stressbusters Forum - FREE
DESCRIPTION:1:30 pm – 3:00 pm\nJennifer Gundling \nPractice stress-reducing techniques\, find support from other caregivers\, reduce anxiety and improve quality of life. A respite activity for loved ones is available by reservation for a nominal fee for club members during the meeting. \nRegister with jgundling@nassaucountycoa.org
URL:https://www.nassaucountycouncilonaging.org/calendar/caregiver-stressbusters-forum-free-20/2025-11-26/
LOCATION:Janice Ancrum Senior Life Center\, 1901 Island Walk Way\, Fernandina Beach\, FL\, 32034
CATEGORIES:Health & Support
ATTACH;FMTTYPE=image/png:https://www.nassaucountycouncilonaging.org/wp-content/uploads/2025/03/caregiver.png
END:VEVENT
BEGIN:VEVENT
DTSTART;TZID=America/New_York:20251124T173000
DTEND;TZID=America/New_York:20251124T190000
DTSTAMP:20260421T203020
CREATED:20251121T223943Z
LAST-MODIFIED:20251121T223946Z
UID:10016160-1764005400-1764010800@www.nassaucountycouncilonaging.org
SUMMARY:Support Group: Grieving w/Hope
DESCRIPTION:5:30 pm – 7:00 pm\nJennifer Gundling \nShare stories and find support for those who have also lost a family member or close friend. \nBook via email: jgundling@nassaucountycoa.org
URL:https://www.nassaucountycouncilonaging.org/calendar/support-group-grieving-w-hope-11-2/
LOCATION:Janice Ancrum Senior Life Center\, 1901 Island Walk Way\, Fernandina Beach\, FL\, 32034
CATEGORIES:Health & Support
ATTACH;FMTTYPE=image/png:https://www.nassaucountycouncilonaging.org/wp-content/uploads/2023/06/GrievingWithHopeSized.png
END:VEVENT
BEGIN:VEVENT
DTSTART;TZID=America/New_York:20251121T110000
DTEND;TZID=America/New_York:20251121T123000
DTSTAMP:20260421T203020
CREATED:20251116T213247Z
LAST-MODIFIED:20251116T213249Z
UID:10014675-1763722800-1763728200@www.nassaucountycouncilonaging.org
SUMMARY:NAMI Mental Health Support Group
DESCRIPTION:National Alliance of Mental Illness (NAMI)\n11:00 am – 12:30 pm \nShare experiences with individuals\, family members and friends impacted by mental illness\nContact: NAMI Nassau\, 904-277-1886\nNational Alliance of Mental Illness \nBook Now
URL:https://www.nassaucountycouncilonaging.org/calendar/nami-mental-health-support-group-3-2-2-6-49-30-11-14-15-14-8/
LOCATION:Janice Ancrum Senior Life Center\, 1901 Island Walk Way\, Fernandina Beach\, FL\, 32034
CATEGORIES:Health & Support
ATTACH;FMTTYPE=image/png:https://www.nassaucountycouncilonaging.org/wp-content/uploads/2023/03/NAMISized.png
END:VEVENT
BEGIN:VEVENT
DTSTART;TZID=America/New_York:20251114T110000
DTEND;TZID=America/New_York:20251114T123000
DTSTAMP:20260421T203020
CREATED:20251108T204812Z
LAST-MODIFIED:20251108T204843Z
UID:10014674-1763118000-1763123400@www.nassaucountycouncilonaging.org
SUMMARY:NAMI Mental Health Support Group
DESCRIPTION:National Alliance of Mental Illness (NAMI)\n11:00 am – 12:30 pm \nShare experiences with individuals\, family members and friends impacted by mental illness\nContact: NAMI Nassau\, 904-277-1886\nNational Alliance of Mental Illness \nBook Now
URL:https://www.nassaucountycouncilonaging.org/calendar/nami-mental-health-support-group-3-2-2-6-49-30-11-14-15-14-7/
LOCATION:Janice Ancrum Senior Life Center\, 1901 Island Walk Way\, Fernandina Beach\, FL\, 32034
CATEGORIES:Health & Support
ATTACH;FMTTYPE=image/png:https://www.nassaucountycouncilonaging.org/wp-content/uploads/2023/03/NAMISized.png
END:VEVENT
BEGIN:VEVENT
DTSTART;TZID=America/New_York:20251113T103000
DTEND;TZID=America/New_York:20251113T113000
DTSTAMP:20260421T203020
CREATED:20251108T194019Z
LAST-MODIFIED:20251108T194024Z
UID:10015703-1763029800-1763033400@www.nassaucountycouncilonaging.org
SUMMARY:Introduction to Qigong
DESCRIPTION:10:30 am – 11:30 am\nJohn Cipriani \nBook Now
URL:https://www.nassaucountycouncilonaging.org/calendar/qigong-healing-for-beginners-16-22-7/
LOCATION:Janice Ancrum Senior Life Center\, 1901 Island Walk Way\, Fernandina Beach\, FL\, 32034
CATEGORIES:Health & Support
ATTACH;FMTTYPE=image/png:https://www.nassaucountycouncilonaging.org/wp-content/uploads/2023/06/LungsSized.png
END:VEVENT
BEGIN:VEVENT
DTSTART;TZID=America/New_York:20251112T153000
DTEND;TZID=America/New_York:20251112T170000
DTSTAMP:20260421T203020
CREATED:20251006T223005Z
LAST-MODIFIED:20251006T223203Z
UID:10015602-1762961400-1762966800@www.nassaucountycouncilonaging.org
SUMMARY:Support Group: Caregivers
DESCRIPTION:3:30 pm – 5:00 pm\nJennifer Gundling \nRegister at:  jgundling@nassaucountycoa.org
URL:https://www.nassaucountycouncilonaging.org/calendar/support-group-caregivers-5/2025-11-12/
LOCATION:Janice Ancrum Senior Life Center\, 1901 Island Walk Way\, Fernandina Beach\, FL\, 32034
CATEGORIES:Health & Support
ATTACH;FMTTYPE=image/png:https://www.nassaucountycouncilonaging.org/wp-content/uploads/2022/09/caregiver-stressbuster.png
END:VEVENT
BEGIN:VEVENT
DTSTART;TZID=America/New_York:20251112T133000
DTEND;TZID=America/New_York:20251112T150000
DTSTAMP:20260421T203020
CREATED:20251108T192224Z
LAST-MODIFIED:20251108T192224Z
UID:10016283-1762954200-1762959600@www.nassaucountycouncilonaging.org
SUMMARY:Caregiver Stressbusters Forum - FREE
DESCRIPTION:1:30 pm – 3:00 pm\nJennifer Gundling \nRegister with jgundling@nassaucountycoa.org
URL:https://www.nassaucountycouncilonaging.org/calendar/caregiver-stressbusters-forum-free-21/
LOCATION:Janice Ancrum Senior Life Center\, 1901 Island Walk Way\, Fernandina Beach\, FL\, 32034
CATEGORIES:Health & Support
ATTACH;FMTTYPE=image/png:https://www.nassaucountycouncilonaging.org/wp-content/uploads/2025/03/caregiver.png
END:VEVENT
END:VCALENDAR