BEGIN:VCALENDAR
VERSION:2.0
PRODID:-//Nassau County Council on Aging - ECPv6.15.20//NONSGML v1.0//EN
CALSCALE:GREGORIAN
METHOD:PUBLISH
X-WR-CALNAME:Nassau County Council on Aging
X-ORIGINAL-URL:https://www.nassaucountycouncilonaging.org
X-WR-CALDESC:Events for Nassau County Council on Aging
REFRESH-INTERVAL;VALUE=DURATION:PT1H
X-Robots-Tag:noindex
X-PUBLISHED-TTL:PT1H
BEGIN:VTIMEZONE
TZID:America/New_York
BEGIN:DAYLIGHT
TZOFFSETFROM:-0500
TZOFFSETTO:-0400
TZNAME:EDT
DTSTART:20230312T070000
END:DAYLIGHT
BEGIN:STANDARD
TZOFFSETFROM:-0400
TZOFFSETTO:-0500
TZNAME:EST
DTSTART:20231105T060000
END:STANDARD
BEGIN:DAYLIGHT
TZOFFSETFROM:-0500
TZOFFSETTO:-0400
TZNAME:EDT
DTSTART:20240310T070000
END:DAYLIGHT
BEGIN:STANDARD
TZOFFSETFROM:-0400
TZOFFSETTO:-0500
TZNAME:EST
DTSTART:20241103T060000
END:STANDARD
BEGIN:DAYLIGHT
TZOFFSETFROM:-0500
TZOFFSETTO:-0400
TZNAME:EDT
DTSTART:20250309T070000
END:DAYLIGHT
BEGIN:STANDARD
TZOFFSETFROM:-0400
TZOFFSETTO:-0500
TZNAME:EST
DTSTART:20251102T060000
END:STANDARD
END:VTIMEZONE
BEGIN:VEVENT
DTSTART;TZID=America/New_York:20240419T090000
DTEND;TZID=America/New_York:20240419T100000
DTSTAMP:20260425T115009
CREATED:20240330T214052Z
LAST-MODIFIED:20240415T195832Z
UID:10008954-1713517200-1713520800@www.nassaucountycouncilonaging.org
SUMMARY:Diabetes and Your Eyes
DESCRIPTION:9 – 10 am\nRon Norman\, OD\nFlorida Eye Specialists \nBook Now
URL:https://www.nassaucountycouncilonaging.org/calendar/diabetes-and-your-eyes/
LOCATION:Janice Ancrum Senior Life Center\, 1901 Island Walk Way\, Fernandina Beach\, FL\, 32034
CATEGORIES:Health & Support,Wellness, Health & Fitness
ATTACH;FMTTYPE=image/png:https://www.nassaucountycouncilonaging.org/wp-content/uploads/2023/06/EyeSized.png
END:VEVENT
BEGIN:VEVENT
DTSTART;TZID=America/New_York:20240418T090000
DTEND;TZID=America/New_York:20240418T100000
DTSTAMP:20260425T115009
CREATED:20240330T213909Z
LAST-MODIFIED:20240415T193742Z
UID:10008953-1713430800-1713434400@www.nassaucountycouncilonaging.org
SUMMARY:Identifying an Managing Diabetes
DESCRIPTION:9 – 10 am\nCasey Hemphill\, RD\, LDN \nBook Now
URL:https://www.nassaucountycouncilonaging.org/calendar/identifying-an-managing-diabetes/
LOCATION:Janice Ancrum Senior Life Center\, 1901 Island Walk Way\, Fernandina Beach\, FL\, 32034
CATEGORIES:Health & Support,Wellness, Health & Fitness
ATTACH;FMTTYPE=image/png:https://www.nassaucountycouncilonaging.org/wp-content/uploads/2023/10/HealthyBodySized-1.png
END:VEVENT
BEGIN:VEVENT
DTSTART;TZID=America/New_York:20240417T124500
DTEND;TZID=America/New_York:20240417T134500
DTSTAMP:20260425T115009
CREATED:20240330T213652Z
LAST-MODIFIED:20240415T190316Z
UID:10008952-1713357900-1713361500@www.nassaucountycouncilonaging.org
SUMMARY:Planting Seeds of Joy in Life
DESCRIPTION:12:45 – 1:45 pm\nAdrienne Talbert\, Oasis Senior Advisors \nBook Now
URL:https://www.nassaucountycouncilonaging.org/calendar/planting-seeds-of-joy-in-life/
LOCATION:Janice Ancrum Senior Life Center\, 1901 Island Walk Way\, Fernandina Beach\, FL\, 32034
CATEGORIES:Health & Support,Wellness, Health & Fitness
ATTACH;FMTTYPE=image/png:https://www.nassaucountycouncilonaging.org/wp-content/uploads/2022/09/gardening.png
END:VEVENT
BEGIN:VEVENT
DTSTART;TZID=America/New_York:20240412T110000
DTEND;TZID=America/New_York:20240412T123000
DTSTAMP:20260425T115009
CREATED:20240408T231124Z
LAST-MODIFIED:20240408T231127Z
UID:10004318-1712919600-1712925000@www.nassaucountycouncilonaging.org
SUMMARY:NAMI Mental Health Support Group
DESCRIPTION:National Alliance of Mental Illness (NAMI)\n11:00 am – 12:30 pm \nShare experiences with individuals\, family members and friends impacted by mental illness\nContact: NAMI Nassau\, 904-277-1886\nNational Alliance of Mental Illness \nBook Now
URL:https://www.nassaucountycouncilonaging.org/calendar/nami-mental-health-support-group-3-2-2-6-49-5/
LOCATION:Janice Ancrum Senior Life Center\, 1901 Island Walk Way\, Fernandina Beach\, FL\, 32034
CATEGORIES:Health & Support
ATTACH;FMTTYPE=image/png:https://www.nassaucountycouncilonaging.org/wp-content/uploads/2023/03/NAMISized.png
END:VEVENT
BEGIN:VEVENT
DTSTART;TZID=America/New_York:20240411T140000
DTEND;TZID=America/New_York:20240411T150000
DTSTAMP:20260425T115009
CREATED:20240408T230118Z
LAST-MODIFIED:20240408T230134Z
UID:10008968-1712844000-1712847600@www.nassaucountycouncilonaging.org
SUMMARY:Where Did I Park my Car?
DESCRIPTION:2:00 pm – 3:00 pm\nBarbara Bruce \nBook Now
URL:https://www.nassaucountycouncilonaging.org/calendar/where-did-i-park-my-car-3/
LOCATION:Janice Ancrum Senior Life Center\, 1901 Island Walk Way\, Fernandina Beach\, FL\, 32034
CATEGORIES:Health & Support
ATTACH;FMTTYPE=image/png:https://www.nassaucountycouncilonaging.org/wp-content/uploads/2022/11/dementia.png
END:VEVENT
BEGIN:VEVENT
DTSTART;TZID=America/New_York:20240410T153000
DTEND;TZID=America/New_York:20240410T170000
DTSTAMP:20260425T115009
CREATED:20240325T212004Z
LAST-MODIFIED:20240325T212004Z
UID:10008715-1712763000-1712768400@www.nassaucountycouncilonaging.org
SUMMARY:Support Group
DESCRIPTION:Caregiver Support Group\nOffers support and education for caregivers. Respite care is available for loved ones. Guest speakers are often featured. \n3:30 – 5 pm\nContact Emily Kunzelmann | 904-775-5472 or ekunzelmann@nassaucountycoa.org
URL:https://www.nassaucountycouncilonaging.org/calendar/support-group-25/2024-04-10/
LOCATION:Janice Ancrum Senior Life Center\, 1901 Island Walk Way\, Fernandina Beach\, FL\, 32034
CATEGORIES:Health & Support
ATTACH;FMTTYPE=image/png:https://www.nassaucountycouncilonaging.org/wp-content/uploads/2023/06/CareSized.png
END:VEVENT
BEGIN:VEVENT
DTSTART;TZID=America/New_York:20240410T133000
DTEND;TZID=America/New_York:20240410T150000
DTSTAMP:20260425T115009
CREATED:20240408T224425Z
LAST-MODIFIED:20240408T224425Z
UID:10008967-1712755800-1712761200@www.nassaucountycouncilonaging.org
SUMMARY:Caregiver Stressbuster Forum
DESCRIPTION:1:30 pm – 3:00 pm\nEmily Kunzelmann & Jennifer Gundling \nekunzelmann@nassaucountycoa.org
URL:https://www.nassaucountycouncilonaging.org/calendar/caregiver-stressbuster-forum/
LOCATION:Janice Ancrum Senior Life Center\, 1901 Island Walk Way\, Fernandina Beach\, FL\, 32034
CATEGORIES:Health & Support
ATTACH;FMTTYPE=image/png:https://www.nassaucountycouncilonaging.org/wp-content/uploads/2023/06/CareSized.png
END:VEVENT
BEGIN:VEVENT
DTSTART;TZID=America/New_York:20240408T173000
DTEND;TZID=America/New_York:20240408T190000
DTSTAMP:20260425T115009
CREATED:20240325T203951Z
LAST-MODIFIED:20240325T203951Z
UID:10008692-1712597400-1712602800@www.nassaucountycouncilonaging.org
SUMMARY:Support Group: Grieving with Hope
DESCRIPTION:5:30 pm – 7:00 pm\nEmily Kunzelmann\nekunzelmann@nassaucountycoa.org \nHelps those who have experienced the loss of a family member or close friend as you connect with others in similar situations. Experienced facilitators and presenters are often featured. \n 
URL:https://www.nassaucountycouncilonaging.org/calendar/support-group-grieving-with-hope-9/2024-04-08/
LOCATION:Janice Ancrum Senior Life Center\, 1901 Island Walk Way\, Fernandina Beach\, FL\, 32034
CATEGORIES:Health & Support
ATTACH;FMTTYPE=image/png:https://www.nassaucountycouncilonaging.org/wp-content/uploads/2023/06/GrievingWithHopeSized.png
END:VEVENT
BEGIN:VEVENT
DTSTART;TZID=America/New_York:20240405T110000
DTEND;TZID=America/New_York:20240405T123000
DTSTAMP:20260425T115009
CREATED:20240330T203946Z
LAST-MODIFIED:20240330T203948Z
UID:10004317-1712314800-1712320200@www.nassaucountycouncilonaging.org
SUMMARY:NAMI Mental Health Support Group
DESCRIPTION:National Alliance of Mental Illness (NAMI)\n11:00 am – 12:30 pm \nShare experiences with individuals\, family members and friends impacted by mental illness\nContact: NAMI Nassau\, 904-277-1886\nNational Alliance of Mental Illness \nBook Now
URL:https://www.nassaucountycouncilonaging.org/calendar/nami-mental-health-support-group-3-2-2-6-49-4/
LOCATION:Janice Ancrum Senior Life Center\, 1901 Island Walk Way\, Fernandina Beach\, FL\, 32034
CATEGORIES:Health & Support
ATTACH;FMTTYPE=image/png:https://www.nassaucountycouncilonaging.org/wp-content/uploads/2023/03/NAMISized.png
END:VEVENT
BEGIN:VEVENT
DTSTART;TZID=America/New_York:20240402T120000
DTEND;TZID=America/New_York:20240402T133000
DTSTAMP:20260425T115009
CREATED:20240330T192200Z
LAST-MODIFIED:20240330T192201Z
UID:10007437-1712059200-1712064600@www.nassaucountycouncilonaging.org
SUMMARY:Support Group
DESCRIPTION:Support Group: Hearing Loss\nGroup discussions focus on hearing loss\, how hearing loss impacts everyday living\, your brain and your ability to keep socially engaged and live a fulfilling life. \n12:00 pm – 1:30 pm\nFrances Bartelt\, Facilitator | 904-775-5484  |  fbartelt@nassaucountycoa.org \nBook Now
URL:https://www.nassaucountycouncilonaging.org/calendar/support-group-16-2-7-5-5/
LOCATION:Janice Ancrum Senior Life Center\, 1901 Island Walk Way\, Fernandina Beach\, FL\, 32034
CATEGORIES:Health & Support
ATTACH;FMTTYPE=image/png:https://www.nassaucountycouncilonaging.org/wp-content/uploads/2023/01/EarSized.png
END:VEVENT
BEGIN:VEVENT
DTSTART;TZID=America/New_York:20240329T110000
DTEND;TZID=America/New_York:20240329T123000
DTSTAMP:20260425T115009
CREATED:20240325T215801Z
LAST-MODIFIED:20240325T215801Z
UID:10004316-1711710000-1711715400@www.nassaucountycouncilonaging.org
SUMMARY:NAMI Mental Health Support Group
DESCRIPTION:National Alliance of Mental Illness (NAMI)\n11:00 am – 12:30 pm \nShare experiences with individuals\, family members and friends impacted by mental illness\nContact: NAMI Nassau\, 904-277-1886\nNational Alliance of Mental Illness \nBook Now
URL:https://www.nassaucountycouncilonaging.org/calendar/nami-mental-health-support-group-3-2-2-6-49-3/
LOCATION:Janice Ancrum Senior Life Center\, 1901 Island Walk Way\, Fernandina Beach\, FL\, 32034
CATEGORIES:Health & Support
ATTACH;FMTTYPE=image/png:https://www.nassaucountycouncilonaging.org/wp-content/uploads/2023/03/NAMISized.png
END:VEVENT
BEGIN:VEVENT
DTSTART;TZID=America/New_York:20240328T140000
DTEND;TZID=America/New_York:20240328T150000
DTSTAMP:20260425T115009
CREATED:20240325T214920Z
LAST-MODIFIED:20240325T214920Z
UID:10008735-1711634400-1711638000@www.nassaucountycouncilonaging.org
SUMMARY:Health Series
DESCRIPTION:Ways to Combat Memory Disorders\n2:00 pm – 3:00 pm\nCari Eyre \nBook Now
URL:https://www.nassaucountycouncilonaging.org/calendar/health-series-7/
LOCATION:Janice Ancrum Senior Life Center\, 1901 Island Walk Way\, Fernandina Beach\, FL\, 32034
CATEGORIES:Health & Support
ATTACH;FMTTYPE=image/png:https://www.nassaucountycouncilonaging.org/wp-content/uploads/2022/11/dementia.png
END:VEVENT
BEGIN:VEVENT
DTSTART;TZID=America/New_York:20240327T153000
DTEND;TZID=America/New_York:20240327T170000
DTSTAMP:20260425T115009
CREATED:20230626T191415Z
LAST-MODIFIED:20240325T211458Z
UID:10006909-1711553400-1711558800@www.nassaucountycouncilonaging.org
SUMMARY:Support Group:
DESCRIPTION:Caregiver Support Group\nOffers support and education for caregivers. Respite care is available for loved ones. Guest speakers are often featured. \n3:30 – 5 pm\nContact Emily Kunzelmann | 904-775-5472 or ekunzelmann@nassaucountycoa.org
URL:https://www.nassaucountycouncilonaging.org/calendar/support-group-17-5/2024-03-27/
LOCATION:Janice Ancrum Senior Life Center\, 1901 Island Walk Way\, Fernandina Beach\, FL\, 32034
CATEGORIES:Health & Support
ATTACH;FMTTYPE=image/png:https://www.nassaucountycouncilonaging.org/wp-content/uploads/2023/06/CareSized.png
END:VEVENT
BEGIN:VEVENT
DTSTART;TZID=America/New_York:20240327T110000
DTEND;TZID=America/New_York:20240327T123000
DTSTAMP:20260425T115009
CREATED:20240325T210719Z
LAST-MODIFIED:20240325T210719Z
UID:10006857-1711537200-1711542600@www.nassaucountycouncilonaging.org
SUMMARY:Support Group:
DESCRIPTION:Low Vision\nProvides information and adaptive devices and encourages members with vision challenges to share experiences through group discussions and guest speaker presentations. \n11:00 am – 12:30 pm\nFacilitator – Frances Bartelt\, 904-775-5484\, fbartelt@nassaucountycoa.org \nBook Now
URL:https://www.nassaucountycouncilonaging.org/calendar/support-group-15-2-2-2-14/
LOCATION:Janice Ancrum Senior Life Center\, 1901 Island Walk Way\, Fernandina Beach\, FL\, 32034
CATEGORIES:Health & Support
ATTACH;FMTTYPE=image/png:https://www.nassaucountycouncilonaging.org/wp-content/uploads/2023/03/LowVisionSized.png
END:VEVENT
BEGIN:VEVENT
DTSTART;TZID=America/New_York:20240325T173000
DTEND;TZID=America/New_York:20240325T190000
DTSTAMP:20260425T115009
CREATED:20240325T203631Z
LAST-MODIFIED:20240325T203734Z
UID:10008686-1711387800-1711393200@www.nassaucountycouncilonaging.org
SUMMARY:Support Group: Grieving with Hope
DESCRIPTION:5:30 pm – 7:00 pm\nEmily Kunzelmann\nekunzelmann@nassaucountycoa.org \nHelps those who have experienced the loss of a family member or close friend as you connect with others in similar situations. Experienced facilitators and presenters are often featured. \n  \n 
URL:https://www.nassaucountycouncilonaging.org/calendar/support-group-grieving-with-hope-8/2024-03-25/
LOCATION:Janice Ancrum Senior Life Center\, 1901 Island Walk Way\, Fernandina Beach\, FL\, 32034
CATEGORIES:Health & Support
ATTACH;FMTTYPE=image/png:https://www.nassaucountycouncilonaging.org/wp-content/uploads/2023/06/GrievingWithHopeSized.png
END:VEVENT
BEGIN:VEVENT
DTSTART;TZID=America/New_York:20240322T110000
DTEND;TZID=America/New_York:20240322T123000
DTSTAMP:20260425T115009
CREATED:20240318T222608Z
LAST-MODIFIED:20240318T222609Z
UID:10004315-1711105200-1711110600@www.nassaucountycouncilonaging.org
SUMMARY:NAMI Mental Health Support Group
DESCRIPTION:National Alliance of Mental Illness (NAMI)\n11:00 am – 12:30 pm \nShare experiences with individuals\, family members and friends impacted by mental illness\nContact: NAMI Nassau\, 904-277-1886\nNational Alliance of Mental Illness \nBook Now
URL:https://www.nassaucountycouncilonaging.org/calendar/nami-mental-health-support-group-3-2-2-6-49-2/
LOCATION:Janice Ancrum Senior Life Center\, 1901 Island Walk Way\, Fernandina Beach\, FL\, 32034
CATEGORIES:Health & Support
ATTACH;FMTTYPE=image/png:https://www.nassaucountycouncilonaging.org/wp-content/uploads/2023/03/NAMISized.png
END:VEVENT
BEGIN:VEVENT
DTSTART;TZID=America/New_York:20240321T140000
DTEND;TZID=America/New_York:20240321T150000
DTSTAMP:20260425T115009
CREATED:20240318T220456Z
LAST-MODIFIED:20240318T220456Z
UID:10008483-1711029600-1711033200@www.nassaucountycouncilonaging.org
SUMMARY:Exercising Your Mind
DESCRIPTION:Habits of Successful Brains\n2:00 pm – 3:00 pm\nMeg McAlpine \nBook Now
URL:https://www.nassaucountycouncilonaging.org/calendar/exercising-your-mind/
LOCATION:Janice Ancrum Senior Life Center\, 1901 Island Walk Way\, Fernandina Beach\, FL\, 32034
CATEGORIES:Health & Support
ATTACH;FMTTYPE=image/png:https://www.nassaucountycouncilonaging.org/wp-content/uploads/2022/11/dementia.png
END:VEVENT
BEGIN:VEVENT
DTSTART;TZID=America/New_York:20240315T130000
DTEND;TZID=America/New_York:20240315T150000
DTSTAMP:20260425T115009
CREATED:20240311T192557Z
LAST-MODIFIED:20240311T192557Z
UID:10008024-1710507600-1710514800@www.nassaucountycouncilonaging.org
SUMMARY:Honoring Choices
DESCRIPTION:1:00 pm – 3:00 pm\nCindy Newman \nBook Now
URL:https://www.nassaucountycouncilonaging.org/calendar/honoring-choices-11/
LOCATION:Janice Ancrum Senior Life Center\, 1901 Island Walk Way\, Fernandina Beach\, FL\, 32034
CATEGORIES:Health & Support
ATTACH;FMTTYPE=image/png:https://www.nassaucountycouncilonaging.org/wp-content/uploads/2022/12/honoring-choices.png
END:VEVENT
BEGIN:VEVENT
DTSTART;TZID=America/New_York:20240315T110000
DTEND;TZID=America/New_York:20240315T123000
DTSTAMP:20260425T115009
CREATED:20240311T190714Z
LAST-MODIFIED:20240311T190714Z
UID:10004314-1710500400-1710505800@www.nassaucountycouncilonaging.org
SUMMARY:NAMI Mental Health Support Group
DESCRIPTION:National Alliance of Mental Illness (NAMI)\n11:00 am – 12:30 pm \nShare experiences with individuals\, family members and friends impacted by mental illness\nContact: NAMI Nassau\, 904-277-1886\nNational Alliance of Mental Illness \nBook Now
URL:https://www.nassaucountycouncilonaging.org/calendar/nami-mental-health-support-group-3-2-2-6-48/
LOCATION:Janice Ancrum Senior Life Center\, 1901 Island Walk Way\, Fernandina Beach\, FL\, 32034
CATEGORIES:Health & Support
ATTACH;FMTTYPE=image/png:https://www.nassaucountycouncilonaging.org/wp-content/uploads/2023/03/NAMISized.png
END:VEVENT
BEGIN:VEVENT
DTSTART;TZID=America/New_York:20240314T140000
DTEND;TZID=America/New_York:20240314T150000
DTSTAMP:20260425T115009
CREATED:20240311T185826Z
LAST-MODIFIED:20240311T185826Z
UID:10008023-1710424800-1710428400@www.nassaucountycouncilonaging.org
SUMMARY:Brain Health Series:
DESCRIPTION:Music/Dance & the Brain\n2:00 pm – 3:00 pm\nBarbara Bruce \nBook Now
URL:https://www.nassaucountycouncilonaging.org/calendar/brain-health-series-3/
LOCATION:Janice Ancrum Senior Life Center\, 1901 Island Walk Way\, Fernandina Beach\, FL\, 32034
CATEGORIES:Health & Support
ATTACH;FMTTYPE=image/png:https://www.nassaucountycouncilonaging.org/wp-content/uploads/2022/11/dementia.png
END:VEVENT
BEGIN:VEVENT
DTSTART;TZID=America/New_York:20240313T153000
DTEND;TZID=America/New_York:20240313T170000
DTSTAMP:20260425T115009
CREATED:20240311T174754Z
LAST-MODIFIED:20240311T174754Z
UID:10008021-1710343800-1710349200@www.nassaucountycouncilonaging.org
SUMMARY:Support Group: Caregivers
DESCRIPTION:3:30 pm – 5:00 pm\nEmily Kunzelmann \nekunzelmann@nassaucountycoa.org
URL:https://www.nassaucountycouncilonaging.org/calendar/support-group-caregivers-2/
LOCATION:Janice Ancrum Senior Life Center\, 1901 Island Walk Way\, Fernandina Beach\, FL\, 32034
CATEGORIES:Health & Support
ATTACH;FMTTYPE=image/png:https://www.nassaucountycouncilonaging.org/wp-content/uploads/2023/06/CareSized.png
END:VEVENT
BEGIN:VEVENT
DTSTART;TZID=America/New_York:20240311T173000
DTEND;TZID=America/New_York:20240311T190000
DTSTAMP:20260425T115009
CREATED:20240311T161832Z
LAST-MODIFIED:20240311T161832Z
UID:10008017-1710178200-1710183600@www.nassaucountycouncilonaging.org
SUMMARY:Support Group: Grieving with Hope
DESCRIPTION:5:30 pm – 7:00 pm\nEmily Kunzelmann \nekunzelmann@nassaucountycoa.org
URL:https://www.nassaucountycouncilonaging.org/calendar/support-group-grieving-with-hope-7/
LOCATION:Janice Ancrum Senior Life Center\, 1901 Island Walk Way\, Fernandina Beach\, FL\, 32034
CATEGORIES:Health & Support
ATTACH;FMTTYPE=image/png:https://www.nassaucountycouncilonaging.org/wp-content/uploads/2023/06/GrievingWithHopeSized.png
END:VEVENT
BEGIN:VEVENT
DTSTART;TZID=America/New_York:20240308T110000
DTEND;TZID=America/New_York:20240308T123000
DTSTAMP:20260425T115009
CREATED:20240304T180633Z
LAST-MODIFIED:20240304T180633Z
UID:10004313-1709895600-1709901000@www.nassaucountycouncilonaging.org
SUMMARY:NAMI Mental Health Support Group
DESCRIPTION:National Alliance of Mental Illness (NAMI)\n11:00 am – 12:30 pm \nShare experiences with individuals\, family members and friends impacted by mental illness\nContact: NAMI Nassau\, 904-277-1886\nNational Alliance of Mental Illness \nBook Now
URL:https://www.nassaucountycouncilonaging.org/calendar/nami-mental-health-support-group-3-2-2-6-47/
LOCATION:Janice Ancrum Senior Life Center\, 1901 Island Walk Way\, Fernandina Beach\, FL\, 32034
CATEGORIES:Health & Support
ATTACH;FMTTYPE=image/png:https://www.nassaucountycouncilonaging.org/wp-content/uploads/2023/03/NAMISized.png
END:VEVENT
BEGIN:VEVENT
DTSTART;TZID=America/New_York:20240307T140000
DTEND;TZID=America/New_York:20240307T150000
DTSTAMP:20260425T115009
CREATED:20240304T174301Z
LAST-MODIFIED:20240304T174301Z
UID:10007997-1709820000-1709823600@www.nassaucountycouncilonaging.org
SUMMARY:Brain Health Series:
DESCRIPTION:Brain Health & Testing\n2:00 pm – 3:00 pm\nDr. Michelle Prosje \nBook Now
URL:https://www.nassaucountycouncilonaging.org/calendar/brain-health-series-2/
LOCATION:Janice Ancrum Senior Life Center\, 1901 Island Walk Way\, Fernandina Beach\, FL\, 32034
CATEGORIES:Health & Support
ATTACH;FMTTYPE=image/png:https://www.nassaucountycouncilonaging.org/wp-content/uploads/2022/11/dementia.png
END:VEVENT
BEGIN:VEVENT
DTSTART;TZID=America/New_York:20240305T120000
DTEND;TZID=America/New_York:20240305T133000
DTSTAMP:20260425T115009
CREATED:20240304T165004Z
LAST-MODIFIED:20240304T165005Z
UID:10006549-1709640000-1709645400@www.nassaucountycouncilonaging.org
SUMMARY:Support Group
DESCRIPTION:Support Group: Hearing Loss\nGroup discussions focus on hearing loss\, how hearing loss impacts everyday living\, your brain and your ability to keep socially engaged and live a fulfilling life. \n12:00 pm – 1:30 pm\nFrances Bartelt\, Facilitator | 904-775-5484  |  fbartelt@nassaucountycoa.org \nBook Now
URL:https://www.nassaucountycouncilonaging.org/calendar/support-group-16-2-7-5-4/
LOCATION:Janice Ancrum Senior Life Center\, 1901 Island Walk Way\, Fernandina Beach\, FL\, 32034
CATEGORIES:Health & Support
ATTACH;FMTTYPE=image/png:https://www.nassaucountycouncilonaging.org/wp-content/uploads/2023/01/EarSized.png
END:VEVENT
BEGIN:VEVENT
DTSTART;TZID=America/New_York:20240301T110000
DTEND;TZID=America/New_York:20240301T123000
DTSTAMP:20260425T115009
CREATED:20240226T192037Z
LAST-MODIFIED:20240226T192037Z
UID:10004312-1709290800-1709296200@www.nassaucountycouncilonaging.org
SUMMARY:NAMI Mental Health Support Group
DESCRIPTION:National Alliance of Mental Illness (NAMI)\n11:00 am – 12:30 pm \nShare experiences with individuals\, family members and friends impacted by mental illness\nContact: NAMI Nassau\, 904-277-1886\nNational Alliance of Mental Illness \nBook Now
URL:https://www.nassaucountycouncilonaging.org/calendar/nami-mental-health-support-group-3-2-2-6-46/
LOCATION:Janice Ancrum Senior Life Center\, 1901 Island Walk Way\, Fernandina Beach\, FL\, 32034
CATEGORIES:Health & Support
ATTACH;FMTTYPE=image/png:https://www.nassaucountycouncilonaging.org/wp-content/uploads/2023/03/NAMISized.png
END:VEVENT
BEGIN:VEVENT
DTSTART;TZID=America/New_York:20240229T153000
DTEND;TZID=America/New_York:20240229T163000
DTSTAMP:20260425T115009
CREATED:20240226T191035Z
LAST-MODIFIED:20240226T191035Z
UID:10007964-1709220600-1709224200@www.nassaucountycouncilonaging.org
SUMMARY:Meditation w/Singing Bowls
DESCRIPTION:3:30 pm – 4:30 pm\nValerie Brandt \nBook Now
URL:https://www.nassaucountycouncilonaging.org/calendar/meditation-w-singing-bowls-2-3/
LOCATION:Janice Ancrum Senior Life Center\, 1901 Island Walk Way\, Fernandina Beach\, FL\, 32034
CATEGORIES:Health & Support
ATTACH;FMTTYPE=image/png:https://www.nassaucountycouncilonaging.org/wp-content/uploads/2024/02/SingingBowlSized.png
END:VEVENT
BEGIN:VEVENT
DTSTART;TZID=America/New_York:20240229T140000
DTEND;TZID=America/New_York:20240229T150000
DTSTAMP:20260425T115009
CREATED:20240226T191259Z
LAST-MODIFIED:20240226T191259Z
UID:10007984-1709215200-1709218800@www.nassaucountycouncilonaging.org
SUMMARY:Brain Health Series:
DESCRIPTION:Memory Forgetfulness & Aging – What’s Normal – FREE\n2:00 pm – 3:00 pm\nDr. Marc Case \nBook Now
URL:https://www.nassaucountycouncilonaging.org/calendar/brain-health-series/
LOCATION:Janice Ancrum Senior Life Center\, 1901 Island Walk Way\, Fernandina Beach\, FL\, 32034
CATEGORIES:Health & Support
ATTACH;FMTTYPE=image/png:https://www.nassaucountycouncilonaging.org/wp-content/uploads/2022/11/dementia.png
END:VEVENT
BEGIN:VEVENT
DTSTART;TZID=America/New_York:20240228T153000
DTEND;TZID=America/New_York:20240228T170000
DTSTAMP:20260425T115009
CREATED:20240226T185329Z
LAST-MODIFIED:20240226T185330Z
UID:10006908-1709134200-1709139600@www.nassaucountycouncilonaging.org
SUMMARY:Support Group:
DESCRIPTION:Caregiver Support Group\nOffers support and education for caregivers. Respite care is available for loved ones. Guest speakers are often featured. \n3:30 – 5 pm\nContact Emily Kunzelmann | 904-775-5472 or ekunzelmann@nassaucountycoa.org \nBook Now
URL:https://www.nassaucountycouncilonaging.org/calendar/support-group-17-5-10/
LOCATION:Janice Ancrum Senior Life Center\, 1901 Island Walk Way\, Fernandina Beach\, FL\, 32034
CATEGORIES:Health & Support
ATTACH;FMTTYPE=image/png:https://www.nassaucountycouncilonaging.org/wp-content/uploads/2023/06/CareSized.png
END:VEVENT
BEGIN:VEVENT
DTSTART;TZID=America/New_York:20240228T110000
DTEND;TZID=America/New_York:20240228T123000
DTSTAMP:20260425T115009
CREATED:20240226T184309Z
LAST-MODIFIED:20240226T184310Z
UID:10006856-1709118000-1709123400@www.nassaucountycouncilonaging.org
SUMMARY:Support Group:
DESCRIPTION:Low Vision\nProvides information and adaptive devices and encourages members with vision challenges to share experiences through group discussions and guest speaker presentations. \n11:00 am – 12:30 pm\nFacilitator – Frances Bartelt\, 904-775-5484\, fbartelt@nassaucountycoa.org \nBook Now
URL:https://www.nassaucountycouncilonaging.org/calendar/support-group-15-2-2-2-13/
LOCATION:Janice Ancrum Senior Life Center\, 1901 Island Walk Way\, Fernandina Beach\, FL\, 32034
CATEGORIES:Health & Support
ATTACH;FMTTYPE=image/png:https://www.nassaucountycouncilonaging.org/wp-content/uploads/2023/03/LowVisionSized.png
END:VEVENT
END:VCALENDAR