BEGIN:VCALENDAR
VERSION:2.0
PRODID:-//Nassau County Council on Aging - ECPv6.15.20//NONSGML v1.0//EN
CALSCALE:GREGORIAN
METHOD:PUBLISH
X-WR-CALNAME:Nassau County Council on Aging
X-ORIGINAL-URL:https://www.nassaucountycouncilonaging.org
X-WR-CALDESC:Events for Nassau County Council on Aging
REFRESH-INTERVAL;VALUE=DURATION:PT1H
X-Robots-Tag:noindex
X-PUBLISHED-TTL:PT1H
BEGIN:VTIMEZONE
TZID:America/New_York
BEGIN:DAYLIGHT
TZOFFSETFROM:-0500
TZOFFSETTO:-0400
TZNAME:EDT
DTSTART:20250309T070000
END:DAYLIGHT
BEGIN:STANDARD
TZOFFSETFROM:-0400
TZOFFSETTO:-0500
TZNAME:EST
DTSTART:20251102T060000
END:STANDARD
BEGIN:DAYLIGHT
TZOFFSETFROM:-0500
TZOFFSETTO:-0400
TZNAME:EDT
DTSTART:20260308T070000
END:DAYLIGHT
BEGIN:STANDARD
TZOFFSETFROM:-0400
TZOFFSETTO:-0500
TZNAME:EST
DTSTART:20261101T060000
END:STANDARD
BEGIN:DAYLIGHT
TZOFFSETFROM:-0500
TZOFFSETTO:-0400
TZNAME:EDT
DTSTART:20270314T070000
END:DAYLIGHT
BEGIN:STANDARD
TZOFFSETFROM:-0400
TZOFFSETTO:-0500
TZNAME:EST
DTSTART:20271107T060000
END:STANDARD
END:VTIMEZONE
BEGIN:VEVENT
DTSTART;TZID=America/New_York:20260309T173000
DTEND;TZID=America/New_York:20260309T190000
DTSTAMP:20260421T144227
CREATED:20260112T191843Z
LAST-MODIFIED:20260112T191846Z
UID:10016579-1773077400-1773082800@www.nassaucountycouncilonaging.org
SUMMARY:Support Group: Grieving w/Hope
DESCRIPTION:5:30 pm – 7:00 pm\nJennifer Gundling\njgundling@nassaucountycoa.org \nShare stories and find support for those who have also lost a family member or close friend. \n 
URL:https://www.nassaucountycouncilonaging.org/calendar/support-group-grieving-w-hope-10-4/2026-03-09/
LOCATION:Janice Ancrum Senior Life Center\, 1901 Island Walk Way\, Fernandina Beach\, FL\, 32034
CATEGORIES:Health & Support
ATTACH;FMTTYPE=image/png:https://www.nassaucountycouncilonaging.org/wp-content/uploads/2023/06/GrievingWithHopeSized.png
END:VEVENT
BEGIN:VEVENT
DTSTART;TZID=America/New_York:20260309T161500
DTEND;TZID=America/New_York:20260309T171500
DTSTAMP:20260421T144227
CREATED:20251013T180331Z
LAST-MODIFIED:20260112T191557Z
UID:10016576-1773072900-1773076500@www.nassaucountycouncilonaging.org
SUMMARY:Yoga for the Grieving Heart
DESCRIPTION:4:15 pm – 5:15 pm\nTina LaVacca \nGrief Yoga® is accompanied by Restorative Yoga to aide in the release of physical pain and emotional struggle experienced through grief and loss.
URL:https://www.nassaucountycouncilonaging.org/calendar/yoga-for-the-grieving-heart-4/2026-03-09/
LOCATION:Janice Ancrum Senior Life Center\, 1901 Island Walk Way\, Fernandina Beach\, FL\, 32034
CATEGORIES:Health & Support
ATTACH;FMTTYPE=image/png:https://www.nassaucountycouncilonaging.org/wp-content/uploads/2025/10/yoga-for-grieving-heart.png
END:VEVENT
BEGIN:VEVENT
DTSTART;TZID=America/New_York:20260306T110000
DTEND;TZID=America/New_York:20260306T123000
DTSTAMP:20260421T144227
CREATED:20260302T195818Z
LAST-MODIFIED:20260302T195820Z
UID:10017300-1772794800-1772800200@www.nassaucountycouncilonaging.org
SUMMARY:NAMI Mental Health Support Group
DESCRIPTION:National Alliance of Mental Illness (NAMI)\n11:00 am – 12:30 pm \nShare experiences with individuals\, family members and friends impacted by mental illness\nContact: NAMI Nassau\, 904-277-1886\nNational Alliance of Mental Illness \nBook Now
URL:https://www.nassaucountycouncilonaging.org/calendar/nami-mental-health-support-group-3-2-2-6-49-30-11-14-15-14-12-9/
LOCATION:Janice Ancrum Senior Life Center\, 1901 Island Walk Way\, Fernandina Beach\, FL\, 32034
CATEGORIES:Health & Support
ATTACH;FMTTYPE=image/png:https://www.nassaucountycouncilonaging.org/wp-content/uploads/2023/03/NAMISized.png
END:VEVENT
BEGIN:VEVENT
DTSTART;TZID=America/New_York:20260304T153000
DTEND;TZID=America/New_York:20260304T163000
DTSTAMP:20260421T144227
CREATED:20260302T180610Z
LAST-MODIFIED:20260302T180610Z
UID:10017767-1772638200-1772641800@www.nassaucountycouncilonaging.org
SUMMARY:Common Health Conditions:
DESCRIPTION:Memory Concerns\n3:30 pm – 4:30 pm\nDr. Robin Beck \nBook Now
URL:https://www.nassaucountycouncilonaging.org/calendar/common-health-conditions-4/
LOCATION:Janice Ancrum Senior Life Center\, 1901 Island Walk Way\, Fernandina Beach\, FL\, 32034
CATEGORIES:Health & Support
ATTACH;FMTTYPE=image/png:https://www.nassaucountycouncilonaging.org/wp-content/uploads/2023/10/HealthyBodySized.png
END:VEVENT
BEGIN:VEVENT
DTSTART;TZID=America/New_York:20260303T120000
DTEND;TZID=America/New_York:20260303T133000
DTSTAMP:20260421T144227
CREATED:20260301T233645Z
LAST-MODIFIED:20260301T233647Z
UID:10017759-1772539200-1772544600@www.nassaucountycouncilonaging.org
SUMMARY:Support Group: Hearing Loss
DESCRIPTION:12:00 pm – 1:30 pm\nFrances Bartelt \nLoss of hearing can lead to feelings of isolation and frustration. Learn about assistive listening devices and /or lip-reading\, hearing aids and local resources. \nBook Now
URL:https://www.nassaucountycouncilonaging.org/calendar/support-group-hearing-loss-3-13-2/
LOCATION:Janice Ancrum Senior Life Center\, 1901 Island Walk Way\, Fernandina Beach\, FL\, 32034
CATEGORIES:Health & Support
ATTACH;FMTTYPE=image/png:https://www.nassaucountycouncilonaging.org/wp-content/uploads/2023/01/EarSized.png
END:VEVENT
BEGIN:VEVENT
DTSTART;TZID=America/New_York:20260227T110000
DTEND;TZID=America/New_York:20260227T123000
DTSTAMP:20260421T144227
CREATED:20260223T224330Z
LAST-MODIFIED:20260223T224335Z
UID:10015924-1772190000-1772195400@www.nassaucountycouncilonaging.org
SUMMARY:NAMI Mental Health Support Group
DESCRIPTION:National Alliance of Mental Illness (NAMI)\n11:00 am – 12:30 pm \nShare experiences with individuals\, family members and friends impacted by mental illness\nContact: NAMI Nassau\, 904-277-1886\nNational Alliance of Mental Illness \nBook Now
URL:https://www.nassaucountycouncilonaging.org/calendar/nami-mental-health-support-group-3-2-2-6-49-30-11-14-15-14-12-8/
LOCATION:Janice Ancrum Senior Life Center\, 1901 Island Walk Way\, Fernandina Beach\, FL\, 32034
CATEGORIES:Health & Support
ATTACH;FMTTYPE=image/png:https://www.nassaucountycouncilonaging.org/wp-content/uploads/2023/03/NAMISized.png
END:VEVENT
BEGIN:VEVENT
DTSTART;TZID=America/New_York:20260227T100000
DTEND;TZID=America/New_York:20260227T110000
DTSTAMP:20260421T144227
CREATED:20260223T224027Z
LAST-MODIFIED:20260223T224027Z
UID:10017758-1772186400-1772190000@www.nassaucountycouncilonaging.org
SUMMARY:Brain Boosters: Mental Fitness
DESCRIPTION:10:00 am – 11:00 am\nDr. Marc Case \nBook Now
URL:https://www.nassaucountycouncilonaging.org/calendar/brain-boosters-mental-fitness/
LOCATION:Janice Ancrum Senior Life Center\, 1901 Island Walk Way\, Fernandina Beach\, FL\, 32034
CATEGORIES:Health & Support
ATTACH;FMTTYPE=image/png:https://www.nassaucountycouncilonaging.org/wp-content/uploads/2025/03/brain-booster.png
END:VEVENT
BEGIN:VEVENT
DTSTART;TZID=America/New_York:20260225T153000
DTEND;TZID=America/New_York:20260225T170000
DTSTAMP:20260421T144227
CREATED:20260223T220011Z
LAST-MODIFIED:20260223T220017Z
UID:10012435-1772033400-1772038800@www.nassaucountycouncilonaging.org
SUMMARY:Support Group: Caregivers
DESCRIPTION:Sustaining the unsung Heroes\n3:30 – 5:00 pm \nCaregiving has been described as both a labor of love and the most difficult job on the planet. Learn how to better deal with physical and emotional strain\, and get the relief you  need through validation\, self-care\, respite and resource sharing. \nVarious facilitators\nMore  information: Jennifer Gundling\, NCCOA Home Health\, Training & Caregiver Services Manager\, 904-775-5488 \nRegister with jgundling@nassaucountycoa.org\n 
URL:https://www.nassaucountycouncilonaging.org/calendar/support-group-caregivers-3-10/
LOCATION:Janice Ancrum Senior Life Center\, 1901 Island Walk Way\, Fernandina Beach\, FL\, 32034
CATEGORIES:Health & Support
ATTACH;FMTTYPE=image/png:https://www.nassaucountycouncilonaging.org/wp-content/uploads/2023/06/CareSized.png
END:VEVENT
BEGIN:VEVENT
DTSTART;TZID=America/New_York:20260225T153000
DTEND;TZID=America/New_York:20260225T163000
DTSTAMP:20260421T144227
CREATED:20260223T220414Z
LAST-MODIFIED:20260223T220414Z
UID:10017755-1772033400-1772037000@www.nassaucountycouncilonaging.org
SUMMARY:Common Health Conditions
DESCRIPTION:Depression and Anxiety\n3:30 pm – 4:30 pm\nDr. Robin Beck \nBook Now
URL:https://www.nassaucountycouncilonaging.org/calendar/common-health-conditions-3/
LOCATION:Janice Ancrum Senior Life Center\, 1901 Island Walk Way\, Fernandina Beach\, FL\, 32034
CATEGORIES:Health & Support
ATTACH;FMTTYPE=image/png:https://www.nassaucountycouncilonaging.org/wp-content/uploads/2023/10/HealthyBodySized.png
END:VEVENT
BEGIN:VEVENT
DTSTART;TZID=America/New_York:20260225T133000
DTEND;TZID=America/New_York:20260225T150000
DTSTAMP:20260421T144227
CREATED:20260223T215541Z
LAST-MODIFIED:20260223T215547Z
UID:10016233-1772026200-1772031600@www.nassaucountycouncilonaging.org
SUMMARY:Caregiver Stressbusters Forum - FREE
DESCRIPTION:1:30 pm – 3:00 pm\nJennifer Gundling \nPractice stress-reducing techniques\, find support from other caregivers\, reduce anxiety and improve quality of life. A respite activity for loved ones is available by reservation for a nominal fee for club members during the meeting. \nRegister with jgundling@nassaucountycoa.org
URL:https://www.nassaucountycouncilonaging.org/calendar/caregiver-stressbusters-forum-free-20-2/
LOCATION:Janice Ancrum Senior Life Center\, 1901 Island Walk Way\, Fernandina Beach\, FL\, 32034
CATEGORIES:Health & Support
ATTACH;FMTTYPE=image/png:https://www.nassaucountycouncilonaging.org/wp-content/uploads/2025/03/caregiver.png
END:VEVENT
BEGIN:VEVENT
DTSTART;TZID=America/New_York:20260225T110000
DTEND;TZID=America/New_York:20260225T123000
DTSTAMP:20260421T144227
CREATED:20260223T211823Z
LAST-MODIFIED:20260223T211829Z
UID:10016238-1772017200-1772022600@www.nassaucountycouncilonaging.org
SUMMARY:Support Group: Low Vision
DESCRIPTION:11:00 am – 12:30 pm\nFrances Bartelt \nDiscuss latest adaptive devices and member experiences to assist with vision loss in daily living. \nBook Now
URL:https://www.nassaucountycouncilonaging.org/calendar/support-group-low-vision-4-4/
LOCATION:Janice Ancrum Senior Life Center\, 1901 Island Walk Way\, Fernandina Beach\, FL\, 32034
CATEGORIES:Health & Support
ATTACH;FMTTYPE=image/png:https://www.nassaucountycouncilonaging.org/wp-content/uploads/2023/03/LowVisionSized.png
END:VEVENT
BEGIN:VEVENT
DTSTART;TZID=America/New_York:20260224T140000
DTEND;TZID=America/New_York:20260224T150000
DTSTAMP:20260421T144227
CREATED:20260223T000711Z
LAST-MODIFIED:20260223T000711Z
UID:10017752-1771941600-1771945200@www.nassaucountycouncilonaging.org
SUMMARY:Support Group: Memory Cafe
DESCRIPTION:2:00 pm – 3:00 pm\nJennifer Gundling \nRegister with: jgundling@nassaucountycoa.org
URL:https://www.nassaucountycouncilonaging.org/calendar/support-group-memory-cafe/
LOCATION:Janice Ancrum Senior Life Center\, 1901 Island Walk Way\, Fernandina Beach\, FL\, 32034
CATEGORIES:Health & Support
ATTACH;FMTTYPE=image/png:https://www.nassaucountycouncilonaging.org/wp-content/uploads/2025/12/coffee-cup.png
END:VEVENT
BEGIN:VEVENT
DTSTART;TZID=America/New_York:20260223T173000
DTEND;TZID=America/New_York:20260223T190000
DTSTAMP:20260421T144227
CREATED:20260222T233747Z
LAST-MODIFIED:20260222T233753Z
UID:10016163-1771867800-1771873200@www.nassaucountycouncilonaging.org
SUMMARY:Support Group: Grieving w/Hope
DESCRIPTION:5:30 pm – 7:00 pm\nJennifer Gundling \nShare stories and find support for those who have also lost a family member or close friend. \nBook via email jgundling@nassaucountycoa.org
URL:https://www.nassaucountycouncilonaging.org/calendar/support-group-grieving-w-hope-11-3-2/
LOCATION:Janice Ancrum Senior Life Center\, 1901 Island Walk Way\, Fernandina Beach\, FL\, 32034
CATEGORIES:Health & Support
ATTACH;FMTTYPE=image/png:https://www.nassaucountycouncilonaging.org/wp-content/uploads/2023/06/GrievingWithHopeSized.png
END:VEVENT
BEGIN:VEVENT
DTSTART;TZID=America/New_York:20260220T110000
DTEND;TZID=America/New_York:20260220T123000
DTSTAMP:20260421T144227
CREATED:20260216T234806Z
LAST-MODIFIED:20260216T234813Z
UID:10015923-1771585200-1771590600@www.nassaucountycouncilonaging.org
SUMMARY:NAMI Mental Health Support Group
DESCRIPTION:National Alliance of Mental Illness (NAMI)\n11:00 am – 12:30 pm \nShare experiences with individuals\, family members and friends impacted by mental illness\nContact: NAMI Nassau\, 904-277-1886\nNational Alliance of Mental Illness \nBook Now
URL:https://www.nassaucountycouncilonaging.org/calendar/nami-mental-health-support-group-3-2-2-6-49-30-11-14-15-14-12-7/
LOCATION:Janice Ancrum Senior Life Center\, 1901 Island Walk Way\, Fernandina Beach\, FL\, 32034
CATEGORIES:Health & Support
ATTACH;FMTTYPE=image/png:https://www.nassaucountycouncilonaging.org/wp-content/uploads/2023/03/NAMISized.png
END:VEVENT
BEGIN:VEVENT
DTSTART;TZID=America/New_York:20260219T100000
DTEND;TZID=America/New_York:20260219T110000
DTSTAMP:20260421T144227
CREATED:20260216T230641Z
LAST-MODIFIED:20260216T230647Z
UID:10016219-1771495200-1771498800@www.nassaucountycouncilonaging.org
SUMMARY:Support Group: Parkinson's - You Are Not Alone
DESCRIPTION:10:00 am – 11:00 am\nTina LaVacca \nOpen to individuals with Parkinson’s and their care partners to share experiences\, learn coping strategies and find encouragement. \nBook Now
URL:https://www.nassaucountycouncilonaging.org/calendar/support-group-parkinsons-you-are-not-alone-4-3/
LOCATION:Janice Ancrum Senior Life Center\, 1901 Island Walk Way\, Fernandina Beach\, FL\, 32034
CATEGORIES:Health & Support
ATTACH;FMTTYPE=image/png:https://www.nassaucountycouncilonaging.org/wp-content/uploads/2025/10/parkinson-icon1.png
END:VEVENT
BEGIN:VEVENT
DTSTART;TZID=America/New_York:20260218T153000
DTEND;TZID=America/New_York:20260218T163000
DTSTAMP:20260421T144227
CREATED:20260216T225740Z
LAST-MODIFIED:20260216T225943Z
UID:10017749-1771428600-1771432200@www.nassaucountycouncilonaging.org
SUMMARY:Common Health Conditions:
DESCRIPTION:Vascular Disease\n3:30 pm – 4:30 pm\nDr. Robin Beck \nBook Now
URL:https://www.nassaucountycouncilonaging.org/calendar/common-health-conditions-2/
LOCATION:Janice Ancrum Senior Life Center\, 1901 Island Walk Way\, Fernandina Beach\, FL\, 32034
CATEGORIES:Health & Support
ATTACH;FMTTYPE=image/png:https://www.nassaucountycouncilonaging.org/wp-content/uploads/2023/10/HealthyBodySized-1.png
END:VEVENT
BEGIN:VEVENT
DTSTART;TZID=America/New_York:20260213T110000
DTEND;TZID=America/New_York:20260213T123000
DTSTAMP:20260421T144227
CREATED:20260209T194354Z
LAST-MODIFIED:20260209T194414Z
UID:10015922-1770980400-1770985800@www.nassaucountycouncilonaging.org
SUMMARY:NAMI Mental Health Support Group
DESCRIPTION:National Alliance of Mental Illness (NAMI)\n11:00 am – 12:30 pm \nShare experiences with individuals\, family members and friends impacted by mental illness\nContact: NAMI Nassau\, 904-277-1886\nNational Alliance of Mental Illness \nBook Now
URL:https://www.nassaucountycouncilonaging.org/calendar/nami-mental-health-support-group-3-2-2-6-49-30-11-14-15-14-12-6/
LOCATION:Janice Ancrum Senior Life Center\, 1901 Island Walk Way\, Fernandina Beach\, FL\, 32034
CATEGORIES:Health & Support
ATTACH;FMTTYPE=image/png:https://www.nassaucountycouncilonaging.org/wp-content/uploads/2023/03/NAMISized.png
END:VEVENT
BEGIN:VEVENT
DTSTART;TZID=America/New_York:20260211T153000
DTEND;TZID=America/New_York:20260211T170000
DTSTAMP:20260421T144227
CREATED:20260112T212844Z
LAST-MODIFIED:20260112T212847Z
UID:10015605-1770823800-1770829200@www.nassaucountycouncilonaging.org
SUMMARY:Support Group: Caregivers
DESCRIPTION:3:30 pm – 5:00 pm\nJennifer Gundling \nRegister with  jgundling@nassaucountycoa.org
URL:https://www.nassaucountycouncilonaging.org/calendar/support-group-caregivers-5-2/2026-02-11/
LOCATION:Janice Ancrum Senior Life Center\, 1901 Island Walk Way\, Fernandina Beach\, FL\, 32034
CATEGORIES:Health & Support
ATTACH;FMTTYPE=image/png:https://www.nassaucountycouncilonaging.org/wp-content/uploads/2022/09/caregiver-stressbuster.png
END:VEVENT
BEGIN:VEVENT
DTSTART;TZID=America/New_York:20260211T153000
DTEND;TZID=America/New_York:20260211T163000
DTSTAMP:20260421T144227
CREATED:20260209T191402Z
LAST-MODIFIED:20260209T191402Z
UID:10017745-1770823800-1770827400@www.nassaucountycouncilonaging.org
SUMMARY:Common Health Conditions:
DESCRIPTION:What to Expect with Normal Aging\n3:30 pm – 4:30 pm\nDr. Robin Beck \nBook Now
URL:https://www.nassaucountycouncilonaging.org/calendar/common-health-conditions/
LOCATION:Janice Ancrum Senior Life Center\, 1901 Island Walk Way\, Fernandina Beach\, FL\, 32034
CATEGORIES:Health & Support
ATTACH;FMTTYPE=image/png:https://www.nassaucountycouncilonaging.org/wp-content/uploads/2023/10/HealthyBodySized.png
END:VEVENT
BEGIN:VEVENT
DTSTART;TZID=America/New_York:20260211T123000
DTEND;TZID=America/New_York:20260211T150000
DTSTAMP:20260421T144227
CREATED:20260112T212025Z
LAST-MODIFIED:20260112T212149Z
UID:10016948-1770813000-1770822000@www.nassaucountycouncilonaging.org
SUMMARY:Caregiver Stressbusters Forum
DESCRIPTION:1:30 pm – 3:00 pm\nJennifer Gundling \nPractice stress-reduction techniques\, find support from other caregivers\, reduce anxiety and improve quality of life. A respite activity for loved ones is available by reservation for a nominal fee for Club members during the meeting. \nRegister at jgundling@nassaucountycoa.org\n 
URL:https://www.nassaucountycouncilonaging.org/calendar/caregiver-stressbusters-forum-5/2026-02-11/
LOCATION:Janice Ancrum Senior Life Center\, 1901 Island Walk Way\, Fernandina Beach\, FL\, 32034
CATEGORIES:Health & Support
ATTACH;FMTTYPE=image/png:https://www.nassaucountycouncilonaging.org/wp-content/uploads/2025/03/caregiver.png
END:VEVENT
BEGIN:VEVENT
DTSTART;TZID=America/New_York:20260210T140000
DTEND;TZID=America/New_York:20260210T150000
DTSTAMP:20260421T144227
CREATED:20260112T203721Z
LAST-MODIFIED:20260112T203721Z
UID:10016774-1770732000-1770735600@www.nassaucountycouncilonaging.org
SUMMARY:Memory Cafe
DESCRIPTION:2:00 pm – 3:00 pm\nJennifer Gundling \nFind support\, connection\, health & well-being for those experiencing clinical memory loss in a welcoming and safe environment. \nRegister with jgundling@nassaucountycoa.org
URL:https://www.nassaucountycouncilonaging.org/calendar/memory-cafe-4/2026-02-10/
LOCATION:Janice Ancrum Senior Life Center\, 1901 Island Walk Way\, Fernandina Beach\, FL\, 32034
CATEGORIES:Health & Support
ATTACH;FMTTYPE=image/png:https://www.nassaucountycouncilonaging.org/wp-content/uploads/2025/12/coffee-cup.png
END:VEVENT
BEGIN:VEVENT
DTSTART;TZID=America/New_York:20260210T090000
DTEND;TZID=America/New_York:20260210T100000
DTSTAMP:20260421T144227
CREATED:20260209T174021Z
LAST-MODIFIED:20260209T174021Z
UID:10017725-1770714000-1770717600@www.nassaucountycouncilonaging.org
SUMMARY:Re-New-U: Things I Say to Myself
DESCRIPTION:9:00 am – 10:00 am\nMichelle Olivia Dunagan \nBook Now
URL:https://www.nassaucountycouncilonaging.org/calendar/re-new-u-things-i-say-to-myself/
LOCATION:Janice Ancrum Senior Life Center\, 1901 Island Walk Way\, Fernandina Beach\, FL\, 32034
CATEGORIES:Health & Support
ATTACH;FMTTYPE=image/png:https://www.nassaucountycouncilonaging.org/wp-content/uploads/2023/06/PositiveThinkingSized.png
END:VEVENT
BEGIN:VEVENT
DTSTART;TZID=America/New_York:20260209T173000
DTEND;TZID=America/New_York:20260209T190000
DTSTAMP:20260421T144227
CREATED:20260209T172320Z
LAST-MODIFIED:20260209T172325Z
UID:10016158-1770658200-1770663600@www.nassaucountycouncilonaging.org
SUMMARY:Support Group: Grieving w/Hope
DESCRIPTION:5:30 pm – 7:00 pm\nJennifer Gundling\nregister with: jgundling@nassaucountycoa.org \nShare stories and find support for those who have also lost a family member or close friend. \n 
URL:https://www.nassaucountycouncilonaging.org/calendar/support-group-grieving-w-hope-10-4-3/
LOCATION:Janice Ancrum Senior Life Center\, 1901 Island Walk Way\, Fernandina Beach\, FL\, 32034
CATEGORIES:Health & Support
ATTACH;FMTTYPE=image/png:https://www.nassaucountycouncilonaging.org/wp-content/uploads/2023/06/GrievingWithHopeSized.png
END:VEVENT
BEGIN:VEVENT
DTSTART;TZID=America/New_York:20260209T161500
DTEND;TZID=America/New_York:20260209T171500
DTSTAMP:20260421T144227
CREATED:20260209T172158Z
LAST-MODIFIED:20260209T172202Z
UID:10016148-1770653700-1770657300@www.nassaucountycouncilonaging.org
SUMMARY:Yoga for the Grieving Heart
DESCRIPTION:4:15 pm – 5:15 pm\nTina LaVacca \nGrief Yoga® is accompanied by Restorative Yoga to aide in the release of physical pain and emotional struggle experienced through grief and loss. \nBook Now
URL:https://www.nassaucountycouncilonaging.org/calendar/yoga-for-the-grieving-heart-4-7/
LOCATION:Janice Ancrum Senior Life Center\, 1901 Island Walk Way\, Fernandina Beach\, FL\, 32034
CATEGORIES:Health & Support
ATTACH;FMTTYPE=image/png:https://www.nassaucountycouncilonaging.org/wp-content/uploads/2025/10/yoga-for-grieving-heart.png
END:VEVENT
BEGIN:VEVENT
DTSTART;TZID=America/New_York:20260209T153000
DTEND;TZID=America/New_York:20260209T170000
DTSTAMP:20260421T144227
CREATED:20260209T172509Z
LAST-MODIFIED:20260209T172509Z
UID:10017724-1770651000-1770656400@www.nassaucountycouncilonaging.org
SUMMARY:The Successful Caregiver
DESCRIPTION:3:30 pm – 5:00 pm\nJennifer Gundling \nRegister with: jgundling@nassaucountycoa.org
URL:https://www.nassaucountycouncilonaging.org/calendar/the-successful-caregiver-7/
LOCATION:Janice Ancrum Senior Life Center\, 1901 Island Walk Way\, Fernandina Beach\, FL\, 32034
CATEGORIES:Health & Support
ATTACH;FMTTYPE=image/png:https://www.nassaucountycouncilonaging.org/wp-content/uploads/2025/03/successful-caregiver.png
END:VEVENT
BEGIN:VEVENT
DTSTART;TZID=America/New_York:20260206T110000
DTEND;TZID=America/New_York:20260206T123000
DTSTAMP:20260421T144227
CREATED:20260203T182104Z
LAST-MODIFIED:20260203T182108Z
UID:10015921-1770375600-1770381000@www.nassaucountycouncilonaging.org
SUMMARY:NAMI Mental Health Support Group
DESCRIPTION:National Alliance of Mental Illness (NAMI)\n11:00 am – 12:30 pm \nShare experiences with individuals\, family members and friends impacted by mental illness\nContact: NAMI Nassau\, 904-277-1886\nNational Alliance of Mental Illness \nBook Now
URL:https://www.nassaucountycouncilonaging.org/calendar/nami-mental-health-support-group-3-2-2-6-49-30-11-14-15-14-12-5/
LOCATION:Janice Ancrum Senior Life Center\, 1901 Island Walk Way\, Fernandina Beach\, FL\, 32034
CATEGORIES:Health & Support
ATTACH;FMTTYPE=image/png:https://www.nassaucountycouncilonaging.org/wp-content/uploads/2023/03/NAMISized.png
END:VEVENT
BEGIN:VEVENT
DTSTART;TZID=America/New_York:20260203T120000
DTEND;TZID=America/New_York:20260203T133000
DTSTAMP:20260421T144227
CREATED:20260202T192114Z
LAST-MODIFIED:20260301T233502Z
UID:10015322-1770120000-1770125400@www.nassaucountycouncilonaging.org
SUMMARY:Support Group: Hearing Loss
DESCRIPTION:12:00 pm – 1:30 pm\nFrances Bartelt \nLoss of hearing can lead to feelings of isolation and frustration. Learn about assistive listening devices and /or lip-reading\, hearing aids and local resources. \nregister at fbartelt@nassaucountycoa.or
URL:https://www.nassaucountycouncilonaging.org/calendar/support-group-hearing-loss-3-13/2026-02-03/
LOCATION:Janice Ancrum Senior Life Center\, 1901 Island Walk Way\, Fernandina Beach\, FL\, 32034
CATEGORIES:Health & Support
ATTACH;FMTTYPE=image/png:https://www.nassaucountycouncilonaging.org/wp-content/uploads/2023/01/EarSized.png
END:VEVENT
BEGIN:VEVENT
DTSTART;TZID=America/New_York:20260130T110000
DTEND;TZID=America/New_York:20260130T123000
DTSTAMP:20260421T144227
CREATED:20260127T203136Z
LAST-MODIFIED:20260127T203142Z
UID:10015920-1769770800-1769776200@www.nassaucountycouncilonaging.org
SUMMARY:NAMI Mental Health Support Group
DESCRIPTION:National Alliance of Mental Illness (NAMI)\n11:00 am – 12:30 pm \nShare experiences with individuals\, family members and friends impacted by mental illness\nContact: NAMI Nassau\, 904-277-1886\nNational Alliance of Mental Illness \nBook Now
URL:https://www.nassaucountycouncilonaging.org/calendar/nami-mental-health-support-group-3-2-2-6-49-30-11-14-15-14-12-4/
LOCATION:Janice Ancrum Senior Life Center\, 1901 Island Walk Way\, Fernandina Beach\, FL\, 32034
CATEGORIES:Health & Support
ATTACH;FMTTYPE=image/png:https://www.nassaucountycouncilonaging.org/wp-content/uploads/2023/03/NAMISized.png
END:VEVENT
BEGIN:VEVENT
DTSTART;TZID=America/New_York:20260130T100000
DTEND;TZID=America/New_York:20260130T110000
DTSTAMP:20260421T144227
CREATED:20260127T202744Z
LAST-MODIFIED:20260127T202744Z
UID:10017712-1769767200-1769770800@www.nassaucountycouncilonaging.org
SUMMARY:Brain Boosters:
DESCRIPTION:The Maturing Brain \n10:00 am – 11:00 am\nDr. Marc Case \nBook  Now
URL:https://www.nassaucountycouncilonaging.org/calendar/brain-boosters-17/
LOCATION:Janice Ancrum Senior Life Center\, 1901 Island Walk Way\, Fernandina Beach\, FL\, 32034
CATEGORIES:Health & Support
ATTACH;FMTTYPE=image/png:https://www.nassaucountycouncilonaging.org/wp-content/uploads/2025/03/brain-booster.png
END:VEVENT
BEGIN:VEVENT
DTSTART;TZID=America/New_York:20260128T153000
DTEND;TZID=America/New_York:20260128T170000
DTSTAMP:20260421T144227
CREATED:20250106T222426Z
LAST-MODIFIED:20251022T165626Z
UID:10012434-1769614200-1769619600@www.nassaucountycouncilonaging.org
SUMMARY:Support Group: Caregivers
DESCRIPTION:Sustaining the unsung Heroes\n3:30 – 5:00 pm \nCaregiving has been described as both a labor of love and the most difficult job on the planet. Learn how to better deal with physical and emotional strain\, and get the relief you  need through validation\, self-care\, respite and resource sharing. \nVarious facilitators\nMore  information: Jennifer Gundling\, NCCOA Home Health\, Training & Caregiver Services Manager\, 904-775-5488 \nRegister with jgundling@nassaucountycoa.org\n 
URL:https://www.nassaucountycouncilonaging.org/calendar/support-group-caregivers-3/2026-01-28/
LOCATION:Janice Ancrum Senior Life Center\, 1901 Island Walk Way\, Fernandina Beach\, FL\, 32034
CATEGORIES:Health & Support
ATTACH;FMTTYPE=image/png:https://www.nassaucountycouncilonaging.org/wp-content/uploads/2023/06/CareSized.png
END:VEVENT
END:VCALENDAR