BEGIN:VCALENDAR
VERSION:2.0
PRODID:-//Nassau County Council on Aging - ECPv6.15.20//NONSGML v1.0//EN
CALSCALE:GREGORIAN
METHOD:PUBLISH
X-ORIGINAL-URL:https://www.nassaucountycouncilonaging.org
X-WR-CALDESC:Events for Nassau County Council on Aging
REFRESH-INTERVAL;VALUE=DURATION:PT1H
X-Robots-Tag:noindex
X-PUBLISHED-TTL:PT1H
BEGIN:VTIMEZONE
TZID:America/New_York
BEGIN:DAYLIGHT
TZOFFSETFROM:-0500
TZOFFSETTO:-0400
TZNAME:EDT
DTSTART:20230312T070000
END:DAYLIGHT
BEGIN:STANDARD
TZOFFSETFROM:-0400
TZOFFSETTO:-0500
TZNAME:EST
DTSTART:20231105T060000
END:STANDARD
BEGIN:DAYLIGHT
TZOFFSETFROM:-0500
TZOFFSETTO:-0400
TZNAME:EDT
DTSTART:20240310T070000
END:DAYLIGHT
BEGIN:STANDARD
TZOFFSETFROM:-0400
TZOFFSETTO:-0500
TZNAME:EST
DTSTART:20241103T060000
END:STANDARD
BEGIN:DAYLIGHT
TZOFFSETFROM:-0500
TZOFFSETTO:-0400
TZNAME:EDT
DTSTART:20250309T070000
END:DAYLIGHT
BEGIN:STANDARD
TZOFFSETFROM:-0400
TZOFFSETTO:-0500
TZNAME:EST
DTSTART:20251102T060000
END:STANDARD
END:VTIMEZONE
BEGIN:VEVENT
DTSTART;TZID=America/New_York:20240624T173000
DTEND;TZID=America/New_York:20240624T190000
DTSTAMP:20260425T064508
CREATED:20240625T190048Z
LAST-MODIFIED:20240625T190257Z
UID:10008689-1719250200-1719255600@www.nassaucountycouncilonaging.org
SUMMARY:Support Group: Grieving with Hope
DESCRIPTION:5:30 pm – 7:00 pm\nEmily Kunzelmann       ekunzelmann@nassaucountycoa.org\nJenifer Gundling\,          jgundling@nassaucountycoa.org  \nHelps those who have experienced the loss of a family member or close friend as you connect with others in similar situations. Experienced facilitators and presenters are often featured. \n  \n 
URL:https://www.nassaucountycouncilonaging.org/calendar/support-group-grieving-with-hope-8-2/2024-06-24/
LOCATION:Janice Ancrum Senior Life Center\, 1901 Island Walk Way\, Fernandina Beach\, FL\, 32034
CATEGORIES:Health & Support
ATTACH;FMTTYPE=image/png:https://www.nassaucountycouncilonaging.org/wp-content/uploads/2023/06/GrievingWithHopeSized.png
END:VEVENT
BEGIN:VEVENT
DTSTART;TZID=America/New_York:20240621T110000
DTEND;TZID=America/New_York:20240621T123000
DTSTAMP:20260425T064508
CREATED:20240617T171351Z
LAST-MODIFIED:20240617T171359Z
UID:10004328-1718967600-1718973000@www.nassaucountycouncilonaging.org
SUMMARY:NAMI Mental Health Support Group
DESCRIPTION:National Alliance of Mental Illness (NAMI)\n11:00 am – 12:30 pm \nShare experiences with individuals\, family members and friends impacted by mental illness\nContact: NAMI Nassau\, 904-277-1886\nNational Alliance of Mental Illness \nBook Now
URL:https://www.nassaucountycouncilonaging.org/calendar/nami-mental-health-support-group-3-2-2-6-49-15/
LOCATION:Janice Ancrum Senior Life Center\, 1901 Island Walk Way\, Fernandina Beach\, FL\, 32034
CATEGORIES:Health & Support
ATTACH;FMTTYPE=image/png:https://www.nassaucountycouncilonaging.org/wp-content/uploads/2023/03/NAMISized.png
END:VEVENT
BEGIN:VEVENT
DTSTART;TZID=America/New_York:20240614T110000
DTEND;TZID=America/New_York:20240614T123000
DTSTAMP:20260425T064508
CREATED:20240611T175118Z
LAST-MODIFIED:20240611T175121Z
UID:10004327-1718362800-1718368200@www.nassaucountycouncilonaging.org
SUMMARY:NAMI Mental Health Support Group
DESCRIPTION:National Alliance of Mental Illness (NAMI)\n11:00 am – 12:30 pm \nShare experiences with individuals\, family members and friends impacted by mental illness\nContact: NAMI Nassau\, 904-277-1886\nNational Alliance of Mental Illness \nBook Now
URL:https://www.nassaucountycouncilonaging.org/calendar/nami-mental-health-support-group-3-2-2-6-49-14/
LOCATION:Janice Ancrum Senior Life Center\, 1901 Island Walk Way\, Fernandina Beach\, FL\, 32034
CATEGORIES:Health & Support
ATTACH;FMTTYPE=image/png:https://www.nassaucountycouncilonaging.org/wp-content/uploads/2023/03/NAMISized.png
END:VEVENT
BEGIN:VEVENT
DTSTART;TZID=America/New_York:20240612T153000
DTEND;TZID=America/New_York:20240612T170000
DTSTAMP:20260425T064508
CREATED:20240611T171306Z
LAST-MODIFIED:20240611T171308Z
UID:10008717-1718206200-1718211600@www.nassaucountycouncilonaging.org
SUMMARY:Support Group
DESCRIPTION:Caregiver Support Group\nOffers support and education for caregivers. Respite care is available for loved ones. Guest speakers are often featured. \n3:30 – 5 pm\nContact Emily Kunzelmann | 904-775-5472 or ekunzelmann@nassaucountycoa.org \nBook Now
URL:https://www.nassaucountycouncilonaging.org/calendar/support-group-25-2/
LOCATION:Janice Ancrum Senior Life Center\, 1901 Island Walk Way\, Fernandina Beach\, FL\, 32034
CATEGORIES:Health & Support
ATTACH;FMTTYPE=image/png:https://www.nassaucountycouncilonaging.org/wp-content/uploads/2023/06/CareSized.png
END:VEVENT
BEGIN:VEVENT
DTSTART;TZID=America/New_York:20240612T133000
DTEND;TZID=America/New_York:20240612T150000
DTSTAMP:20260425T064508
CREATED:20240611T172123Z
LAST-MODIFIED:20240611T172123Z
UID:10009075-1718199000-1718204400@www.nassaucountycouncilonaging.org
SUMMARY:Caregiver Stressbusters Forum - FREE
DESCRIPTION:1:30 pm – 3:00 pm\nEmily Kunzelmann & Jennifer Gundling \nBook via email:  jgundling@nassaucountycoa.org
URL:https://www.nassaucountycouncilonaging.org/calendar/caregiver-stressbusters-forum-free-10/
LOCATION:Janice Ancrum Senior Life Center\, 1901 Island Walk Way\, Fernandina Beach\, FL\, 32034
CATEGORIES:Health & Support
ATTACH;FMTTYPE=image/png:https://www.nassaucountycouncilonaging.org/wp-content/uploads/2023/06/CareSized.png
END:VEVENT
BEGIN:VEVENT
DTSTART;TZID=America/New_York:20240610T173000
DTEND;TZID=America/New_York:20240610T190000
DTSTAMP:20260425T064508
CREATED:20240625T190538Z
LAST-MODIFIED:20240625T190540Z
UID:10008694-1718040600-1718046000@www.nassaucountycouncilonaging.org
SUMMARY:Support Group: Grieving with Hope
DESCRIPTION:5:30 pm – 7:00 pm\nEmily Kunzelmann      ekunzelmann@nassaucountycoa.org\nJennifer Gundling        jgundling@nassaucountycoa.org \nHelps those who have experienced the loss of a family member or close friend as you connect with others in similar situations. Experienced facilitators and presenters are often featured. \n 
URL:https://www.nassaucountycouncilonaging.org/calendar/support-group-grieving-with-hope-9-2/2024-06-10/
LOCATION:Janice Ancrum Senior Life Center\, 1901 Island Walk Way\, Fernandina Beach\, FL\, 32034
CATEGORIES:Health & Support
ATTACH;FMTTYPE=image/png:https://www.nassaucountycouncilonaging.org/wp-content/uploads/2023/06/GrievingWithHopeSized.png
END:VEVENT
BEGIN:VEVENT
DTSTART;TZID=America/New_York:20240607T110000
DTEND;TZID=America/New_York:20240607T123000
DTSTAMP:20260425T064508
CREATED:20240603T195130Z
LAST-MODIFIED:20240603T195132Z
UID:10004326-1717758000-1717763400@www.nassaucountycouncilonaging.org
SUMMARY:NAMI Mental Health Support Group
DESCRIPTION:National Alliance of Mental Illness (NAMI)\n11:00 am – 12:30 pm \nShare experiences with individuals\, family members and friends impacted by mental illness\nContact: NAMI Nassau\, 904-277-1886\nNational Alliance of Mental Illness \nBook Now
URL:https://www.nassaucountycouncilonaging.org/calendar/nami-mental-health-support-group-3-2-2-6-49-13/
LOCATION:Janice Ancrum Senior Life Center\, 1901 Island Walk Way\, Fernandina Beach\, FL\, 32034
CATEGORIES:Health & Support
ATTACH;FMTTYPE=image/png:https://www.nassaucountycouncilonaging.org/wp-content/uploads/2023/03/NAMISized.png
END:VEVENT
BEGIN:VEVENT
DTSTART;TZID=America/New_York:20240604T120000
DTEND;TZID=America/New_York:20240604T133000
DTSTAMP:20260425T064508
CREATED:20240603T182452Z
LAST-MODIFIED:20240603T182504Z
UID:10007439-1717502400-1717507800@www.nassaucountycouncilonaging.org
SUMMARY:Support Group
DESCRIPTION:Support Group: Hearing Loss\nGroup discussions focus on hearing loss\, how hearing loss impacts everyday living\, your brain and your ability to keep socially engaged and live a fulfilling life. \n12:00 pm – 1:30 pm\nFrances Bartelt\, Facilitator | 904-775-5484  |  fbartelt@nassaucountycoa.org \nBook Now
URL:https://www.nassaucountycouncilonaging.org/calendar/support-group-16-2-7-5-7/
LOCATION:Janice Ancrum Senior Life Center\, 1901 Island Walk Way\, Fernandina Beach\, FL\, 32034
CATEGORIES:Health & Support
ATTACH;FMTTYPE=image/png:https://www.nassaucountycouncilonaging.org/wp-content/uploads/2023/01/EarSized.png
END:VEVENT
BEGIN:VEVENT
DTSTART;TZID=America/New_York:20240531T110000
DTEND;TZID=America/New_York:20240531T123000
DTSTAMP:20260425T064508
CREATED:20240527T163402Z
LAST-MODIFIED:20240527T163404Z
UID:10004325-1717153200-1717158600@www.nassaucountycouncilonaging.org
SUMMARY:NAMI Mental Health Support Group
DESCRIPTION:National Alliance of Mental Illness (NAMI)\n11:00 am – 12:30 pm \nShare experiences with individuals\, family members and friends impacted by mental illness\nContact: NAMI Nassau\, 904-277-1886\nNational Alliance of Mental Illness \nBook Now
URL:https://www.nassaucountycouncilonaging.org/calendar/nami-mental-health-support-group-3-2-2-6-49-12/
LOCATION:Janice Ancrum Senior Life Center\, 1901 Island Walk Way\, Fernandina Beach\, FL\, 32034
CATEGORIES:Health & Support
ATTACH;FMTTYPE=image/png:https://www.nassaucountycouncilonaging.org/wp-content/uploads/2023/03/NAMISized.png
END:VEVENT
BEGIN:VEVENT
DTSTART;TZID=America/New_York:20240524T110000
DTEND;TZID=America/New_York:20240524T123000
DTSTAMP:20260425T064508
CREATED:20240520T204702Z
LAST-MODIFIED:20240520T204704Z
UID:10004324-1716548400-1716553800@www.nassaucountycouncilonaging.org
SUMMARY:NAMI Mental Health Support Group
DESCRIPTION:National Alliance of Mental Illness (NAMI)\n11:00 am – 12:30 pm \nShare experiences with individuals\, family members and friends impacted by mental illness\nContact: NAMI Nassau\, 904-277-1886\nNational Alliance of Mental Illness \nBook Now
URL:https://www.nassaucountycouncilonaging.org/calendar/nami-mental-health-support-group-3-2-2-6-49-11/
LOCATION:Janice Ancrum Senior Life Center\, 1901 Island Walk Way\, Fernandina Beach\, FL\, 32034
CATEGORIES:Health & Support
ATTACH;FMTTYPE=image/png:https://www.nassaucountycouncilonaging.org/wp-content/uploads/2023/03/NAMISized.png
END:VEVENT
BEGIN:VEVENT
DTSTART;TZID=America/New_York:20240522T153000
DTEND;TZID=America/New_York:20240522T170000
DTSTAMP:20260425T064508
CREATED:20230626T191415Z
LAST-MODIFIED:20240325T211458Z
UID:10008711-1716391800-1716397200@www.nassaucountycouncilonaging.org
SUMMARY:Support Group:
DESCRIPTION:Caregiver Support Group\nOffers support and education for caregivers. Respite care is available for loved ones. Guest speakers are often featured. \n3:30 – 5 pm\nContact Emily Kunzelmann | 904-775-5472 or ekunzelmann@nassaucountycoa.org
URL:https://www.nassaucountycouncilonaging.org/calendar/support-group-17-5/2024-05-22/
LOCATION:Janice Ancrum Senior Life Center\, 1901 Island Walk Way\, Fernandina Beach\, FL\, 32034
CATEGORIES:Health & Support
ATTACH;FMTTYPE=image/png:https://www.nassaucountycouncilonaging.org/wp-content/uploads/2023/06/CareSized.png
END:VEVENT
BEGIN:VEVENT
DTSTART;TZID=America/New_York:20240522T133000
DTEND;TZID=America/New_York:20240522T150000
DTSTAMP:20260425T064508
CREATED:20240520T202226Z
LAST-MODIFIED:20240520T202323Z
UID:10009053-1716384600-1716390000@www.nassaucountycouncilonaging.org
SUMMARY:Caregiver Stressbuster Forum
DESCRIPTION:1:30 pm – 3:00 pm\nEmily Kunzelmann & Jennifer Gundling \nekunzelmann@nassaucountycoa.org
URL:https://www.nassaucountycouncilonaging.org/calendar/caregiver-stressbuster-forum-6/
LOCATION:Janice Ancrum Senior Life Center\, 1901 Island Walk Way\, Fernandina Beach\, FL\, 32034
CATEGORIES:Health & Support
ATTACH;FMTTYPE=image/png:https://www.nassaucountycouncilonaging.org/wp-content/uploads/2023/06/CareSized.png
END:VEVENT
BEGIN:VEVENT
DTSTART;TZID=America/New_York:20240522T110000
DTEND;TZID=America/New_York:20240522T123000
DTSTAMP:20260425T064508
CREATED:20240520T195751Z
LAST-MODIFIED:20240520T195754Z
UID:10008707-1716375600-1716381000@www.nassaucountycouncilonaging.org
SUMMARY:Support Group:
DESCRIPTION:Low Vision\nProvides information and adaptive devices and encourages members with vision challenges to share experiences through group discussions and guest speaker presentations. \n11:00 am – 12:30 pm\nFacilitator – Frances Bartelt\, 904-775-5484\, fbartelt@nassaucountycoa.org \nBook Now
URL:https://www.nassaucountycouncilonaging.org/calendar/support-group-15-2-2-2-16/
LOCATION:Janice Ancrum Senior Life Center\, 1901 Island Walk Way\, Fernandina Beach\, FL\, 32034
CATEGORIES:Health & Support
ATTACH;FMTTYPE=image/png:https://www.nassaucountycouncilonaging.org/wp-content/uploads/2023/03/LowVisionSized.png
END:VEVENT
BEGIN:VEVENT
DTSTART;TZID=America/New_York:20240517T110000
DTEND;TZID=America/New_York:20240517T123000
DTSTAMP:20260425T064508
CREATED:20240513T194605Z
LAST-MODIFIED:20240513T194606Z
UID:10004323-1715943600-1715949000@www.nassaucountycouncilonaging.org
SUMMARY:NAMI Mental Health Support Group
DESCRIPTION:National Alliance of Mental Illness (NAMI)\n11:00 am – 12:30 pm \nShare experiences with individuals\, family members and friends impacted by mental illness\nContact: NAMI Nassau\, 904-277-1886\nNational Alliance of Mental Illness \nBook Now
URL:https://www.nassaucountycouncilonaging.org/calendar/nami-mental-health-support-group-3-2-2-6-49-10/
LOCATION:Janice Ancrum Senior Life Center\, 1901 Island Walk Way\, Fernandina Beach\, FL\, 32034
CATEGORIES:Health & Support
ATTACH;FMTTYPE=image/png:https://www.nassaucountycouncilonaging.org/wp-content/uploads/2023/03/NAMISized.png
END:VEVENT
BEGIN:VEVENT
DTSTART;TZID=America/New_York:20240513T173000
DTEND;TZID=America/New_York:20240513T190000
DTSTAMP:20260425T064508
CREATED:20240325T203951Z
LAST-MODIFIED:20240325T203951Z
UID:10008693-1715621400-1715626800@www.nassaucountycouncilonaging.org
SUMMARY:Support Group: Grieving with Hope
DESCRIPTION:5:30 pm – 7:00 pm\nEmily Kunzelmann\nekunzelmann@nassaucountycoa.org \nHelps those who have experienced the loss of a family member or close friend as you connect with others in similar situations. Experienced facilitators and presenters are often featured. \n 
URL:https://www.nassaucountycouncilonaging.org/calendar/support-group-grieving-with-hope-9/2024-05-13/
LOCATION:Janice Ancrum Senior Life Center\, 1901 Island Walk Way\, Fernandina Beach\, FL\, 32034
CATEGORIES:Health & Support
ATTACH;FMTTYPE=image/png:https://www.nassaucountycouncilonaging.org/wp-content/uploads/2023/06/GrievingWithHopeSized.png
END:VEVENT
BEGIN:VEVENT
DTSTART;TZID=America/New_York:20240510T110000
DTEND;TZID=America/New_York:20240510T123000
DTSTAMP:20260425T064508
CREATED:20240506T174123Z
LAST-MODIFIED:20240506T174125Z
UID:10004322-1715338800-1715344200@www.nassaucountycouncilonaging.org
SUMMARY:NAMI Mental Health Support Group
DESCRIPTION:National Alliance of Mental Illness (NAMI)\n11:00 am – 12:30 pm \nShare experiences with individuals\, family members and friends impacted by mental illness\nContact: NAMI Nassau\, 904-277-1886\nNational Alliance of Mental Illness \nBook Now
URL:https://www.nassaucountycouncilonaging.org/calendar/nami-mental-health-support-group-3-2-2-6-49-9/
LOCATION:Janice Ancrum Senior Life Center\, 1901 Island Walk Way\, Fernandina Beach\, FL\, 32034
CATEGORIES:Health & Support
ATTACH;FMTTYPE=image/png:https://www.nassaucountycouncilonaging.org/wp-content/uploads/2023/03/NAMISized.png
END:VEVENT
BEGIN:VEVENT
DTSTART;TZID=America/New_York:20240508T153000
DTEND;TZID=America/New_York:20240508T170000
DTSTAMP:20260425T064508
CREATED:20240325T212004Z
LAST-MODIFIED:20240325T212004Z
UID:10008716-1715182200-1715187600@www.nassaucountycouncilonaging.org
SUMMARY:Support Group
DESCRIPTION:Caregiver Support Group\nOffers support and education for caregivers. Respite care is available for loved ones. Guest speakers are often featured. \n3:30 – 5 pm\nContact Emily Kunzelmann | 904-775-5472 or ekunzelmann@nassaucountycoa.org
URL:https://www.nassaucountycouncilonaging.org/calendar/support-group-25/2024-05-08/
LOCATION:Janice Ancrum Senior Life Center\, 1901 Island Walk Way\, Fernandina Beach\, FL\, 32034
CATEGORIES:Health & Support
ATTACH;FMTTYPE=image/png:https://www.nassaucountycouncilonaging.org/wp-content/uploads/2023/06/CareSized.png
END:VEVENT
BEGIN:VEVENT
DTSTART;TZID=America/New_York:20240508T133000
DTEND;TZID=America/New_York:20240508T150000
DTSTAMP:20260425T064508
CREATED:20240506T171255Z
LAST-MODIFIED:20240506T171255Z
UID:10009013-1715175000-1715180400@www.nassaucountycouncilonaging.org
SUMMARY:Caregiver Stressbuster Forum
DESCRIPTION:1:30 pm – 3:00 pm\nEmily Kunzelmann & Jennifer Gundling \nBook via Email:\nekunzelmann@nassaucountycoa.org
URL:https://www.nassaucountycouncilonaging.org/calendar/caregiver-stressbuster-forum-5/
LOCATION:Janice Ancrum Senior Life Center\, 1901 Island Walk Way\, Fernandina Beach\, FL\, 32034
CATEGORIES:Health & Support
ATTACH;FMTTYPE=image/png:https://www.nassaucountycouncilonaging.org/wp-content/uploads/2023/06/CareSized.png
END:VEVENT
BEGIN:VEVENT
DTSTART;TZID=America/New_York:20240508T124500
DTEND;TZID=America/New_York:20240508T134500
DTSTAMP:20260425T064508
CREATED:20240330T214932Z
LAST-MODIFIED:20240506T170423Z
UID:10008958-1715172300-1715175900@www.nassaucountycouncilonaging.org
SUMMARY:Growing with Gratitude
DESCRIPTION:12:45 – 1:45 pm\nAdrienne Talbert\,\nOasis Senior Advisors \nBook Now
URL:https://www.nassaucountycouncilonaging.org/calendar/growing-with-gratitude/
LOCATION:Janice Ancrum Senior Life Center\, 1901 Island Walk Way\, Fernandina Beach\, FL\, 32034
CATEGORIES:Health & Support,Wellness, Health & Fitness
ATTACH;FMTTYPE=image/png:https://www.nassaucountycouncilonaging.org/wp-content/uploads/2023/06/PositiveThinkingSized.png
END:VEVENT
BEGIN:VEVENT
DTSTART;TZID=America/New_York:20240507T120000
DTEND;TZID=America/New_York:20240507T133000
DTSTAMP:20260425T064508
CREATED:20240506T164258Z
LAST-MODIFIED:20240506T164300Z
UID:10007438-1715083200-1715088600@www.nassaucountycouncilonaging.org
SUMMARY:Support Group
DESCRIPTION:Support Group: Hearing Loss\nGroup discussions focus on hearing loss\, how hearing loss impacts everyday living\, your brain and your ability to keep socially engaged and live a fulfilling life. \n12:00 pm – 1:30 pm\nFrances Bartelt\, Facilitator | 904-775-5484  |  fbartelt@nassaucountycoa.org \nBook Now
URL:https://www.nassaucountycouncilonaging.org/calendar/support-group-16-2-7-5-6/
LOCATION:Janice Ancrum Senior Life Center\, 1901 Island Walk Way\, Fernandina Beach\, FL\, 32034
CATEGORIES:Health & Support
ATTACH;FMTTYPE=image/png:https://www.nassaucountycouncilonaging.org/wp-content/uploads/2023/01/EarSized.png
END:VEVENT
BEGIN:VEVENT
DTSTART;TZID=America/New_York:20240503T110000
DTEND;TZID=America/New_York:20240503T123000
DTSTAMP:20260425T064508
CREATED:20240429T183434Z
LAST-MODIFIED:20240429T183436Z
UID:10004321-1714734000-1714739400@www.nassaucountycouncilonaging.org
SUMMARY:NAMI Mental Health Support Group
DESCRIPTION:National Alliance of Mental Illness (NAMI)\n11:00 am – 12:30 pm \nShare experiences with individuals\, family members and friends impacted by mental illness\nContact: NAMI Nassau\, 904-277-1886\nNational Alliance of Mental Illness \nBook Now
URL:https://www.nassaucountycouncilonaging.org/calendar/nami-mental-health-support-group-3-2-2-6-49-8/
LOCATION:Janice Ancrum Senior Life Center\, 1901 Island Walk Way\, Fernandina Beach\, FL\, 32034
CATEGORIES:Health & Support
ATTACH;FMTTYPE=image/png:https://www.nassaucountycouncilonaging.org/wp-content/uploads/2023/03/NAMISized.png
END:VEVENT
BEGIN:VEVENT
DTSTART;TZID=America/New_York:20240429T120000
DTEND;TZID=America/New_York:20240429T130000
DTSTAMP:20260425T064508
CREATED:20240429T162411Z
LAST-MODIFIED:20240429T162411Z
UID:10008979-1714392000-1714395600@www.nassaucountycouncilonaging.org
SUMMARY:Thriving Through Aging's Challenges
DESCRIPTION:12:00 pm – 1:00 pm\nAdrienne Talbert \nBook Now
URL:https://www.nassaucountycouncilonaging.org/calendar/thriving-through-agings-challenges/
LOCATION:Janice Ancrum Senior Life Center\, 1901 Island Walk Way\, Fernandina Beach\, FL\, 32034
CATEGORIES:Health & Support
ATTACH;FMTTYPE=image/png:https://www.nassaucountycouncilonaging.org/wp-content/uploads/2024/04/TeaTimeSized.png
END:VEVENT
BEGIN:VEVENT
DTSTART;TZID=America/New_York:20240426T110000
DTEND;TZID=America/New_York:20240426T123000
DTSTAMP:20260425T064508
CREATED:20240422T154338Z
LAST-MODIFIED:20240422T154341Z
UID:10004320-1714129200-1714134600@www.nassaucountycouncilonaging.org
SUMMARY:NAMI Mental Health Support Group
DESCRIPTION:National Alliance of Mental Illness (NAMI)\n11:00 am – 12:30 pm \nShare experiences with individuals\, family members and friends impacted by mental illness\nContact: NAMI Nassau\, 904-277-1886\nNational Alliance of Mental Illness \nBook Now
URL:https://www.nassaucountycouncilonaging.org/calendar/nami-mental-health-support-group-3-2-2-6-49-7/
LOCATION:Janice Ancrum Senior Life Center\, 1901 Island Walk Way\, Fernandina Beach\, FL\, 32034
CATEGORIES:Health & Support
ATTACH;FMTTYPE=image/png:https://www.nassaucountycouncilonaging.org/wp-content/uploads/2023/03/NAMISized.png
END:VEVENT
BEGIN:VEVENT
DTSTART;TZID=America/New_York:20240426T090000
DTEND;TZID=America/New_York:20240426T100000
DTSTAMP:20260425T064508
CREATED:20240422T153923Z
LAST-MODIFIED:20240422T153923Z
UID:10008978-1714122000-1714125600@www.nassaucountycouncilonaging.org
SUMMARY:Nutrition Education
DESCRIPTION:9:00 am – 10:00 am\nBeth Verlinde \nBook Now
URL:https://www.nassaucountycouncilonaging.org/calendar/nutrition-education/
LOCATION:Janice Ancrum Senior Life Center\, 1901 Island Walk Way\, Fernandina Beach\, FL\, 32034
CATEGORIES:Health & Support
ATTACH;FMTTYPE=image/png:https://www.nassaucountycouncilonaging.org/wp-content/uploads/2024/04/SmoothieSized.png
END:VEVENT
BEGIN:VEVENT
DTSTART;TZID=America/New_York:20240424T153000
DTEND;TZID=America/New_York:20240424T170000
DTSTAMP:20260425T064508
CREATED:20230626T191415Z
LAST-MODIFIED:20240325T211458Z
UID:10006910-1713972600-1713978000@www.nassaucountycouncilonaging.org
SUMMARY:Support Group:
DESCRIPTION:Caregiver Support Group\nOffers support and education for caregivers. Respite care is available for loved ones. Guest speakers are often featured. \n3:30 – 5 pm\nContact Emily Kunzelmann | 904-775-5472 or ekunzelmann@nassaucountycoa.org
URL:https://www.nassaucountycouncilonaging.org/calendar/support-group-17-5/2024-04-24/
LOCATION:Janice Ancrum Senior Life Center\, 1901 Island Walk Way\, Fernandina Beach\, FL\, 32034
CATEGORIES:Health & Support
ATTACH;FMTTYPE=image/png:https://www.nassaucountycouncilonaging.org/wp-content/uploads/2023/06/CareSized.png
END:VEVENT
BEGIN:VEVENT
DTSTART;TZID=America/New_York:20240424T110000
DTEND;TZID=America/New_York:20240424T123000
DTSTAMP:20260425T064508
CREATED:20240422T150642Z
LAST-MODIFIED:20240422T150645Z
UID:10006858-1713956400-1713961800@www.nassaucountycouncilonaging.org
SUMMARY:Support Group:
DESCRIPTION:Low Vision\nProvides information and adaptive devices and encourages members with vision challenges to share experiences through group discussions and guest speaker presentations. \n11:00 am – 12:30 pm\nFacilitator – Frances Bartelt\, 904-775-5484\, fbartelt@nassaucountycoa.org \nBook Now
URL:https://www.nassaucountycouncilonaging.org/calendar/support-group-15-2-2-2-15/
LOCATION:Janice Ancrum Senior Life Center\, 1901 Island Walk Way\, Fernandina Beach\, FL\, 32034
CATEGORIES:Health & Support
ATTACH;FMTTYPE=image/png:https://www.nassaucountycouncilonaging.org/wp-content/uploads/2023/03/LowVisionSized.png
END:VEVENT
BEGIN:VEVENT
DTSTART;TZID=America/New_York:20240424T090000
DTEND;TZID=America/New_York:20240424T100000
DTSTAMP:20260425T064508
CREATED:20240330T214430Z
LAST-MODIFIED:20240422T150014Z
UID:10008956-1713949200-1713952800@www.nassaucountycouncilonaging.org
SUMMARY:Diabetes Nutrition - Free
DESCRIPTION:9 – 10 am\nCasey Hemphill\, RD\, LDN \nBook Now
URL:https://www.nassaucountycouncilonaging.org/calendar/diabetes-nutrition-free/
LOCATION:Janice Ancrum Senior Life Center\, 1901 Island Walk Way\, Fernandina Beach\, FL\, 32034
CATEGORIES:Health & Support,Wellness, Health & Fitness
ATTACH;FMTTYPE=image/png:https://www.nassaucountycouncilonaging.org/wp-content/uploads/2023/10/HealthyBodySized-1.png
END:VEVENT
BEGIN:VEVENT
DTSTART;TZID=America/New_York:20240422T173000
DTEND;TZID=America/New_York:20240422T190000
DTSTAMP:20260425T064508
CREATED:20240325T203631Z
LAST-MODIFIED:20240325T203734Z
UID:10008687-1713807000-1713812400@www.nassaucountycouncilonaging.org
SUMMARY:Support Group: Grieving with Hope
DESCRIPTION:5:30 pm – 7:00 pm\nEmily Kunzelmann\nekunzelmann@nassaucountycoa.org \nHelps those who have experienced the loss of a family member or close friend as you connect with others in similar situations. Experienced facilitators and presenters are often featured. \n  \n 
URL:https://www.nassaucountycouncilonaging.org/calendar/support-group-grieving-with-hope-8/2024-04-22/
LOCATION:Janice Ancrum Senior Life Center\, 1901 Island Walk Way\, Fernandina Beach\, FL\, 32034
CATEGORIES:Health & Support
ATTACH;FMTTYPE=image/png:https://www.nassaucountycouncilonaging.org/wp-content/uploads/2023/06/GrievingWithHopeSized.png
END:VEVENT
BEGIN:VEVENT
DTSTART;TZID=America/New_York:20240419T130000
DTEND;TZID=America/New_York:20240419T150000
DTSTAMP:20260425T064508
CREATED:20240330T214257Z
LAST-MODIFIED:20240415T201848Z
UID:10008955-1713531600-1713538800@www.nassaucountycouncilonaging.org
SUMMARY:Honoring Choices
DESCRIPTION:1 – 3 pm\nCindy Newman\, Volunteer\nCommunity Hospice & Palliative Care \nBook Now
URL:https://www.nassaucountycouncilonaging.org/calendar/honoring-choices-12/
LOCATION:Janice Ancrum Senior Life Center\, 1901 Island Walk Way\, Fernandina Beach\, FL\, 32034
CATEGORIES:Health & Support
ATTACH;FMTTYPE=image/png:https://www.nassaucountycouncilonaging.org/wp-content/uploads/2022/12/honoring-choices.png
END:VEVENT
BEGIN:VEVENT
DTSTART;TZID=America/New_York:20240419T110000
DTEND;TZID=America/New_York:20240419T123000
DTSTAMP:20260425T064508
CREATED:20240415T200729Z
LAST-MODIFIED:20240415T200730Z
UID:10004319-1713524400-1713529800@www.nassaucountycouncilonaging.org
SUMMARY:NAMI Mental Health Support Group
DESCRIPTION:National Alliance of Mental Illness (NAMI)\n11:00 am – 12:30 pm \nShare experiences with individuals\, family members and friends impacted by mental illness\nContact: NAMI Nassau\, 904-277-1886\nNational Alliance of Mental Illness \nBook Now
URL:https://www.nassaucountycouncilonaging.org/calendar/nami-mental-health-support-group-3-2-2-6-49-6/
LOCATION:Janice Ancrum Senior Life Center\, 1901 Island Walk Way\, Fernandina Beach\, FL\, 32034
CATEGORIES:Health & Support
ATTACH;FMTTYPE=image/png:https://www.nassaucountycouncilonaging.org/wp-content/uploads/2023/03/NAMISized.png
END:VEVENT
END:VCALENDAR