BEGIN:VCALENDAR
VERSION:2.0
PRODID:-//Nassau County Council on Aging - ECPv6.15.20//NONSGML v1.0//EN
CALSCALE:GREGORIAN
METHOD:PUBLISH
X-WR-CALNAME:Nassau County Council on Aging
X-ORIGINAL-URL:https://www.nassaucountycouncilonaging.org
X-WR-CALDESC:Events for Nassau County Council on Aging
REFRESH-INTERVAL;VALUE=DURATION:PT1H
X-Robots-Tag:noindex
X-PUBLISHED-TTL:PT1H
BEGIN:VTIMEZONE
TZID:America/New_York
BEGIN:DAYLIGHT
TZOFFSETFROM:-0500
TZOFFSETTO:-0400
TZNAME:EDT
DTSTART:20230312T070000
END:DAYLIGHT
BEGIN:STANDARD
TZOFFSETFROM:-0400
TZOFFSETTO:-0500
TZNAME:EST
DTSTART:20231105T060000
END:STANDARD
BEGIN:DAYLIGHT
TZOFFSETFROM:-0500
TZOFFSETTO:-0400
TZNAME:EDT
DTSTART:20240310T070000
END:DAYLIGHT
BEGIN:STANDARD
TZOFFSETFROM:-0400
TZOFFSETTO:-0500
TZNAME:EST
DTSTART:20241103T060000
END:STANDARD
BEGIN:DAYLIGHT
TZOFFSETFROM:-0500
TZOFFSETTO:-0400
TZNAME:EDT
DTSTART:20250309T070000
END:DAYLIGHT
BEGIN:STANDARD
TZOFFSETFROM:-0400
TZOFFSETTO:-0500
TZNAME:EST
DTSTART:20251102T060000
END:STANDARD
END:VTIMEZONE
BEGIN:VEVENT
DTSTART;TZID=America/New_York:20240826T173000
DTEND;TZID=America/New_York:20240826T190000
DTSTAMP:20260424T235301
CREATED:20240625T190048Z
LAST-MODIFIED:20240625T190257Z
UID:10008691-1724693400-1724698800@www.nassaucountycouncilonaging.org
SUMMARY:Support Group: Grieving with Hope
DESCRIPTION:5:30 pm – 7:00 pm\nEmily Kunzelmann       ekunzelmann@nassaucountycoa.org\nJenifer Gundling\,          jgundling@nassaucountycoa.org  \nHelps those who have experienced the loss of a family member or close friend as you connect with others in similar situations. Experienced facilitators and presenters are often featured. \n  \n 
URL:https://www.nassaucountycouncilonaging.org/calendar/support-group-grieving-with-hope-8-2/2024-08-26/
LOCATION:Janice Ancrum Senior Life Center\, 1901 Island Walk Way\, Fernandina Beach\, FL\, 32034
CATEGORIES:Health & Support
ATTACH;FMTTYPE=image/png:https://www.nassaucountycouncilonaging.org/wp-content/uploads/2023/06/GrievingWithHopeSized.png
END:VEVENT
BEGIN:VEVENT
DTSTART;TZID=America/New_York:20240823T110000
DTEND;TZID=America/New_York:20240823T123000
DTSTAMP:20260424T235301
CREATED:20240818T191444Z
LAST-MODIFIED:20240818T191503Z
UID:10008568-1724410800-1724416200@www.nassaucountycouncilonaging.org
SUMMARY:NAMI Mental Health Support Group
DESCRIPTION:National Alliance of Mental Illness (NAMI)\n11:00 am – 12:30 pm \nShare experiences with individuals\, family members and friends impacted by mental illness\nContact: NAMI Nassau\, 904-277-1886\nNational Alliance of Mental Illness \nBook Now
URL:https://www.nassaucountycouncilonaging.org/calendar/nami-mental-health-support-group-3-2-2-6-49-23/
LOCATION:Janice Ancrum Senior Life Center\, 1901 Island Walk Way\, Fernandina Beach\, FL\, 32034
CATEGORIES:Health & Support
ATTACH;FMTTYPE=image/png:https://www.nassaucountycouncilonaging.org/wp-content/uploads/2023/03/NAMISized.png
END:VEVENT
BEGIN:VEVENT
DTSTART;TZID=America/New_York:20240816T110000
DTEND;TZID=America/New_York:20240816T123000
DTSTAMP:20260424T235301
CREATED:20240810T192938Z
LAST-MODIFIED:20240810T192951Z
UID:10008567-1723806000-1723811400@www.nassaucountycouncilonaging.org
SUMMARY:NAMI Mental Health Support Group
DESCRIPTION:National Alliance of Mental Illness (NAMI)\n11:00 am – 12:30 pm \nShare experiences with individuals\, family members and friends impacted by mental illness\nContact: NAMI Nassau\, 904-277-1886\nNational Alliance of Mental Illness \nBook Now
URL:https://www.nassaucountycouncilonaging.org/calendar/nami-mental-health-support-group-3-2-2-6-49-22/
LOCATION:Janice Ancrum Senior Life Center\, 1901 Island Walk Way\, Fernandina Beach\, FL\, 32034
CATEGORIES:Health & Support
ATTACH;FMTTYPE=image/png:https://www.nassaucountycouncilonaging.org/wp-content/uploads/2023/03/NAMISized.png
END:VEVENT
BEGIN:VEVENT
DTSTART;TZID=America/New_York:20240815T143000
DTEND;TZID=America/New_York:20240815T153000
DTSTAMP:20260424T235301
CREATED:20240810T192245Z
LAST-MODIFIED:20240810T192254Z
UID:10009953-1723732200-1723735800@www.nassaucountycouncilonaging.org
SUMMARY:Lip Reading
DESCRIPTION:Series of 5\n2:30 – 3:30 pm\nSherry Shayne\, Audiologist \nBook Now
URL:https://www.nassaucountycouncilonaging.org/calendar/lip-reading-6-2/
LOCATION:Janice Ancrum Senior Life Center\, 1901 Island Walk Way\, Fernandina Beach\, FL\, 32034
CATEGORIES:Health & Support
ATTACH;FMTTYPE=image/png:https://www.nassaucountycouncilonaging.org/wp-content/uploads/2024/03/LipSized.png
END:VEVENT
BEGIN:VEVENT
DTSTART;TZID=America/New_York:20240814T153000
DTEND;TZID=America/New_York:20240814T170000
DTSTAMP:20260424T235301
CREATED:20240810T190153Z
LAST-MODIFIED:20240810T190203Z
UID:10008719-1723649400-1723654800@www.nassaucountycouncilonaging.org
SUMMARY:Support Group
DESCRIPTION:Caregiver Support Group\nOffers support and education for caregivers. Respite care is available for loved ones. Guest speakers are often featured. \n3:30 – 5 pm\nContact Emily Kunzelmann | 904-775-5472 or ekunzelmann@nassaucountycoa.org\nor Jennifer Gundling  |  904-775-5488 or jgundling@nassaucountycoa.org \nBook Now
URL:https://www.nassaucountycouncilonaging.org/calendar/support-group-25-3-2/
LOCATION:Janice Ancrum Senior Life Center\, 1901 Island Walk Way\, Fernandina Beach\, FL\, 32034
CATEGORIES:Health & Support
ATTACH;FMTTYPE=image/png:https://www.nassaucountycouncilonaging.org/wp-content/uploads/2023/06/CareSized.png
END:VEVENT
BEGIN:VEVENT
DTSTART;TZID=America/New_York:20240814T133000
DTEND;TZID=America/New_York:20240814T150000
DTSTAMP:20260424T235301
CREATED:20240810T185646Z
LAST-MODIFIED:20240810T185738Z
UID:10010009-1723642200-1723647600@www.nassaucountycouncilonaging.org
SUMMARY:Caregiver Stress-Buster Forum
DESCRIPTION:1:30 – 3:00 pm\nJennifer Gundling  | 904-775-5488 or jgundling@nassaucountycoa.org\nEmily Kunzelmann | 904-775-5472 or ekunzelmann@nassaucountycoa.org \nPractice stress-deduction and problem solving techniques to be a successful caregiver. \n 
URL:https://www.nassaucountycouncilonaging.org/calendar/caregiver-stress-buster-forum-3/
LOCATION:Janice Ancrum Senior Life Center\, 1901 Island Walk Way\, Fernandina Beach\, FL\, 32034
CATEGORIES:Health & Support
ATTACH;FMTTYPE=image/png:https://www.nassaucountycouncilonaging.org/wp-content/uploads/2023/06/CareSized.png
END:VEVENT
BEGIN:VEVENT
DTSTART;TZID=America/New_York:20240812T173000
DTEND;TZID=America/New_York:20240812T190000
DTSTAMP:20260424T235301
CREATED:20240810T182249Z
LAST-MODIFIED:20240810T182255Z
UID:10008696-1723483800-1723489200@www.nassaucountycouncilonaging.org
SUMMARY:Support Group: Grieving with Hope
DESCRIPTION:5:30 pm – 7:00 pm\nEmily Kunzelmann      ekunzelmann@nassaucountycoa.org\nJennifer Gundling        jgundling@nassaucountycoa.org \nHelps those who have experienced the loss of a family member or close friend as you connect with others in similar situations. Experienced facilitators and presenters are often featured. \nBook via email ekunzelmann@nassaucountycoa.org\n 
URL:https://www.nassaucountycouncilonaging.org/calendar/support-group-grieving-with-hope-9-2-2/
LOCATION:Janice Ancrum Senior Life Center\, 1901 Island Walk Way\, Fernandina Beach\, FL\, 32034
CATEGORIES:Health & Support
ATTACH;FMTTYPE=image/png:https://www.nassaucountycouncilonaging.org/wp-content/uploads/2023/06/GrievingWithHopeSized.png
END:VEVENT
BEGIN:VEVENT
DTSTART;TZID=America/New_York:20240809T110000
DTEND;TZID=America/New_York:20240809T123000
DTSTAMP:20260424T235301
CREATED:20240803T192627Z
LAST-MODIFIED:20240803T192628Z
UID:10008566-1723201200-1723206600@www.nassaucountycouncilonaging.org
SUMMARY:NAMI Mental Health Support Group
DESCRIPTION:National Alliance of Mental Illness (NAMI)\n11:00 am – 12:30 pm \nShare experiences with individuals\, family members and friends impacted by mental illness\nContact: NAMI Nassau\, 904-277-1886\nNational Alliance of Mental Illness \nBook Now
URL:https://www.nassaucountycouncilonaging.org/calendar/nami-mental-health-support-group-3-2-2-6-49-21/
LOCATION:Janice Ancrum Senior Life Center\, 1901 Island Walk Way\, Fernandina Beach\, FL\, 32034
CATEGORIES:Health & Support
ATTACH;FMTTYPE=image/png:https://www.nassaucountycouncilonaging.org/wp-content/uploads/2023/03/NAMISized.png
END:VEVENT
BEGIN:VEVENT
DTSTART;TZID=America/New_York:20240806T120000
DTEND;TZID=America/New_York:20240806T133000
DTSTAMP:20260424T235301
CREATED:20240803T184819Z
LAST-MODIFIED:20240803T184820Z
UID:10008964-1722945600-1722951000@www.nassaucountycouncilonaging.org
SUMMARY:Support Group
DESCRIPTION:Support Group: Hearing Loss\nGroup discussions focus on hearing loss\, how hearing loss impacts everyday living\, your brain and your ability to keep socially engaged and live a fulfilling life. \n12:00 pm – 1:30 pm\nFrances Bartelt\, Facilitator | 904-775-5484  |  fbartelt@nassaucountycoa.org
URL:https://www.nassaucountycouncilonaging.org/calendar/support-group-16-2-7-5-9/
LOCATION:Janice Ancrum Senior Life Center\, 1901 Island Walk Way\, Fernandina Beach\, FL\, 32034
CATEGORIES:Health & Support
ATTACH;FMTTYPE=image/png:https://www.nassaucountycouncilonaging.org/wp-content/uploads/2023/01/EarSized.png
END:VEVENT
BEGIN:VEVENT
DTSTART;TZID=America/New_York:20240802T110000
DTEND;TZID=America/New_York:20240802T123000
DTSTAMP:20260424T235301
CREATED:20240727T182314Z
LAST-MODIFIED:20240727T182316Z
UID:10008565-1722596400-1722601800@www.nassaucountycouncilonaging.org
SUMMARY:NAMI Mental Health Support Group
DESCRIPTION:National Alliance of Mental Illness (NAMI)\n11:00 am – 12:30 pm \nShare experiences with individuals\, family members and friends impacted by mental illness\nContact: NAMI Nassau\, 904-277-1886\nNational Alliance of Mental Illness \nBook Now
URL:https://www.nassaucountycouncilonaging.org/calendar/nami-mental-health-support-group-3-2-2-6-49-20/
LOCATION:Janice Ancrum Senior Life Center\, 1901 Island Walk Way\, Fernandina Beach\, FL\, 32034
CATEGORIES:Health & Support
ATTACH;FMTTYPE=image/png:https://www.nassaucountycouncilonaging.org/wp-content/uploads/2023/03/NAMISized.png
END:VEVENT
BEGIN:VEVENT
DTSTART;TZID=America/New_York:20240801T143000
DTEND;TZID=America/New_York:20240801T153000
DTSTAMP:20260424T235301
CREATED:20240727T181429Z
LAST-MODIFIED:20240727T181431Z
UID:10009952-1722522600-1722526200@www.nassaucountycouncilonaging.org
SUMMARY:Lip Reading
DESCRIPTION:Series of 5\n2:30 – 3:30 pm\nSherry Shayne\, Audiologist \nBook Now
URL:https://www.nassaucountycouncilonaging.org/calendar/lip-reading-5-3/
LOCATION:Janice Ancrum Senior Life Center\, 1901 Island Walk Way\, Fernandina Beach\, FL\, 32034
CATEGORIES:Health & Support
ATTACH;FMTTYPE=image/png:https://www.nassaucountycouncilonaging.org/wp-content/uploads/2024/03/LipSized.png
END:VEVENT
BEGIN:VEVENT
DTSTART;TZID=America/New_York:20240726T110000
DTEND;TZID=America/New_York:20240726T123000
DTSTAMP:20260424T235301
CREATED:20240318T222537Z
LAST-MODIFIED:20240318T222537Z
UID:10004333-1721991600-1721997000@www.nassaucountycouncilonaging.org
SUMMARY:NAMI Mental Health Support Group
DESCRIPTION:National Alliance of Mental Illness (NAMI)\n11:00 am – 12:30 pm \nShare experiences with individuals\, family members and friends impacted by mental illness\nContact: NAMI Nassau\, 904-277-1886\nNational Alliance of Mental Illness
URL:https://www.nassaucountycouncilonaging.org/calendar/nami-mental-health-support-group-3-2-2-6-49/
LOCATION:Janice Ancrum Senior Life Center\, 1901 Island Walk Way\, Fernandina Beach\, FL\, 32034
CATEGORIES:Health & Support
ATTACH;FMTTYPE=image/png:https://www.nassaucountycouncilonaging.org/wp-content/uploads/2023/03/NAMISized.png
END:VEVENT
BEGIN:VEVENT
DTSTART;TZID=America/New_York:20240725T143000
DTEND;TZID=America/New_York:20240725T153000
DTSTAMP:20260424T235301
CREATED:20240626T184643Z
LAST-MODIFIED:20240626T184643Z
UID:10009951-1721917800-1721921400@www.nassaucountycouncilonaging.org
SUMMARY:Lip Reading
DESCRIPTION:Series of 5\n2:30 – 3:30 pm\nSherry Shayne\, Audiologist
URL:https://www.nassaucountycouncilonaging.org/calendar/lip-reading-5/2024-07-25/
LOCATION:Janice Ancrum Senior Life Center\, 1901 Island Walk Way\, Fernandina Beach\, FL\, 32034
CATEGORIES:Health & Support
ATTACH;FMTTYPE=image/png:https://www.nassaucountycouncilonaging.org/wp-content/uploads/2024/03/LipSized.png
END:VEVENT
BEGIN:VEVENT
DTSTART;TZID=America/New_York:20240724T173000
DTEND;TZID=America/New_York:20240724T183000
DTSTAMP:20260424T235301
CREATED:20240626T202017Z
LAST-MODIFIED:20240626T202017Z
UID:10010021-1721842200-1721845800@www.nassaucountycouncilonaging.org
SUMMARY:Yoga For the Grieving Heart
DESCRIPTION:5:30 – 6:30 pm\nTina LaVacca\, RHT\, Certified Yoga Instructor\n(570) 460-0373 or changeingtidesamelia@gmail.com \nDesigned for those who have recently lost a loved one and those on a longer journey facing daily reminders of deep loss. \nSponsored by Jim Tippins\, Changing Tides Bereavement
URL:https://www.nassaucountycouncilonaging.org/calendar/yoga-for-the-grieving-heart/
LOCATION:Janice Ancrum Senior Life Center\, 1901 Island Walk Way\, Fernandina Beach\, FL\, 32034
CATEGORIES:Health & Support
ATTACH;FMTTYPE=image/png:https://www.nassaucountycouncilonaging.org/wp-content/uploads/2021/12/yoga.png
END:VEVENT
BEGIN:VEVENT
DTSTART;TZID=America/New_York:20240724T153000
DTEND;TZID=America/New_York:20240724T170000
DTSTAMP:20260424T235301
CREATED:20240625T202924Z
LAST-MODIFIED:20240625T202926Z
UID:10008713-1721835000-1721840400@www.nassaucountycouncilonaging.org
SUMMARY:Support Group:
DESCRIPTION:Caregiver Support Group\nOffers support and education for caregivers. Respite care is available for loved ones. Guest speakers are often featured. \n3:30 – 5 pm\nContact Emily Kunzelmann | 904-775-5472 or ekunzelmann@nassaucountycoa.org \nor Jennifer Gundling  |  904-775-5488  or jgundling@nassaucountycoa.org \n 
URL:https://www.nassaucountycouncilonaging.org/calendar/support-group-17-5-11/2024-07-24/
LOCATION:Janice Ancrum Senior Life Center\, 1901 Island Walk Way\, Fernandina Beach\, FL\, 32034
CATEGORIES:Health & Support
ATTACH;FMTTYPE=image/png:https://www.nassaucountycouncilonaging.org/wp-content/uploads/2023/06/CareSized.png
END:VEVENT
BEGIN:VEVENT
DTSTART;TZID=America/New_York:20240724T133000
DTEND;TZID=America/New_York:20240724T150000
DTSTAMP:20260424T235301
CREATED:20240626T201543Z
LAST-MODIFIED:20240626T201543Z
UID:10010013-1721827800-1721833200@www.nassaucountycouncilonaging.org
SUMMARY:Caregiver Stress-Buster Forum
DESCRIPTION:1:30 – 3:00 pm\nJennifer Gundling  | 904-775-5488 or jgundling@nassaucountycoa.org\nEmily Kunzelmann | 904-775-5472 or ekunzelmann@nassaucountycoa.org \nPractice stress-deduction and problem solving techniques to be a successful caregiver.
URL:https://www.nassaucountycouncilonaging.org/calendar/caregiver-stress-buster-forum-2/2024-07-24/
LOCATION:Janice Ancrum Senior Life Center\, 1901 Island Walk Way\, Fernandina Beach\, FL\, 32034
CATEGORIES:Health & Support
ATTACH;FMTTYPE=image/png:https://www.nassaucountycouncilonaging.org/wp-content/uploads/2023/06/CareSized.png
END:VEVENT
BEGIN:VEVENT
DTSTART;TZID=America/New_York:20240724T110000
DTEND;TZID=America/New_York:20240724T123000
DTSTAMP:20260424T235301
CREATED:20230321T191447Z
LAST-MODIFIED:20240625T200946Z
UID:10008709-1721818800-1721824200@www.nassaucountycouncilonaging.org
SUMMARY:Support Group:
DESCRIPTION:Low Vision\nProvides information and adaptive devices and encourages members with vision challenges to share experiences through group discussions and guest speaker presentations. \n11:00 am – 12:30 pm\nFacilitator – Frances Bartelt\, 904-775-5484\, fbartelt@nassaucountycoa.org
URL:https://www.nassaucountycouncilonaging.org/calendar/support-group-15-2-2-2/2024-07-24/
LOCATION:Janice Ancrum Senior Life Center\, 1901 Island Walk Way\, Fernandina Beach\, FL\, 32034
CATEGORIES:Health & Support
ATTACH;FMTTYPE=image/png:https://www.nassaucountycouncilonaging.org/wp-content/uploads/2023/03/LowVisionSized.png
END:VEVENT
BEGIN:VEVENT
DTSTART;TZID=America/New_York:20240722T173000
DTEND;TZID=America/New_York:20240722T190000
DTSTAMP:20260424T235301
CREATED:20240625T190048Z
LAST-MODIFIED:20240625T190257Z
UID:10008690-1721669400-1721674800@www.nassaucountycouncilonaging.org
SUMMARY:Support Group: Grieving with Hope
DESCRIPTION:5:30 pm – 7:00 pm\nEmily Kunzelmann       ekunzelmann@nassaucountycoa.org\nJenifer Gundling\,          jgundling@nassaucountycoa.org  \nHelps those who have experienced the loss of a family member or close friend as you connect with others in similar situations. Experienced facilitators and presenters are often featured. \n  \n 
URL:https://www.nassaucountycouncilonaging.org/calendar/support-group-grieving-with-hope-8-2/2024-07-22/
LOCATION:Janice Ancrum Senior Life Center\, 1901 Island Walk Way\, Fernandina Beach\, FL\, 32034
CATEGORIES:Health & Support
ATTACH;FMTTYPE=image/png:https://www.nassaucountycouncilonaging.org/wp-content/uploads/2023/06/GrievingWithHopeSized.png
END:VEVENT
BEGIN:VEVENT
DTSTART;TZID=America/New_York:20240719T110000
DTEND;TZID=America/New_York:20240719T123000
DTSTAMP:20260424T235301
CREATED:20240715T190843Z
LAST-MODIFIED:20240715T190845Z
UID:10004332-1721386800-1721392200@www.nassaucountycouncilonaging.org
SUMMARY:NAMI Mental Health Support Group
DESCRIPTION:National Alliance of Mental Illness (NAMI)\n11:00 am – 12:30 pm \nShare experiences with individuals\, family members and friends impacted by mental illness\nContact: NAMI Nassau\, 904-277-1886\nNational Alliance of Mental Illness \nBook Now
URL:https://www.nassaucountycouncilonaging.org/calendar/nami-mental-health-support-group-3-2-2-6-49-19/
LOCATION:Janice Ancrum Senior Life Center\, 1901 Island Walk Way\, Fernandina Beach\, FL\, 32034
CATEGORIES:Health & Support
ATTACH;FMTTYPE=image/png:https://www.nassaucountycouncilonaging.org/wp-content/uploads/2023/03/NAMISized.png
END:VEVENT
BEGIN:VEVENT
DTSTART;TZID=America/New_York:20240718T143000
DTEND;TZID=America/New_York:20240718T153000
DTSTAMP:20260424T235301
CREATED:20240715T185011Z
LAST-MODIFIED:20240715T185013Z
UID:10009950-1721313000-1721316600@www.nassaucountycouncilonaging.org
SUMMARY:Lip Reading
DESCRIPTION:Series of 5\n2:30 – 3:30 pm\nSherry Shayne\, Audiologist \nBook Now
URL:https://www.nassaucountycouncilonaging.org/calendar/lip-reading-5-2/
LOCATION:Janice Ancrum Senior Life Center\, 1901 Island Walk Way\, Fernandina Beach\, FL\, 32034
CATEGORIES:Health & Support
ATTACH;FMTTYPE=image/png:https://www.nassaucountycouncilonaging.org/wp-content/uploads/2024/03/LipSized.png
END:VEVENT
BEGIN:VEVENT
DTSTART;TZID=America/New_York:20240712T110000
DTEND;TZID=America/New_York:20240712T123000
DTSTAMP:20260424T235301
CREATED:20240708T202450Z
LAST-MODIFIED:20240708T202452Z
UID:10004331-1720782000-1720787400@www.nassaucountycouncilonaging.org
SUMMARY:NAMI Mental Health Support Group
DESCRIPTION:National Alliance of Mental Illness (NAMI)\n11:00 am – 12:30 pm \nShare experiences with individuals\, family members and friends impacted by mental illness\nContact: NAMI Nassau\, 904-277-1886\nNational Alliance of Mental Illness \nBook Now
URL:https://www.nassaucountycouncilonaging.org/calendar/nami-mental-health-support-group-3-2-2-6-49-18/
LOCATION:Janice Ancrum Senior Life Center\, 1901 Island Walk Way\, Fernandina Beach\, FL\, 32034
CATEGORIES:Health & Support
ATTACH;FMTTYPE=image/png:https://www.nassaucountycouncilonaging.org/wp-content/uploads/2023/03/NAMISized.png
END:VEVENT
BEGIN:VEVENT
DTSTART;TZID=America/New_York:20240710T153000
DTEND;TZID=America/New_York:20240710T170000
DTSTAMP:20260424T235301
CREATED:20240625T203301Z
LAST-MODIFIED:20240625T203303Z
UID:10008718-1720625400-1720630800@www.nassaucountycouncilonaging.org
SUMMARY:Support Group
DESCRIPTION:Caregiver Support Group\nOffers support and education for caregivers. Respite care is available for loved ones. Guest speakers are often featured. \n3:30 – 5 pm\nContact Emily Kunzelmann | 904-775-5472 or ekunzelmann@nassaucountycoa.org\nor Jennifer Gundling  |  904-775-5488 or jgundling@nassaucountycoa.org
URL:https://www.nassaucountycouncilonaging.org/calendar/support-group-25-3/
LOCATION:Janice Ancrum Senior Life Center\, 1901 Island Walk Way\, Fernandina Beach\, FL\, 32034
CATEGORIES:Health & Support
ATTACH;FMTTYPE=image/png:https://www.nassaucountycouncilonaging.org/wp-content/uploads/2023/06/CareSized.png
END:VEVENT
BEGIN:VEVENT
DTSTART;TZID=America/New_York:20240710T133000
DTEND;TZID=America/New_York:20240710T150000
DTSTAMP:20260424T235301
CREATED:20240626T201334Z
LAST-MODIFIED:20240626T201334Z
UID:10010008-1720618200-1720623600@www.nassaucountycouncilonaging.org
SUMMARY:Caregiver Stress-Buster Forum
DESCRIPTION:1:30 – 3:00 pm\nJennifer Gundling  | 904-775-5488 or jgundling@nassaucountycoa.org\nEmily Kunzelmann | 904-775-5472 or ekunzelmann@nassaucountycoa.org \nPractice stress-deduction and problem solving techniques to be a successful caregiver. \n 
URL:https://www.nassaucountycouncilonaging.org/calendar/caregiver-stress-buster-forum/2024-07-10/
LOCATION:Janice Ancrum Senior Life Center\, 1901 Island Walk Way\, Fernandina Beach\, FL\, 32034
CATEGORIES:Health & Support
ATTACH;FMTTYPE=image/png:https://www.nassaucountycouncilonaging.org/wp-content/uploads/2023/06/CareSized.png
END:VEVENT
BEGIN:VEVENT
DTSTART;TZID=America/New_York:20240708T173000
DTEND;TZID=America/New_York:20240708T190000
DTSTAMP:20260424T235301
CREATED:20240625T190538Z
LAST-MODIFIED:20240625T190540Z
UID:10008695-1720459800-1720465200@www.nassaucountycouncilonaging.org
SUMMARY:Support Group: Grieving with Hope
DESCRIPTION:5:30 pm – 7:00 pm\nEmily Kunzelmann      ekunzelmann@nassaucountycoa.org\nJennifer Gundling        jgundling@nassaucountycoa.org \nHelps those who have experienced the loss of a family member or close friend as you connect with others in similar situations. Experienced facilitators and presenters are often featured. \n 
URL:https://www.nassaucountycouncilonaging.org/calendar/support-group-grieving-with-hope-9-2/2024-07-08/
LOCATION:Janice Ancrum Senior Life Center\, 1901 Island Walk Way\, Fernandina Beach\, FL\, 32034
CATEGORIES:Health & Support
ATTACH;FMTTYPE=image/png:https://www.nassaucountycouncilonaging.org/wp-content/uploads/2023/06/GrievingWithHopeSized.png
END:VEVENT
BEGIN:VEVENT
DTSTART;TZID=America/New_York:20240705T110000
DTEND;TZID=America/New_York:20240705T123000
DTSTAMP:20260424T235301
CREATED:20240701T205149Z
LAST-MODIFIED:20240701T205151Z
UID:10004330-1720177200-1720182600@www.nassaucountycouncilonaging.org
SUMMARY:NAMI Mental Health Support Group
DESCRIPTION:National Alliance of Mental Illness (NAMI)\n11:00 am – 12:30 pm \nShare experiences with individuals\, family members and friends impacted by mental illness\nContact: NAMI Nassau\, 904-277-1886\nNational Alliance of Mental Illness \nBook Now
URL:https://www.nassaucountycouncilonaging.org/calendar/nami-mental-health-support-group-3-2-2-6-49-17/
LOCATION:Janice Ancrum Senior Life Center\, 1901 Island Walk Way\, Fernandina Beach\, FL\, 32034
CATEGORIES:Health & Support
ATTACH;FMTTYPE=image/png:https://www.nassaucountycouncilonaging.org/wp-content/uploads/2023/03/NAMISized.png
END:VEVENT
BEGIN:VEVENT
DTSTART;TZID=America/New_York:20240702T120000
DTEND;TZID=America/New_York:20240702T140000
DTSTAMP:20260424T235301
CREATED:20240701T201119Z
LAST-MODIFIED:20240701T201119Z
UID:10010088-1719921600-1719928800@www.nassaucountycouncilonaging.org
SUMMARY:Hearing Aid Check-Up
DESCRIPTION:12:00 pm – 2:00 pm \nfbartelt@nassaucountycoa.org
URL:https://www.nassaucountycouncilonaging.org/calendar/hearing-aid-check-up/
LOCATION:Janice Ancrum Senior Life Center\, 1901 Island Walk Way\, Fernandina Beach\, FL\, 32034
CATEGORIES:Health & Support
ATTACH;FMTTYPE=image/png:https://www.nassaucountycouncilonaging.org/wp-content/uploads/2023/01/EarSized.png
END:VEVENT
BEGIN:VEVENT
DTSTART;TZID=America/New_York:20240702T120000
DTEND;TZID=America/New_York:20240702T133000
DTSTAMP:20260424T235301
CREATED:20240701T194205Z
LAST-MODIFIED:20240701T194207Z
UID:10008963-1719921600-1719927000@www.nassaucountycouncilonaging.org
SUMMARY:Support Group
DESCRIPTION:Support Group: Hearing Loss\nGroup discussions focus on hearing loss\, how hearing loss impacts everyday living\, your brain and your ability to keep socially engaged and live a fulfilling life. \n12:00 pm – 1:30 pm\nFrances Bartelt\, Facilitator | 904-775-5484  |  fbartelt@nassaucountycoa.org \nBook Now
URL:https://www.nassaucountycouncilonaging.org/calendar/support-group-16-2-7-5-8/
LOCATION:Janice Ancrum Senior Life Center\, 1901 Island Walk Way\, Fernandina Beach\, FL\, 32034
CATEGORIES:Health & Support
ATTACH;FMTTYPE=image/png:https://www.nassaucountycouncilonaging.org/wp-content/uploads/2023/01/EarSized.png
END:VEVENT
BEGIN:VEVENT
DTSTART;TZID=America/New_York:20240628T110000
DTEND;TZID=America/New_York:20240628T123000
DTSTAMP:20260424T235301
CREATED:20240625T213603Z
LAST-MODIFIED:20240625T213605Z
UID:10004329-1719572400-1719577800@www.nassaucountycouncilonaging.org
SUMMARY:NAMI Mental Health Support Group
DESCRIPTION:National Alliance of Mental Illness (NAMI)\n11:00 am – 12:30 pm \nShare experiences with individuals\, family members and friends impacted by mental illness\nContact: NAMI Nassau\, 904-277-1886\nNational Alliance of Mental Illness \nBook Now
URL:https://www.nassaucountycouncilonaging.org/calendar/nami-mental-health-support-group-3-2-2-6-49-16/
LOCATION:Janice Ancrum Senior Life Center\, 1901 Island Walk Way\, Fernandina Beach\, FL\, 32034
CATEGORIES:Health & Support
ATTACH;FMTTYPE=image/png:https://www.nassaucountycouncilonaging.org/wp-content/uploads/2023/03/NAMISized.png
END:VEVENT
BEGIN:VEVENT
DTSTART;TZID=America/New_York:20240626T153000
DTEND;TZID=America/New_York:20240626T170000
DTSTAMP:20260424T235301
CREATED:20240625T203000Z
LAST-MODIFIED:20240625T203002Z
UID:10008712-1719415800-1719421200@www.nassaucountycouncilonaging.org
SUMMARY:Support Group:
DESCRIPTION:Caregiver Support Group\nOffers support and education for caregivers. Respite care is available for loved ones. Guest speakers are often featured. \n3:30 – 5 pm\nContact Emily Kunzelmann | 904-775-5472 or ekunzelmann@nassaucountycoa.org \nor Jennifer Gundling  |  904-775-5488  or jgundling@nassaucountycoa.org \nBook Now\n 
URL:https://www.nassaucountycouncilonaging.org/calendar/support-group-17-5-11-2/
LOCATION:Janice Ancrum Senior Life Center\, 1901 Island Walk Way\, Fernandina Beach\, FL\, 32034
CATEGORIES:Health & Support
ATTACH;FMTTYPE=image/png:https://www.nassaucountycouncilonaging.org/wp-content/uploads/2023/06/CareSized.png
END:VEVENT
BEGIN:VEVENT
DTSTART;TZID=America/New_York:20240626T133000
DTEND;TZID=America/New_York:20240626T150000
DTSTAMP:20260424T235301
CREATED:20240625T202001Z
LAST-MODIFIED:20240625T202001Z
UID:10009504-1719408600-1719414000@www.nassaucountycouncilonaging.org
SUMMARY:Caregiver Stressbusters Forum - FREE
DESCRIPTION:1:30 pm – 3:00 pm\nEmily Kunzelmann & Jennifer Gundling \njgundling@nassaucountycoa.org
URL:https://www.nassaucountycouncilonaging.org/calendar/caregiver-stressbusters-forum-free-11/
LOCATION:Janice Ancrum Senior Life Center\, 1901 Island Walk Way\, Fernandina Beach\, FL\, 32034
CATEGORIES:Health & Support
ATTACH;FMTTYPE=image/png:https://www.nassaucountycouncilonaging.org/wp-content/uploads/2023/06/CareSized.png
END:VEVENT
END:VCALENDAR