BEGIN:VCALENDAR
VERSION:2.0
PRODID:-//Nassau County Council on Aging - ECPv6.15.20//NONSGML v1.0//EN
CALSCALE:GREGORIAN
METHOD:PUBLISH
X-WR-CALNAME:Nassau County Council on Aging
X-ORIGINAL-URL:https://www.nassaucountycouncilonaging.org
X-WR-CALDESC:Events for Nassau County Council on Aging
REFRESH-INTERVAL;VALUE=DURATION:PT1H
X-Robots-Tag:noindex
X-PUBLISHED-TTL:PT1H
BEGIN:VTIMEZONE
TZID:America/New_York
BEGIN:DAYLIGHT
TZOFFSETFROM:-0500
TZOFFSETTO:-0400
TZNAME:EDT
DTSTART:20230312T070000
END:DAYLIGHT
BEGIN:STANDARD
TZOFFSETFROM:-0400
TZOFFSETTO:-0500
TZNAME:EST
DTSTART:20231105T060000
END:STANDARD
BEGIN:DAYLIGHT
TZOFFSETFROM:-0500
TZOFFSETTO:-0400
TZNAME:EDT
DTSTART:20240310T070000
END:DAYLIGHT
BEGIN:STANDARD
TZOFFSETFROM:-0400
TZOFFSETTO:-0500
TZNAME:EST
DTSTART:20241103T060000
END:STANDARD
BEGIN:DAYLIGHT
TZOFFSETFROM:-0500
TZOFFSETTO:-0400
TZNAME:EDT
DTSTART:20250309T070000
END:DAYLIGHT
BEGIN:STANDARD
TZOFFSETFROM:-0400
TZOFFSETTO:-0500
TZNAME:EST
DTSTART:20251102T060000
END:STANDARD
BEGIN:DAYLIGHT
TZOFFSETFROM:-0500
TZOFFSETTO:-0400
TZNAME:EDT
DTSTART:20260308T070000
END:DAYLIGHT
BEGIN:STANDARD
TZOFFSETFROM:-0400
TZOFFSETTO:-0500
TZNAME:EST
DTSTART:20261101T060000
END:STANDARD
END:VTIMEZONE
BEGIN:VEVENT
DTSTART;TZID=America/New_York:20250127T173000
DTEND;TZID=America/New_York:20250127T190000
DTSTAMP:20260424T114556
CREATED:20241223T194254Z
LAST-MODIFIED:20241223T194254Z
UID:10011617-1737999000-1738004400@www.nassaucountycouncilonaging.org
SUMMARY:Support Group: Grieving w/Hope
DESCRIPTION:5:30 pm – 7:00 pm\nJennifer Gundling & Emily Kunzelmann \nRegister at jgundling@nassaucountycoa.org \nGrief is a universal – and most often misunderstood – experience. Learn about dealing with loss on your own personal healing journey.
URL:https://www.nassaucountycouncilonaging.org/calendar/support-group-grieving-w-hope-6/2025-01-27/
LOCATION:Janice Ancrum Senior Life Center\, 1901 Island Walk Way\, Fernandina Beach\, FL\, 32034
CATEGORIES:Health & Support
ATTACH;FMTTYPE=image/png:https://www.nassaucountycouncilonaging.org/wp-content/uploads/2023/06/GrievingWithHopeSized.png
END:VEVENT
BEGIN:VEVENT
DTSTART;TZID=America/New_York:20250124T110000
DTEND;TZID=America/New_York:20250124T123000
DTSTAMP:20260424T114556
CREATED:20250120T204819Z
LAST-MODIFIED:20250120T204820Z
UID:10011121-1737716400-1737721800@www.nassaucountycouncilonaging.org
SUMMARY:NAMI Mental Health Support Group
DESCRIPTION:National Alliance of Mental Illness (NAMI)\n11:00 am – 12:30 pm \nShare experiences with individuals\, family members and friends impacted by mental illness\nContact: NAMI Nassau\, 904-277-1886\nNational Alliance of Mental Illness \nBook Now
URL:https://www.nassaucountycouncilonaging.org/calendar/nami-mental-health-support-group-3-2-2-6-49-30-11-5/
LOCATION:Janice Ancrum Senior Life Center\, 1901 Island Walk Way\, Fernandina Beach\, FL\, 32034
CATEGORIES:Health & Support
ATTACH;FMTTYPE=image/png:https://www.nassaucountycouncilonaging.org/wp-content/uploads/2023/03/NAMISized.png
END:VEVENT
BEGIN:VEVENT
DTSTART;TZID=America/New_York:20250124T090000
DTEND;TZID=America/New_York:20250124T100000
DTSTAMP:20260424T114556
CREATED:20250120T205855Z
LAST-MODIFIED:20250120T205855Z
UID:10012549-1737709200-1737712800@www.nassaucountycouncilonaging.org
SUMMARY:Managing Age-Related Eye Conditions
DESCRIPTION:9:00 am – 10:00 am\nDr. Rieveschl \nBook Now
URL:https://www.nassaucountycouncilonaging.org/calendar/managing-age-related-eye-conditions/
LOCATION:Janice Ancrum Senior Life Center\, 1901 Island Walk Way\, Fernandina Beach\, FL\, 32034
CATEGORIES:Health & Support
ATTACH;FMTTYPE=image/png:https://www.nassaucountycouncilonaging.org/wp-content/uploads/2023/06/EyeSized.png
END:VEVENT
BEGIN:VEVENT
DTSTART;TZID=America/New_York:20250123T093000
DTEND;TZID=America/New_York:20250123T101500
DTSTAMP:20260424T114556
CREATED:20250120T201912Z
LAST-MODIFIED:20250120T201913Z
UID:10012443-1737624600-1737627300@www.nassaucountycouncilonaging.org
SUMMARY:Qigong Healing for Beginners
DESCRIPTION:9:30 am – 10:15 am\nJohn Cipriani \nBook Now
URL:https://www.nassaucountycouncilonaging.org/calendar/qigong-healing-for-beginners-4/
LOCATION:Janice Ancrum Senior Life Center\, 1901 Island Walk Way\, Fernandina Beach\, FL\, 32034
CATEGORIES:Health & Support
ATTACH;FMTTYPE=image/png:https://www.nassaucountycouncilonaging.org/wp-content/uploads/2023/06/LungsSized.png
END:VEVENT
BEGIN:VEVENT
DTSTART;TZID=America/New_York:20250122T153000
DTEND;TZID=America/New_York:20250122T170000
DTSTAMP:20260424T114556
CREATED:20250120T201240Z
LAST-MODIFIED:20250120T201242Z
UID:10012422-1737559800-1737565200@www.nassaucountycouncilonaging.org
SUMMARY:Support Group: Caregivers
DESCRIPTION:Sustaining the unsung Heroes\n3:30 – 5:00 pm \nCaregiving has been described as both a labor of love and the most difficult job on the planet. Learn how to better deal with physical and emotional strain\, and get the relief you  need through validation\, self-care\, respite and resource sharing. \nVarious facilitators\nMore  information: Jennifer Gundling\, NCCOA Home Health\, Training & Caregiver Services Manager\, 904-775-5488 or jgundling@nassaucountycoa.org \nBook Now\n 
URL:https://www.nassaucountycouncilonaging.org/calendar/support-group-caregivers-3-2/
LOCATION:Janice Ancrum Senior Life Center\, 1901 Island Walk Way\, Fernandina Beach\, FL\, 32034
CATEGORIES:Health & Support
ATTACH;FMTTYPE=image/png:https://www.nassaucountycouncilonaging.org/wp-content/uploads/2023/06/CareSized.png
END:VEVENT
BEGIN:VEVENT
DTSTART;TZID=America/New_York:20250122T110000
DTEND;TZID=America/New_York:20250122T233000
DTSTAMP:20260424T114556
CREATED:20250120T200326Z
LAST-MODIFIED:20250120T200328Z
UID:10012541-1737543600-1737588600@www.nassaucountycouncilonaging.org
SUMMARY:Support Group
DESCRIPTION:Low Vision\n11:00 am – 12:30 pm\nKrista Long \nVision challenges can significaly impact an individual’s independence and quality of life. Learn how to use visual aids\, modify living spaces and utilize technology. \nBook Now
URL:https://www.nassaucountycouncilonaging.org/calendar/support-group-26-2/
LOCATION:Janice Ancrum Senior Life Center\, 1901 Island Walk Way\, Fernandina Beach\, FL\, 32034
CATEGORIES:Health & Support
ATTACH;FMTTYPE=image/png:https://www.nassaucountycouncilonaging.org/wp-content/uploads/2023/03/LowVisionSized.png
END:VEVENT
BEGIN:VEVENT
DTSTART;TZID=America/New_York:20250122T013000
DTEND;TZID=America/New_York:20250122T150000
DTSTAMP:20260424T114556
CREATED:20250120T201548Z
LAST-MODIFIED:20250120T201548Z
UID:10012546-1737509400-1737558000@www.nassaucountycouncilonaging.org
SUMMARY:Caregiver Stressbuster Forum - FREE
DESCRIPTION:1:30 pm – 3:00 pm\nJennifer Gundling & Emily Kunzelmann \nRegister via email: jgundling@nassaucountycoa.org
URL:https://www.nassaucountycouncilonaging.org/calendar/caregiver-stressbuster-forum-free/
LOCATION:Janice Ancrum Senior Life Center\, 1901 Island Walk Way\, Fernandina Beach\, FL\, 32034
CATEGORIES:Health & Support
ATTACH;FMTTYPE=image/png:https://www.nassaucountycouncilonaging.org/wp-content/uploads/2023/06/CareSized.png
END:VEVENT
BEGIN:VEVENT
DTSTART;TZID=America/New_York:20250117T110000
DTEND;TZID=America/New_York:20250117T123000
DTSTAMP:20260424T114556
CREATED:20250113T185953Z
LAST-MODIFIED:20250113T185954Z
UID:10011120-1737111600-1737117000@www.nassaucountycouncilonaging.org
SUMMARY:NAMI Mental Health Support Group
DESCRIPTION:National Alliance of Mental Illness (NAMI)\n11:00 am – 12:30 pm \nShare experiences with individuals\, family members and friends impacted by mental illness\nContact: NAMI Nassau\, 904-277-1886\nNational Alliance of Mental Illness \nBook Now
URL:https://www.nassaucountycouncilonaging.org/calendar/nami-mental-health-support-group-3-2-2-6-49-30-11-4/
LOCATION:Janice Ancrum Senior Life Center\, 1901 Island Walk Way\, Fernandina Beach\, FL\, 32034
CATEGORIES:Health & Support
ATTACH;FMTTYPE=image/png:https://www.nassaucountycouncilonaging.org/wp-content/uploads/2023/03/NAMISized.png
END:VEVENT
BEGIN:VEVENT
DTSTART;TZID=America/New_York:20250116T093000
DTEND;TZID=America/New_York:20250116T101500
DTSTAMP:20260424T114556
CREATED:20250113T182848Z
LAST-MODIFIED:20250113T182850Z
UID:10012442-1737019800-1737022500@www.nassaucountycouncilonaging.org
SUMMARY:Qigong Healing for Beginners
DESCRIPTION:9:30 am – 10:15 am\nJohn Cipriani \nBook Now
URL:https://www.nassaucountycouncilonaging.org/calendar/qigong-healing-for-beginners-3/
LOCATION:Janice Ancrum Senior Life Center\, 1901 Island Walk Way\, Fernandina Beach\, FL\, 32034
CATEGORIES:Health & Support
ATTACH;FMTTYPE=image/png:https://www.nassaucountycouncilonaging.org/wp-content/uploads/2023/06/LungsSized.png
END:VEVENT
BEGIN:VEVENT
DTSTART;TZID=America/New_York:20250114T140000
DTEND;TZID=America/New_York:20250114T160000
DTSTAMP:20260424T114556
CREATED:20250113T175305Z
LAST-MODIFIED:20250113T175305Z
UID:10012500-1736863200-1736870400@www.nassaucountycouncilonaging.org
SUMMARY:Honoring Choices
DESCRIPTION:2:00 pm – 4:00 pm\nCindy Newman \nBook Now
URL:https://www.nassaucountycouncilonaging.org/calendar/honoring-choices-14/
LOCATION:Janice Ancrum Senior Life Center\, 1901 Island Walk Way\, Fernandina Beach\, FL\, 32034
CATEGORIES:Health & Support
ATTACH;FMTTYPE=image/png:https://www.nassaucountycouncilonaging.org/wp-content/uploads/2022/12/honoring-choices.png
END:VEVENT
BEGIN:VEVENT
DTSTART;TZID=America/New_York:20250113T173000
DTEND;TZID=America/New_York:20250113T190000
DTSTAMP:20260424T114556
CREATED:20241223T194605Z
LAST-MODIFIED:20241223T194605Z
UID:10011624-1736789400-1736794800@www.nassaucountycouncilonaging.org
SUMMARY:Support Group: Grieving w/Hope
DESCRIPTION:5:30 pm – 7:00 pm\nJennifer Gundling & Emily Kunzelmann \nRegister at jgundling@nassaucountycoa.org \nGrief is a universal – and most often misunderstood – experience. Learn about dealing with loss on your own personal healing journey.
URL:https://www.nassaucountycouncilonaging.org/calendar/support-group-grieving-w-hope-7/2025-01-13/
LOCATION:Janice Ancrum Senior Life Center\, 1901 Island Walk Way\, Fernandina Beach\, FL\, 32034
CATEGORIES:Health & Support
ATTACH;FMTTYPE=image/png:https://www.nassaucountycouncilonaging.org/wp-content/uploads/2023/06/GrievingWithHopeSized.png
END:VEVENT
BEGIN:VEVENT
DTSTART;TZID=America/New_York:20250110T110000
DTEND;TZID=America/New_York:20250110T123000
DTSTAMP:20260424T114556
CREATED:20250107T204054Z
LAST-MODIFIED:20250107T204055Z
UID:10011119-1736506800-1736512200@www.nassaucountycouncilonaging.org
SUMMARY:NAMI Mental Health Support Group
DESCRIPTION:National Alliance of Mental Illness (NAMI)\n11:00 am – 12:30 pm \nShare experiences with individuals\, family members and friends impacted by mental illness\nContact: NAMI Nassau\, 904-277-1886\nNational Alliance of Mental Illness \nBook Now
URL:https://www.nassaucountycouncilonaging.org/calendar/nami-mental-health-support-group-3-2-2-6-49-30-11-3/
LOCATION:Janice Ancrum Senior Life Center\, 1901 Island Walk Way\, Fernandina Beach\, FL\, 32034
CATEGORIES:Health & Support
ATTACH;FMTTYPE=image/png:https://www.nassaucountycouncilonaging.org/wp-content/uploads/2023/03/NAMISized.png
END:VEVENT
BEGIN:VEVENT
DTSTART;TZID=America/New_York:20250109T093000
DTEND;TZID=America/New_York:20250109T101500
DTSTAMP:20260424T114556
CREATED:20250106T224901Z
LAST-MODIFIED:20250106T224903Z
UID:10012441-1736415000-1736417700@www.nassaucountycouncilonaging.org
SUMMARY:Qigong Healing for Beginners
DESCRIPTION:9:30 am – 10:15 am\nJohn Cipriani \nBook Now
URL:https://www.nassaucountycouncilonaging.org/calendar/qigong-healing-for-beginners-2/
LOCATION:Janice Ancrum Senior Life Center\, 1901 Island Walk Way\, Fernandina Beach\, FL\, 32034
CATEGORIES:Health & Support
ATTACH;FMTTYPE=image/png:https://www.nassaucountycouncilonaging.org/wp-content/uploads/2023/06/LungsSized.png
END:VEVENT
BEGIN:VEVENT
DTSTART;TZID=America/New_York:20250108T153000
DTEND;TZID=America/New_York:20250108T170000
DTSTAMP:20260424T114556
CREATED:20250106T221540Z
LAST-MODIFIED:20250106T221543Z
UID:10010864-1736350200-1736355600@www.nassaucountycouncilonaging.org
SUMMARY:Support Group
DESCRIPTION:Caregiver Support Group\nOffers support and education for caregivers. Respite care is available for loved ones. Guest speakers are often featured. \n3:30 – 5 pm\nContact Emily Kunzelmann | 904-775-5472 or ekunzelmann@nassaucountycoa.org\nor Jennifer Gundling  |  904-775-5488 or jgundling@nassaucountycoa.org \nBook Now\n 
URL:https://www.nassaucountycouncilonaging.org/calendar/support-group-25-3-4-5/
LOCATION:Janice Ancrum Senior Life Center\, 1901 Island Walk Way\, Fernandina Beach\, FL\, 32034
CATEGORIES:Health & Support
ATTACH;FMTTYPE=image/png:https://www.nassaucountycouncilonaging.org/wp-content/uploads/2023/06/CareSized.png
END:VEVENT
BEGIN:VEVENT
DTSTART;TZID=America/New_York:20250103T110000
DTEND;TZID=America/New_York:20250103T123000
DTSTAMP:20260424T114556
CREATED:20241008T202620Z
LAST-MODIFIED:20241223T212702Z
UID:10011118-1735902000-1735907400@www.nassaucountycouncilonaging.org
SUMMARY:NAMI Mental Health Support Group
DESCRIPTION:National Alliance of Mental Illness (NAMI)\n11:00 am – 12:30 pm \nShare experiences with individuals\, family members and friends impacted by mental illness\nContact: NAMI Nassau\, 904-277-1886\nNational Alliance of Mental Illness
URL:https://www.nassaucountycouncilonaging.org/calendar/nami-mental-health-support-group-3-2-2-6-49-30-11/
LOCATION:Janice Ancrum Senior Life Center\, 1901 Island Walk Way\, Fernandina Beach\, FL\, 32034
CATEGORIES:Health & Support
ATTACH;FMTTYPE=image/png:https://www.nassaucountycouncilonaging.org/wp-content/uploads/2023/03/NAMISized.png
END:VEVENT
BEGIN:VEVENT
DTSTART;TZID=America/New_York:20241227T110000
DTEND;TZID=America/New_York:20241227T123000
DTSTAMP:20260424T114556
CREATED:20241223T212738Z
LAST-MODIFIED:20241223T212741Z
UID:10008586-1735297200-1735302600@www.nassaucountycouncilonaging.org
SUMMARY:NAMI Mental Health Support Group
DESCRIPTION:National Alliance of Mental Illness (NAMI)\n11:00 am – 12:30 pm \nShare experiences with individuals\, family members and friends impacted by mental illness\nContact: NAMI Nassau\, 904-277-1886\nNational Alliance of Mental Illness \nBook Now
URL:https://www.nassaucountycouncilonaging.org/calendar/nami-mental-health-support-group-3-2-2-6-49-30-11-2/
LOCATION:Janice Ancrum Senior Life Center\, 1901 Island Walk Way\, Fernandina Beach\, FL\, 32034
CATEGORIES:Health & Support
ATTACH;FMTTYPE=image/png:https://www.nassaucountycouncilonaging.org/wp-content/uploads/2023/03/NAMISized.png
END:VEVENT
BEGIN:VEVENT
DTSTART;TZID=America/New_York:20241223T173000
DTEND;TZID=America/New_York:20241223T190000
DTSTAMP:20260424T114556
CREATED:20241223T194254Z
LAST-MODIFIED:20241223T194254Z
UID:10011616-1734975000-1734980400@www.nassaucountycouncilonaging.org
SUMMARY:Support Group: Grieving w/Hope
DESCRIPTION:5:30 pm – 7:00 pm\nJennifer Gundling & Emily Kunzelmann \nRegister at jgundling@nassaucountycoa.org \nGrief is a universal – and most often misunderstood – experience. Learn about dealing with loss on your own personal healing journey.
URL:https://www.nassaucountycouncilonaging.org/calendar/support-group-grieving-w-hope-6/2024-12-23/
LOCATION:Janice Ancrum Senior Life Center\, 1901 Island Walk Way\, Fernandina Beach\, FL\, 32034
CATEGORIES:Health & Support
ATTACH;FMTTYPE=image/png:https://www.nassaucountycouncilonaging.org/wp-content/uploads/2023/06/GrievingWithHopeSized.png
END:VEVENT
BEGIN:VEVENT
DTSTART;TZID=America/New_York:20241220T110000
DTEND;TZID=America/New_York:20241220T123000
DTSTAMP:20260424T114556
CREATED:20241218T165729Z
LAST-MODIFIED:20241218T165730Z
UID:10008585-1734692400-1734697800@www.nassaucountycouncilonaging.org
SUMMARY:NAMI Mental Health Support Group
DESCRIPTION:National Alliance of Mental Illness (NAMI)\n11:00 am – 12:30 pm \nShare experiences with individuals\, family members and friends impacted by mental illness\nContact: NAMI Nassau\, 904-277-1886\nNational Alliance of Mental Illness \nBook Now
URL:https://www.nassaucountycouncilonaging.org/calendar/nami-mental-health-support-group-3-2-2-6-49-30-10/
LOCATION:Janice Ancrum Senior Life Center\, 1901 Island Walk Way\, Fernandina Beach\, FL\, 32034
CATEGORIES:Health & Support
ATTACH;FMTTYPE=image/png:https://www.nassaucountycouncilonaging.org/wp-content/uploads/2023/03/NAMISized.png
END:VEVENT
BEGIN:VEVENT
DTSTART;TZID=America/New_York:20241213T110000
DTEND;TZID=America/New_York:20241213T123000
DTSTAMP:20260424T114556
CREATED:20241209T201020Z
LAST-MODIFIED:20241209T201025Z
UID:10008584-1734087600-1734093000@www.nassaucountycouncilonaging.org
SUMMARY:NAMI Mental Health Support Group
DESCRIPTION:National Alliance of Mental Illness (NAMI)\n11:00 am – 12:30 pm \nShare experiences with individuals\, family members and friends impacted by mental illness\nContact: NAMI Nassau\, 904-277-1886\nNational Alliance of Mental Illness \nBook Now
URL:https://www.nassaucountycouncilonaging.org/calendar/nami-mental-health-support-group-3-2-2-6-49-30-9/
LOCATION:Janice Ancrum Senior Life Center\, 1901 Island Walk Way\, Fernandina Beach\, FL\, 32034
CATEGORIES:Health & Support
ATTACH;FMTTYPE=image/png:https://www.nassaucountycouncilonaging.org/wp-content/uploads/2023/03/NAMISized.png
END:VEVENT
BEGIN:VEVENT
DTSTART;TZID=America/New_York:20241213T080000
DTEND;TZID=America/New_York:20241213T090000
DTSTAMP:20260424T114556
CREATED:20241209T200019Z
LAST-MODIFIED:20241209T200019Z
UID:10011497-1734076800-1734080400@www.nassaucountycouncilonaging.org
SUMMARY:Nutrition Education - FREE
DESCRIPTION:8:00 am – 9:00 am\nBeth Verlinde \nBook Now
URL:https://www.nassaucountycouncilonaging.org/calendar/nutrition-education-free/
LOCATION:Janice Ancrum Senior Life Center\, 1901 Island Walk Way\, Fernandina Beach\, FL\, 32034
CATEGORIES:Health & Support
ATTACH;FMTTYPE=image/png:https://www.nassaucountycouncilonaging.org/wp-content/uploads/2023/01/cooking-food.png
END:VEVENT
BEGIN:VEVENT
DTSTART;TZID=America/New_York:20241211T153000
DTEND;TZID=America/New_York:20241211T170000
DTSTAMP:20260424T114556
CREATED:20241209T193649Z
LAST-MODIFIED:20241209T193652Z
UID:10010863-1733931000-1733936400@www.nassaucountycouncilonaging.org
SUMMARY:Support Group
DESCRIPTION:Caregiver Support Group\nOffers support and education for caregivers. Respite care is available for loved ones. Guest speakers are often featured. \n3:30 – 5 pm\nContact Emily Kunzelmann | 904-775-5472 or ekunzelmann@nassaucountycoa.org\nor Jennifer Gundling  |  904-775-5488 or jgundling@nassaucountycoa.org \nBook Now
URL:https://www.nassaucountycouncilonaging.org/calendar/support-group-25-3-4-4/
LOCATION:Janice Ancrum Senior Life Center\, 1901 Island Walk Way\, Fernandina Beach\, FL\, 32034
CATEGORIES:Health & Support
ATTACH;FMTTYPE=image/png:https://www.nassaucountycouncilonaging.org/wp-content/uploads/2023/06/CareSized.png
END:VEVENT
BEGIN:VEVENT
DTSTART;TZID=America/New_York:20241209T173000
DTEND;TZID=America/New_York:20241209T190000
DTSTAMP:20260424T114556
CREATED:20241014T204116Z
LAST-MODIFIED:20241014T204118Z
UID:10011320-1733765400-1733770800@www.nassaucountycouncilonaging.org
SUMMARY:Support Group: Grieving with Hope
DESCRIPTION:5:30 pm – 7:00 pm\nEmily Kunzelmann      ekunzelmann@nassaucountycoa.org\nJennifer Gundling        jgundling@nassaucountycoa.org \nHelps those who have experienced the loss of a family member or close friend as you connect with others in similar situations. Experienced facilitators and presenters are often featured. \n 
URL:https://www.nassaucountycouncilonaging.org/calendar/support-group-grieving-with-hope-9-2-3/2024-12-09/
LOCATION:Janice Ancrum Senior Life Center\, 1901 Island Walk Way\, Fernandina Beach\, FL\, 32034
CATEGORIES:Health & Support
ATTACH;FMTTYPE=image/png:https://www.nassaucountycouncilonaging.org/wp-content/uploads/2023/06/GrievingWithHopeSized.png
END:VEVENT
BEGIN:VEVENT
DTSTART;TZID=America/New_York:20241206T110000
DTEND;TZID=America/New_York:20241206T123000
DTSTAMP:20260424T114556
CREATED:20241202T211228Z
LAST-MODIFIED:20241202T211231Z
UID:10008583-1733482800-1733488200@www.nassaucountycouncilonaging.org
SUMMARY:NAMI Mental Health Support Group
DESCRIPTION:National Alliance of Mental Illness (NAMI)\n11:00 am – 12:30 pm \nShare experiences with individuals\, family members and friends impacted by mental illness\nContact: NAMI Nassau\, 904-277-1886\nNational Alliance of Mental Illness \nBook Now
URL:https://www.nassaucountycouncilonaging.org/calendar/nami-mental-health-support-group-3-2-2-6-49-30-8/
LOCATION:Janice Ancrum Senior Life Center\, 1901 Island Walk Way\, Fernandina Beach\, FL\, 32034
CATEGORIES:Health & Support
ATTACH;FMTTYPE=image/png:https://www.nassaucountycouncilonaging.org/wp-content/uploads/2023/03/NAMISized.png
END:VEVENT
BEGIN:VEVENT
DTSTART;TZID=America/New_York:20241204T110000
DTEND;TZID=America/New_York:20241204T123000
DTSTAMP:20260424T114556
CREATED:20241201T204910Z
LAST-MODIFIED:20241201T204910Z
UID:10011486-1733310000-1733315400@www.nassaucountycouncilonaging.org
SUMMARY:Support Group: Low Vision
DESCRIPTION:11:00 am – 12:30 pm\nFrances Bartelt \nBook Now
URL:https://www.nassaucountycouncilonaging.org/calendar/support-group-low-vision-2/
LOCATION:Janice Ancrum Senior Life Center\, 1901 Island Walk Way\, Fernandina Beach\, FL\, 32034
CATEGORIES:Health & Support
ATTACH;FMTTYPE=image/png:https://www.nassaucountycouncilonaging.org/wp-content/uploads/2023/03/LowVisionSized.png
END:VEVENT
BEGIN:VEVENT
DTSTART;TZID=America/New_York:20241203T120000
DTEND;TZID=America/New_York:20241203T123000
DTSTAMP:20260424T114556
CREATED:20241201T203348Z
LAST-MODIFIED:20241201T203348Z
UID:10011483-1733227200-1733229000@www.nassaucountycouncilonaging.org
SUMMARY:Support Group: Hearing Loss
DESCRIPTION:12:00 pm – 1:30 pm\nFrances Bartelt \nBook Now
URL:https://www.nassaucountycouncilonaging.org/calendar/support-group-hearing-loss-2/
LOCATION:Janice Ancrum Senior Life Center\, 1901 Island Walk Way\, Fernandina Beach\, FL\, 32034
CATEGORIES:Health & Support
ATTACH;FMTTYPE=image/png:https://www.nassaucountycouncilonaging.org/wp-content/uploads/2023/01/EarSized.png
END:VEVENT
BEGIN:VEVENT
DTSTART;TZID=America/New_York:20241127T153000
DTEND;TZID=America/New_York:20241127T170000
DTSTAMP:20260424T114556
CREATED:20241123T202628Z
LAST-MODIFIED:20241123T202630Z
UID:10009533-1732721400-1732726800@www.nassaucountycouncilonaging.org
SUMMARY:Support Group:
DESCRIPTION:Caregiver Support Group\nOffers support and education for caregivers. Respite care is available for loved ones. Guest speakers are often featured. \n3:30 – 5 pm\nContact Emily Kunzelmann | 904-775-5472 or ekunzelmann@nassaucountycoa.org \nor Jennifer Gundling  |  904-775-5488  or jgundling@nassaucountycoa.org \nBook Now\n 
URL:https://www.nassaucountycouncilonaging.org/calendar/support-group-17-5-11-6/
LOCATION:Janice Ancrum Senior Life Center\, 1901 Island Walk Way\, Fernandina Beach\, FL\, 32034
CATEGORIES:Health & Support
ATTACH;FMTTYPE=image/png:https://www.nassaucountycouncilonaging.org/wp-content/uploads/2023/06/CareSized.png
END:VEVENT
BEGIN:VEVENT
DTSTART;TZID=America/New_York:20241125T173000
DTEND;TZID=America/New_York:20241125T190000
DTSTAMP:20260424T114556
CREATED:20240625T190048Z
LAST-MODIFIED:20240625T190257Z
UID:10009185-1732555800-1732561200@www.nassaucountycouncilonaging.org
SUMMARY:Support Group: Grieving with Hope
DESCRIPTION:5:30 pm – 7:00 pm\nEmily Kunzelmann       ekunzelmann@nassaucountycoa.org\nJenifer Gundling\,          jgundling@nassaucountycoa.org  \nHelps those who have experienced the loss of a family member or close friend as you connect with others in similar situations. Experienced facilitators and presenters are often featured. \n  \n 
URL:https://www.nassaucountycouncilonaging.org/calendar/support-group-grieving-with-hope-8-2/2024-11-25/
LOCATION:Janice Ancrum Senior Life Center\, 1901 Island Walk Way\, Fernandina Beach\, FL\, 32034
CATEGORIES:Health & Support
ATTACH;FMTTYPE=image/png:https://www.nassaucountycouncilonaging.org/wp-content/uploads/2023/06/GrievingWithHopeSized.png
END:VEVENT
BEGIN:VEVENT
DTSTART;TZID=America/New_York:20241118T173000
DTEND;TZID=America/New_York:20241118T190000
DTSTAMP:20260424T114556
CREATED:20241118T185429Z
LAST-MODIFIED:20241123T194542Z
UID:10011450-1731951000-1731956400@www.nassaucountycouncilonaging.org
SUMMARY:Support Group: Grieving w/Hope
DESCRIPTION:5:30 pm – 7:00 pm\nJennifer Gundling & Emily Kunzelmann \njgundling@nassaucountycoa.org
URL:https://www.nassaucountycouncilonaging.org/calendar/support-group-grieving-w-hope-5/
LOCATION:Janice Ancrum Senior Life Center\, 1901 Island Walk Way\, Fernandina Beach\, FL\, 32034
CATEGORIES:Health & Support
ATTACH;FMTTYPE=image/png:https://www.nassaucountycouncilonaging.org/wp-content/uploads/2023/06/GrievingWithHopeSized.png
END:VEVENT
BEGIN:VEVENT
DTSTART;TZID=America/New_York:20241118T133000
DTEND;TZID=America/New_York:20241118T153000
DTSTAMP:20260424T114556
CREATED:20241118T184948Z
LAST-MODIFIED:20241118T184948Z
UID:10011448-1731936600-1731943800@www.nassaucountycouncilonaging.org
SUMMARY:Hands-Only CPR
DESCRIPTION:1:30 pm – 3:30 pm \nBook Now
URL:https://www.nassaucountycouncilonaging.org/calendar/hands-only-cpr/
LOCATION:Janice Ancrum Senior Life Center\, 1901 Island Walk Way\, Fernandina Beach\, FL\, 32034
CATEGORIES:Health & Support
ATTACH;FMTTYPE=image/png:https://www.nassaucountycouncilonaging.org/wp-content/uploads/2023/02/cpr-icon.png
END:VEVENT
BEGIN:VEVENT
DTSTART;TZID=America/New_York:20241115T110000
DTEND;TZID=America/New_York:20241115T123000
DTSTAMP:20260424T114556
CREATED:20241109T222446Z
LAST-MODIFIED:20241109T222448Z
UID:10008580-1731668400-1731673800@www.nassaucountycouncilonaging.org
SUMMARY:NAMI Mental Health Support Group
DESCRIPTION:National Alliance of Mental Illness (NAMI)\n11:00 am – 12:30 pm \nShare experiences with individuals\, family members and friends impacted by mental illness\nContact: NAMI Nassau\, 904-277-1886\nNational Alliance of Mental Illness \nBook Now
URL:https://www.nassaucountycouncilonaging.org/calendar/nami-mental-health-support-group-3-2-2-6-49-30-7/
LOCATION:Janice Ancrum Senior Life Center\, 1901 Island Walk Way\, Fernandina Beach\, FL\, 32034
CATEGORIES:Health & Support
ATTACH;FMTTYPE=image/png:https://www.nassaucountycouncilonaging.org/wp-content/uploads/2023/03/NAMISized.png
END:VEVENT
END:VCALENDAR