BEGIN:VCALENDAR
VERSION:2.0
PRODID:-//Nassau County Council on Aging - ECPv6.15.20//NONSGML v1.0//EN
CALSCALE:GREGORIAN
METHOD:PUBLISH
X-ORIGINAL-URL:https://www.nassaucountycouncilonaging.org
X-WR-CALDESC:Events for Nassau County Council on Aging
REFRESH-INTERVAL;VALUE=DURATION:PT1H
X-Robots-Tag:noindex
X-PUBLISHED-TTL:PT1H
BEGIN:VTIMEZONE
TZID:America/New_York
BEGIN:DAYLIGHT
TZOFFSETFROM:-0500
TZOFFSETTO:-0400
TZNAME:EDT
DTSTART:20240310T070000
END:DAYLIGHT
BEGIN:STANDARD
TZOFFSETFROM:-0400
TZOFFSETTO:-0500
TZNAME:EST
DTSTART:20241103T060000
END:STANDARD
BEGIN:DAYLIGHT
TZOFFSETFROM:-0500
TZOFFSETTO:-0400
TZNAME:EDT
DTSTART:20250309T070000
END:DAYLIGHT
BEGIN:STANDARD
TZOFFSETFROM:-0400
TZOFFSETTO:-0500
TZNAME:EST
DTSTART:20251102T060000
END:STANDARD
BEGIN:DAYLIGHT
TZOFFSETFROM:-0500
TZOFFSETTO:-0400
TZNAME:EDT
DTSTART:20260308T070000
END:DAYLIGHT
BEGIN:STANDARD
TZOFFSETFROM:-0400
TZOFFSETTO:-0500
TZNAME:EST
DTSTART:20261101T060000
END:STANDARD
END:VTIMEZONE
BEGIN:VEVENT
DTSTART;TZID=America/New_York:20250501T104500
DTEND;TZID=America/New_York:20250501T113000
DTSTAMP:20260423T123322
CREATED:20250428T161336Z
LAST-MODIFIED:20250428T161337Z
UID:10013569-1746096300-1746099000@www.nassaucountycouncilonaging.org
SUMMARY:Qigong Healing for Beginners
DESCRIPTION:10:45 am – 11:30 am\nJohn Cipriani \nBook Now
URL:https://www.nassaucountycouncilonaging.org/calendar/qigong-healing-for-beginners-16-2/
LOCATION:Janice Ancrum Senior Life Center\, 1901 Island Walk Way\, Fernandina Beach\, FL\, 32034
CATEGORIES:Health & Support
ATTACH;FMTTYPE=image/png:https://www.nassaucountycouncilonaging.org/wp-content/uploads/2023/06/LungsSized.png
END:VEVENT
BEGIN:VEVENT
DTSTART;TZID=America/New_York:20250428T173000
DTEND;TZID=America/New_York:20250428T190000
DTSTAMP:20260423T123322
CREATED:20250324T163838Z
LAST-MODIFIED:20250324T163909Z
UID:10011620-1745861400-1745866800@www.nassaucountycouncilonaging.org
SUMMARY:Support Group: Grieving w/Hope
DESCRIPTION:5:30 pm – 7:00 pm\nJennifer Gundling & Emily Kunzelmann \nRegister at jgundling@nassaucountycoa.org \nGrief is a universal – and most often misunderstood – experience. Learn about dealing with loss on your own personal healing journey.
URL:https://www.nassaucountycouncilonaging.org/calendar/support-group-grieving-w-hope-6-2/2025-04-28/
LOCATION:Janice Ancrum Senior Life Center\, 1901 Island Walk Way\, Fernandina Beach\, FL\, 32034
CATEGORIES:Health & Support
ATTACH;FMTTYPE=image/png:https://www.nassaucountycouncilonaging.org/wp-content/uploads/2023/06/GrievingWithHopeSized.png
END:VEVENT
BEGIN:VEVENT
DTSTART;TZID=America/New_York:20250425T110000
DTEND;TZID=America/New_York:20250425T123000
DTSTAMP:20260423T123322
CREATED:20250421T161940Z
LAST-MODIFIED:20250421T161942Z
UID:10011851-1745578800-1745584200@www.nassaucountycouncilonaging.org
SUMMARY:NAMI Mental Health Support Group
DESCRIPTION:National Alliance of Mental Illness (NAMI)\n11:00 am – 12:30 pm \nShare experiences with individuals\, family members and friends impacted by mental illness\nContact: NAMI Nassau\, 904-277-1886\nNational Alliance of Mental Illness \nBook Now
URL:https://www.nassaucountycouncilonaging.org/calendar/nami-mental-health-support-group-3-2-2-6-49-30-11-14-5/
LOCATION:Janice Ancrum Senior Life Center\, 1901 Island Walk Way\, Fernandina Beach\, FL\, 32034
CATEGORIES:Health & Support
ATTACH;FMTTYPE=image/png:https://www.nassaucountycouncilonaging.org/wp-content/uploads/2023/03/NAMISized.png
END:VEVENT
BEGIN:VEVENT
DTSTART;TZID=America/New_York:20250425T100000
DTEND;TZID=America/New_York:20250425T110000
DTSTAMP:20260423T123322
CREATED:20250326T212342Z
LAST-MODIFIED:20250421T161740Z
UID:10013427-1745575200-1745578800@www.nassaucountycouncilonaging.org
SUMMARY:Brain Boosters
DESCRIPTION:Nutrition for Cognitive Health\n10 – 11 am\nApril Blue Moseley\, Better Belly Wellness \nBook Now
URL:https://www.nassaucountycouncilonaging.org/calendar/brain-boosters-3/
LOCATION:Janice Ancrum Senior Life Center\, 1901 Island Walk Way\, Fernandina Beach\, FL\, 32034
CATEGORIES:Health & Support
ATTACH;FMTTYPE=image/png:https://www.nassaucountycouncilonaging.org/wp-content/uploads/2025/03/brain-booster.png
END:VEVENT
BEGIN:VEVENT
DTSTART;TZID=America/New_York:20250424T093000
DTEND;TZID=America/New_York:20250424T103000
DTSTAMP:20260423T123322
CREATED:20250421T155856Z
LAST-MODIFIED:20250421T155859Z
UID:10012456-1745487000-1745490600@www.nassaucountycouncilonaging.org
SUMMARY:Qigong Healing - Advanced
DESCRIPTION:9:30 am – 10:30 am\nJohn Cipriani \nBook Now
URL:https://www.nassaucountycouncilonaging.org/calendar/qigong-healing-for-beginners-15/
LOCATION:Janice Ancrum Senior Life Center\, 1901 Island Walk Way\, Fernandina Beach\, FL\, 32034
CATEGORIES:Health & Support
ATTACH;FMTTYPE=image/png:https://www.nassaucountycouncilonaging.org/wp-content/uploads/2023/06/LungsSized.png
END:VEVENT
BEGIN:VEVENT
DTSTART;TZID=America/New_York:20250423T153000
DTEND;TZID=America/New_York:20250423T170000
DTSTAMP:20260423T123322
CREATED:20250421T153610Z
LAST-MODIFIED:20250421T153612Z
UID:10012425-1745422200-1745427600@www.nassaucountycouncilonaging.org
SUMMARY:Support Group: Caregivers
DESCRIPTION:Sustaining the unsung Heroes\n3:30 – 5:00 pm \nCaregiving has been described as both a labor of love and the most difficult job on the planet. Learn how to better deal with physical and emotional strain\, and get the relief you  need through validation\, self-care\, respite and resource sharing. \nVarious facilitators\nMore  information: Jennifer Gundling\, NCCOA Home Health\, Training & Caregiver Services Manager\, 904-775-5488 or jgundling@nassaucountycoa.org \nBook Now\n 
URL:https://www.nassaucountycouncilonaging.org/calendar/support-group-caregivers-3-5/
LOCATION:Janice Ancrum Senior Life Center\, 1901 Island Walk Way\, Fernandina Beach\, FL\, 32034
CATEGORIES:Health & Support
ATTACH;FMTTYPE=image/png:https://www.nassaucountycouncilonaging.org/wp-content/uploads/2023/06/CareSized.png
END:VEVENT
BEGIN:VEVENT
DTSTART;TZID=America/New_York:20250423T133000
DTEND;TZID=America/New_York:20250423T150000
DTSTAMP:20260423T123322
CREATED:20250421T155335Z
LAST-MODIFIED:20250421T155335Z
UID:10013563-1745415000-1745420400@www.nassaucountycouncilonaging.org
SUMMARY:Caregiver Stressbuster Forum - FREE
DESCRIPTION:1:30 pm – 3:00 pm\nJennifer Gundling & Emily Kunzelmann \nRegister via email: jgundling@nassaucountycoa.org
URL:https://www.nassaucountycouncilonaging.org/calendar/caregiver-stressbuster-forum-free-5/
LOCATION:Janice Ancrum Senior Life Center\, 1901 Island Walk Way\, Fernandina Beach\, FL\, 32034
CATEGORIES:Health & Support
ATTACH;FMTTYPE=image/png:https://www.nassaucountycouncilonaging.org/wp-content/uploads/2025/03/caregiver.png
END:VEVENT
BEGIN:VEVENT
DTSTART;TZID=America/New_York:20250423T110000
DTEND;TZID=America/New_York:20250423T233000
DTSTAMP:20260423T123322
CREATED:20250421T152810Z
LAST-MODIFIED:20250421T152814Z
UID:10012544-1745406000-1745451000@www.nassaucountycouncilonaging.org
SUMMARY:Support Group
DESCRIPTION:Low Vision\n11:00 am – 12:30 pm\nKrista Long \nVision challenges can significaly impact an individual’s independence and quality of life. Learn how to use visual aids\, modify living spaces and utilize technology. \nBook Now
URL:https://www.nassaucountycouncilonaging.org/calendar/support-group-26-5/
LOCATION:Janice Ancrum Senior Life Center\, 1901 Island Walk Way\, Fernandina Beach\, FL\, 32034
CATEGORIES:Health & Support
ATTACH;FMTTYPE=image/png:https://www.nassaucountycouncilonaging.org/wp-content/uploads/2023/03/LowVisionSized.png
END:VEVENT
BEGIN:VEVENT
DTSTART;TZID=America/New_York:20250421T153000
DTEND;TZID=America/New_York:20250421T170000
DTSTAMP:20260423T123322
CREATED:20250421T145144Z
LAST-MODIFIED:20250421T145144Z
UID:10013560-1745249400-1745254800@www.nassaucountycouncilonaging.org
SUMMARY:The Successful Caregiver
DESCRIPTION:3:30 pm – 5:00 pm\nJennifer Gundling & Emily Kunzelmann \nRegister via email: jgundling@nassaucountycoa.org
URL:https://www.nassaucountycouncilonaging.org/calendar/the-successful-caregiver-2/
LOCATION:Janice Ancrum Senior Life Center\, 1901 Island Walk Way\, Fernandina Beach\, FL\, 32034
CATEGORIES:Health & Support
ATTACH;FMTTYPE=image/png:https://www.nassaucountycouncilonaging.org/wp-content/uploads/2025/03/successful-caregiver.png
END:VEVENT
BEGIN:VEVENT
DTSTART;TZID=America/New_York:20250418T110000
DTEND;TZID=America/New_York:20250418T123000
DTSTAMP:20260423T123322
CREATED:20250414T154719Z
LAST-MODIFIED:20250414T154720Z
UID:10011850-1744974000-1744979400@www.nassaucountycouncilonaging.org
SUMMARY:NAMI Mental Health Support Group
DESCRIPTION:National Alliance of Mental Illness (NAMI)\n11:00 am – 12:30 pm \nShare experiences with individuals\, family members and friends impacted by mental illness\nContact: NAMI Nassau\, 904-277-1886\nNational Alliance of Mental Illness \nBook Now
URL:https://www.nassaucountycouncilonaging.org/calendar/nami-mental-health-support-group-3-2-2-6-49-30-11-14-4/
LOCATION:Janice Ancrum Senior Life Center\, 1901 Island Walk Way\, Fernandina Beach\, FL\, 32034
CATEGORIES:Health & Support
ATTACH;FMTTYPE=image/png:https://www.nassaucountycouncilonaging.org/wp-content/uploads/2023/03/NAMISized.png
END:VEVENT
BEGIN:VEVENT
DTSTART;TZID=America/New_York:20250418T100000
DTEND;TZID=America/New_York:20250418T110000
DTSTAMP:20260423T123322
CREATED:20250326T212126Z
LAST-MODIFIED:20250414T154135Z
UID:10013426-1744970400-1744974000@www.nassaucountycouncilonaging.org
SUMMARY:Brain Boosters
DESCRIPTION:Socialization\, Communication & Sign Language\n10 – 11 am\nLynn Freeman\, NCCOA Sign language Instructor &\nMichelle Christie\, Clarity Hearing Aid Center \nBook Now\n 
URL:https://www.nassaucountycouncilonaging.org/calendar/brain-boosters-2/
LOCATION:Janice Ancrum Senior Life Center\, 1901 Island Walk Way\, Fernandina Beach\, FL\, 32034
CATEGORIES:Health & Support
ATTACH;FMTTYPE=image/png:https://www.nassaucountycouncilonaging.org/wp-content/uploads/2025/03/brain-booster.png
END:VEVENT
BEGIN:VEVENT
DTSTART;TZID=America/New_York:20250415T140000
DTEND;TZID=America/New_York:20250415T160000
DTSTAMP:20260423T123322
CREATED:20250414T144640Z
LAST-MODIFIED:20250414T144640Z
UID:10013556-1744725600-1744732800@www.nassaucountycouncilonaging.org
SUMMARY:Honoring Choices
DESCRIPTION:2:00 pm – 4:00 pm\nCindy Newman \nBook Now
URL:https://www.nassaucountycouncilonaging.org/calendar/honoring-choices-15/
LOCATION:Janice Ancrum Senior Life Center\, 1901 Island Walk Way\, Fernandina Beach\, FL\, 32034
CATEGORIES:Health & Support
ATTACH;FMTTYPE=image/png:https://www.nassaucountycouncilonaging.org/wp-content/uploads/2022/12/honoring-choices.png
END:VEVENT
BEGIN:VEVENT
DTSTART;TZID=America/New_York:20250415T100000
DTEND;TZID=America/New_York:20250415T230000
DTSTAMP:20260423T123322
CREATED:20250331T175152Z
LAST-MODIFIED:20250414T143405Z
UID:10013525-1744711200-1744758000@www.nassaucountycouncilonaging.org
SUMMARY:The Art of Happiness
DESCRIPTION:The Plan\, Make Your Life Meaningful\n10:00 am – 11:00 am\nDr. Jean Kerry \nBook Now
URL:https://www.nassaucountycouncilonaging.org/calendar/the-art-of-happiness-4/
LOCATION:Janice Ancrum Senior Life Center\, 1901 Island Walk Way\, Fernandina Beach\, FL\, 32034
CATEGORIES:Health & Support
ATTACH;FMTTYPE=image/png:https://www.nassaucountycouncilonaging.org/wp-content/uploads/2023/01/smiley.png
END:VEVENT
BEGIN:VEVENT
DTSTART;TZID=America/New_York:20250414T173000
DTEND;TZID=America/New_York:20250414T190000
DTSTAMP:20260423T123322
CREATED:20250326T210457Z
LAST-MODIFIED:20250326T210458Z
UID:10011627-1744651800-1744657200@www.nassaucountycouncilonaging.org
SUMMARY:Support Group: Grieving w/Hope
DESCRIPTION:5:30 pm – 7:00 pm\nJennifer Gundling & Emily Kunzelmann \nRegister at jgundling@nassaucountycoa.org \nGrief is a universal – and most often misunderstood – experience. Learn about dealing with loss on your own personal healing journey.
URL:https://www.nassaucountycouncilonaging.org/calendar/support-group-grieving-w-hope-7-2/2025-04-14/
LOCATION:Janice Ancrum Senior Life Center\, 1901 Island Walk Way\, Fernandina Beach\, FL\, 32034
CATEGORIES:Health & Support
ATTACH;FMTTYPE=image/png:https://www.nassaucountycouncilonaging.org/wp-content/uploads/2023/06/GrievingWithHopeSized.png
END:VEVENT
BEGIN:VEVENT
DTSTART;TZID=America/New_York:20250411T110000
DTEND;TZID=America/New_York:20250411T123000
DTSTAMP:20260423T123322
CREATED:20250407T183509Z
LAST-MODIFIED:20250407T183517Z
UID:10011849-1744369200-1744374600@www.nassaucountycouncilonaging.org
SUMMARY:NAMI Mental Health Support Group
DESCRIPTION:National Alliance of Mental Illness (NAMI)\n11:00 am – 12:30 pm \nShare experiences with individuals\, family members and friends impacted by mental illness\nContact: NAMI Nassau\, 904-277-1886\nNational Alliance of Mental Illness \nBook Now
URL:https://www.nassaucountycouncilonaging.org/calendar/nami-mental-health-support-group-3-2-2-6-49-30-11-14-3/
LOCATION:Janice Ancrum Senior Life Center\, 1901 Island Walk Way\, Fernandina Beach\, FL\, 32034
CATEGORIES:Health & Support
ATTACH;FMTTYPE=image/png:https://www.nassaucountycouncilonaging.org/wp-content/uploads/2023/03/NAMISized.png
END:VEVENT
BEGIN:VEVENT
DTSTART;TZID=America/New_York:20250411T100000
DTEND;TZID=America/New_York:20250411T110000
DTSTAMP:20260423T123322
CREATED:20250326T211814Z
LAST-MODIFIED:20250407T183249Z
UID:10013425-1744365600-1744369200@www.nassaucountycouncilonaging.org
SUMMARY:Brain Boosters
DESCRIPTION:Key Concepts About the Maturing Brain\n10 – 11am\nDr. Marc Case\,\nChase Chiropractic Neurology Center \nBook Now
URL:https://www.nassaucountycouncilonaging.org/calendar/brain-boosters/
LOCATION:Janice Ancrum Senior Life Center\, 1901 Island Walk Way\, Fernandina Beach\, FL\, 32034
CATEGORIES:Health & Support
ATTACH;FMTTYPE=image/png:https://www.nassaucountycouncilonaging.org/wp-content/uploads/2025/03/brain-booster.png
END:VEVENT
BEGIN:VEVENT
DTSTART;TZID=America/New_York:20250409T153000
DTEND;TZID=America/New_York:20250409T170000
DTSTAMP:20260423T123322
CREATED:20250407T173931Z
LAST-MODIFIED:20250407T173932Z
UID:10012419-1744212600-1744218000@www.nassaucountycouncilonaging.org
SUMMARY:Support Group
DESCRIPTION:Caregiver Support Group\nOffers support and education for caregivers. Respite care is available for loved ones. Guest speakers are often featured. \n3:30 – 5 pm\nContact Emily Kunzelmann | 904-775-5472 or ekunzelmann@nassaucountycoa.org\nor Jennifer Gundling  |  904-775-5488 or jgundling@nassaucountycoa.org \nBook Now
URL:https://www.nassaucountycouncilonaging.org/calendar/support-group-25-3-4-8/
LOCATION:Janice Ancrum Senior Life Center\, 1901 Island Walk Way\, Fernandina Beach\, FL\, 32034
CATEGORIES:Health & Support
ATTACH;FMTTYPE=image/png:https://www.nassaucountycouncilonaging.org/wp-content/uploads/2023/06/CareSized.png
END:VEVENT
BEGIN:VEVENT
DTSTART;TZID=America/New_York:20250408T100000
DTEND;TZID=America/New_York:20250408T230000
DTSTAMP:20260423T123322
CREATED:20250331T175001Z
LAST-MODIFIED:20250407T162420Z
UID:10013524-1744106400-1744153200@www.nassaucountycouncilonaging.org
SUMMARY:The Art of Happiness
DESCRIPTION:Take Charge of Your happiness with the Four Pillars of Life\n10:00 am – 11:00 am\nDr. Jean Kerry \nBook Now
URL:https://www.nassaucountycouncilonaging.org/calendar/the-art-of-happiness-3/
LOCATION:Janice Ancrum Senior Life Center\, 1901 Island Walk Way\, Fernandina Beach\, FL\, 32034
CATEGORIES:Health & Support
ATTACH;FMTTYPE=image/png:https://www.nassaucountycouncilonaging.org/wp-content/uploads/2023/01/smiley.png
END:VEVENT
BEGIN:VEVENT
DTSTART;TZID=America/New_York:20250404T110000
DTEND;TZID=America/New_York:20250404T123000
DTSTAMP:20260423T123322
CREATED:20250331T191914Z
LAST-MODIFIED:20250331T191917Z
UID:10011848-1743764400-1743769800@www.nassaucountycouncilonaging.org
SUMMARY:NAMI Mental Health Support Group
DESCRIPTION:National Alliance of Mental Illness (NAMI)\n11:00 am – 12:30 pm \nShare experiences with individuals\, family members and friends impacted by mental illness\nContact: NAMI Nassau\, 904-277-1886\nNational Alliance of Mental Illness \nBook Now
URL:https://www.nassaucountycouncilonaging.org/calendar/nami-mental-health-support-group-3-2-2-6-49-30-11-14-2/
LOCATION:Janice Ancrum Senior Life Center\, 1901 Island Walk Way\, Fernandina Beach\, FL\, 32034
CATEGORIES:Health & Support
ATTACH;FMTTYPE=image/png:https://www.nassaucountycouncilonaging.org/wp-content/uploads/2023/03/NAMISized.png
END:VEVENT
BEGIN:VEVENT
DTSTART;TZID=America/New_York:20250403T093000
DTEND;TZID=America/New_York:20250403T101500
DTSTAMP:20260423T123322
CREATED:20250331T184801Z
LAST-MODIFIED:20250331T184805Z
UID:10012453-1743672600-1743675300@www.nassaucountycouncilonaging.org
SUMMARY:Qigong Healing for Beginners
DESCRIPTION:9:30 am – 10:15 am\nJohn Cipriani \nBook Now
URL:https://www.nassaucountycouncilonaging.org/calendar/qigong-healing-for-beginners-14/
LOCATION:Janice Ancrum Senior Life Center\, 1901 Island Walk Way\, Fernandina Beach\, FL\, 32034
CATEGORIES:Health & Support
ATTACH;FMTTYPE=image/png:https://www.nassaucountycouncilonaging.org/wp-content/uploads/2023/06/LungsSized.png
END:VEVENT
BEGIN:VEVENT
DTSTART;TZID=America/New_York:20250401T120000
DTEND;TZID=America/New_York:20250401T133000
DTSTAMP:20260423T123322
CREATED:20250331T180843Z
LAST-MODIFIED:20250331T180844Z
UID:10012573-1743508800-1743514200@www.nassaucountycouncilonaging.org
SUMMARY:Support Group: Hearing Loss
DESCRIPTION:12:00 pm – 1:30 pm\nFrances Bartelt \nLoss of hearing can lead to feelings of isolation and frustration. Learn about assistive listening devices and /or lip-reading\, hearing aids and local resources. \nBook Now
URL:https://www.nassaucountycouncilonaging.org/calendar/support-group-hearing-loss-3-4/
LOCATION:Janice Ancrum Senior Life Center\, 1901 Island Walk Way\, Fernandina Beach\, FL\, 32034
CATEGORIES:Health & Support
ATTACH;FMTTYPE=image/png:https://www.nassaucountycouncilonaging.org/wp-content/uploads/2023/01/EarSized.png
END:VEVENT
BEGIN:VEVENT
DTSTART;TZID=America/New_York:20250401T100000
DTEND;TZID=America/New_York:20250401T230000
DTSTAMP:20260423T123322
CREATED:20250331T174739Z
LAST-MODIFIED:20250331T174742Z
UID:10013523-1743501600-1743548400@www.nassaucountycouncilonaging.org
SUMMARY:The Art of Happiness
DESCRIPTION:Get Ready for the Adventure of Your Lifetime\n10:00 am – 11:00 am\nDr. Jean Kerry \nBook Now
URL:https://www.nassaucountycouncilonaging.org/calendar/the-art-of-happiness-2/
LOCATION:Janice Ancrum Senior Life Center\, 1901 Island Walk Way\, Fernandina Beach\, FL\, 32034
CATEGORIES:Health & Support
ATTACH;FMTTYPE=image/png:https://www.nassaucountycouncilonaging.org/wp-content/uploads/2023/01/smiley.png
END:VEVENT
BEGIN:VEVENT
DTSTART;TZID=America/New_York:20250328T110000
DTEND;TZID=America/New_York:20250328T123000
DTSTAMP:20260423T123322
CREATED:20250326T192514Z
LAST-MODIFIED:20250326T192515Z
UID:10011847-1743159600-1743165000@www.nassaucountycouncilonaging.org
SUMMARY:NAMI Mental Health Support Group
DESCRIPTION:National Alliance of Mental Illness (NAMI)\n11:00 am – 12:30 pm \nShare experiences with individuals\, family members and friends impacted by mental illness\nContact: NAMI Nassau\, 904-277-1886\nNational Alliance of Mental Illness \nBook Now
URL:https://www.nassaucountycouncilonaging.org/calendar/nami-mental-health-support-group-3-2-2-6-49-30-11-15/
LOCATION:Janice Ancrum Senior Life Center\, 1901 Island Walk Way\, Fernandina Beach\, FL\, 32034
CATEGORIES:Health & Support
ATTACH;FMTTYPE=image/png:https://www.nassaucountycouncilonaging.org/wp-content/uploads/2023/03/NAMISized.png
END:VEVENT
BEGIN:VEVENT
DTSTART;TZID=America/New_York:20250327T093000
DTEND;TZID=America/New_York:20250327T101500
DTSTAMP:20260423T123322
CREATED:20250326T182910Z
LAST-MODIFIED:20250326T182917Z
UID:10012452-1743067800-1743070500@www.nassaucountycouncilonaging.org
SUMMARY:Qigong Healing for Beginners
DESCRIPTION:9:30 am – 10:15 am\nJohn Cipriani \nBook Now
URL:https://www.nassaucountycouncilonaging.org/calendar/qigong-healing-for-beginners-13/
LOCATION:Janice Ancrum Senior Life Center\, 1901 Island Walk Way\, Fernandina Beach\, FL\, 32034
CATEGORIES:Health & Support
ATTACH;FMTTYPE=image/png:https://www.nassaucountycouncilonaging.org/wp-content/uploads/2023/06/LungsSized.png
END:VEVENT
BEGIN:VEVENT
DTSTART;TZID=America/New_York:20250326T153000
DTEND;TZID=America/New_York:20250326T170000
DTSTAMP:20260423T123322
CREATED:20250326T181431Z
LAST-MODIFIED:20250326T181432Z
UID:10012424-1743003000-1743008400@www.nassaucountycouncilonaging.org
SUMMARY:Support Group: Caregivers
DESCRIPTION:Sustaining the unsung Heroes\n3:30 – 5:00 pm \nCaregiving has been described as both a labor of love and the most difficult job on the planet. Learn how to better deal with physical and emotional strain\, and get the relief you  need through validation\, self-care\, respite and resource sharing. \nVarious facilitators\nMore  information: Jennifer Gundling\, NCCOA Home Health\, Training & Caregiver Services Manager\, 904-775-5488 or jgundling@nassaucountycoa.org \nBook Now\n 
URL:https://www.nassaucountycouncilonaging.org/calendar/support-group-caregivers-3-4/
LOCATION:Janice Ancrum Senior Life Center\, 1901 Island Walk Way\, Fernandina Beach\, FL\, 32034
CATEGORIES:Health & Support
ATTACH;FMTTYPE=image/png:https://www.nassaucountycouncilonaging.org/wp-content/uploads/2023/06/CareSized.png
END:VEVENT
BEGIN:VEVENT
DTSTART;TZID=America/New_York:20250326T133000
DTEND;TZID=America/New_York:20250326T150000
DTSTAMP:20260423T123322
CREATED:20250326T181908Z
LAST-MODIFIED:20250326T181908Z
UID:10013038-1742995800-1743001200@www.nassaucountycouncilonaging.org
SUMMARY:Caregiver Stressbuster Forum - FREE
DESCRIPTION:1:30 pm – 3:00 pm\nJennifer Gundling & Emily Kunzelmann \nregister at jgundling@nassaucountycoa.org
URL:https://www.nassaucountycouncilonaging.org/calendar/caregiver-stressbuster-forum-free-3/
LOCATION:Janice Ancrum Senior Life Center\, 1901 Island Walk Way\, Fernandina Beach\, FL\, 32034
CATEGORIES:Health & Support
ATTACH;FMTTYPE=image/png:https://www.nassaucountycouncilonaging.org/wp-content/uploads/2025/03/caregiver.png
END:VEVENT
BEGIN:VEVENT
DTSTART;TZID=America/New_York:20250326T110000
DTEND;TZID=America/New_York:20250326T233000
DTSTAMP:20260423T123322
CREATED:20250324T180519Z
LAST-MODIFIED:20250324T180520Z
UID:10012543-1742986800-1743031800@www.nassaucountycouncilonaging.org
SUMMARY:Support Group
DESCRIPTION:Low Vision\n11:00 am – 12:30 pm\nKrista Long \nVision challenges can significaly impact an individual’s independence and quality of life. Learn how to use visual aids\, modify living spaces and utilize technology. \nBook Now
URL:https://www.nassaucountycouncilonaging.org/calendar/support-group-26-4/
LOCATION:Janice Ancrum Senior Life Center\, 1901 Island Walk Way\, Fernandina Beach\, FL\, 32034
CATEGORIES:Health & Support
ATTACH;FMTTYPE=image/png:https://www.nassaucountycouncilonaging.org/wp-content/uploads/2023/03/LowVisionSized.png
END:VEVENT
BEGIN:VEVENT
DTSTART;TZID=America/New_York:20250324T173000
DTEND;TZID=America/New_York:20250324T190000
DTSTAMP:20260423T123322
CREATED:20250324T163838Z
LAST-MODIFIED:20250324T163909Z
UID:10011619-1742837400-1742842800@www.nassaucountycouncilonaging.org
SUMMARY:Support Group: Grieving w/Hope
DESCRIPTION:5:30 pm – 7:00 pm\nJennifer Gundling & Emily Kunzelmann \nRegister at jgundling@nassaucountycoa.org \nGrief is a universal – and most often misunderstood – experience. Learn about dealing with loss on your own personal healing journey.
URL:https://www.nassaucountycouncilonaging.org/calendar/support-group-grieving-w-hope-6-2/2025-03-24/
LOCATION:Janice Ancrum Senior Life Center\, 1901 Island Walk Way\, Fernandina Beach\, FL\, 32034
CATEGORIES:Health & Support
ATTACH;FMTTYPE=image/png:https://www.nassaucountycouncilonaging.org/wp-content/uploads/2023/06/GrievingWithHopeSized.png
END:VEVENT
BEGIN:VEVENT
DTSTART;TZID=America/New_York:20250321T110000
DTEND;TZID=America/New_York:20250321T123000
DTSTAMP:20260423T123322
CREATED:20250315T201533Z
LAST-MODIFIED:20250315T201535Z
UID:10011846-1742554800-1742560200@www.nassaucountycouncilonaging.org
SUMMARY:NAMI Mental Health Support Group
DESCRIPTION:National Alliance of Mental Illness (NAMI)\n11:00 am – 12:30 pm \nShare experiences with individuals\, family members and friends impacted by mental illness\nContact: NAMI Nassau\, 904-277-1886\nNational Alliance of Mental Illness \nBook Now
URL:https://www.nassaucountycouncilonaging.org/calendar/nami-mental-health-support-group-3-2-2-6-49-30-11-13/
LOCATION:Janice Ancrum Senior Life Center\, 1901 Island Walk Way\, Fernandina Beach\, FL\, 32034
CATEGORIES:Health & Support
ATTACH;FMTTYPE=image/png:https://www.nassaucountycouncilonaging.org/wp-content/uploads/2023/03/NAMISized.png
END:VEVENT
BEGIN:VEVENT
DTSTART;TZID=America/New_York:20250320T093000
DTEND;TZID=America/New_York:20250320T101500
DTSTAMP:20260423T123322
CREATED:20250315T195112Z
LAST-MODIFIED:20250315T195113Z
UID:10012451-1742463000-1742465700@www.nassaucountycouncilonaging.org
SUMMARY:Qigong Healing for Beginners
DESCRIPTION:9:30 am – 10:15 am\nJohn Cipriani \nBook Now
URL:https://www.nassaucountycouncilonaging.org/calendar/qigong-healing-for-beginners-12/
LOCATION:Janice Ancrum Senior Life Center\, 1901 Island Walk Way\, Fernandina Beach\, FL\, 32034
CATEGORIES:Health & Support
ATTACH;FMTTYPE=image/png:https://www.nassaucountycouncilonaging.org/wp-content/uploads/2023/06/LungsSized.png
END:VEVENT
END:VCALENDAR