BEGIN:VCALENDAR
VERSION:2.0
PRODID:-//Nassau County Council on Aging - ECPv6.15.20//NONSGML v1.0//EN
CALSCALE:GREGORIAN
METHOD:PUBLISH
X-WR-CALNAME:Nassau County Council on Aging
X-ORIGINAL-URL:https://www.nassaucountycouncilonaging.org
X-WR-CALDESC:Events for Nassau County Council on Aging
REFRESH-INTERVAL;VALUE=DURATION:PT1H
X-Robots-Tag:noindex
X-PUBLISHED-TTL:PT1H
BEGIN:VTIMEZONE
TZID:America/New_York
BEGIN:DAYLIGHT
TZOFFSETFROM:-0500
TZOFFSETTO:-0400
TZNAME:EDT
DTSTART:20240310T070000
END:DAYLIGHT
BEGIN:STANDARD
TZOFFSETFROM:-0400
TZOFFSETTO:-0500
TZNAME:EST
DTSTART:20241103T060000
END:STANDARD
BEGIN:DAYLIGHT
TZOFFSETFROM:-0500
TZOFFSETTO:-0400
TZNAME:EDT
DTSTART:20250309T070000
END:DAYLIGHT
BEGIN:STANDARD
TZOFFSETFROM:-0400
TZOFFSETTO:-0500
TZNAME:EST
DTSTART:20251102T060000
END:STANDARD
BEGIN:DAYLIGHT
TZOFFSETFROM:-0500
TZOFFSETTO:-0400
TZNAME:EDT
DTSTART:20260308T070000
END:DAYLIGHT
BEGIN:STANDARD
TZOFFSETFROM:-0400
TZOFFSETTO:-0500
TZNAME:EST
DTSTART:20261101T060000
END:STANDARD
END:VTIMEZONE
BEGIN:VEVENT
DTSTART;TZID=America/New_York:20250717T104500
DTEND;TZID=America/New_York:20250717T113000
DTSTAMP:20260423T002054
CREATED:20250106T224811Z
LAST-MODIFIED:20250630T200021Z
UID:10013580-1752749100-1752751800@www.nassaucountycouncilonaging.org
SUMMARY:Introduction to Qigong
DESCRIPTION:10:45 am – 11:30 am\nJohn Cipriani
URL:https://www.nassaucountycouncilonaging.org/calendar/qigong-healing-for-beginners-16/
LOCATION:Janice Ancrum Senior Life Center\, 1901 Island Walk Way\, Fernandina Beach\, FL\, 32034
CATEGORIES:Health & Support
ATTACH;FMTTYPE=image/png:https://www.nassaucountycouncilonaging.org/wp-content/uploads/2023/06/LungsSized.png
END:VEVENT
BEGIN:VEVENT
DTSTART;TZID=America/New_York:20250714T173000
DTEND;TZID=America/New_York:20250714T190000
DTSTAMP:20260423T002054
CREATED:20250326T210457Z
LAST-MODIFIED:20250326T210458Z
UID:10013414-1752514200-1752519600@www.nassaucountycouncilonaging.org
SUMMARY:Support Group: Grieving w/Hope
DESCRIPTION:5:30 pm – 7:00 pm\nJennifer Gundling & Emily Kunzelmann \nRegister at jgundling@nassaucountycoa.org \nGrief is a universal – and most often misunderstood – experience. Learn about dealing with loss on your own personal healing journey.
URL:https://www.nassaucountycouncilonaging.org/calendar/support-group-grieving-w-hope-7-2/2025-07-14/
LOCATION:Janice Ancrum Senior Life Center\, 1901 Island Walk Way\, Fernandina Beach\, FL\, 32034
CATEGORIES:Health & Support
ATTACH;FMTTYPE=image/png:https://www.nassaucountycouncilonaging.org/wp-content/uploads/2023/06/GrievingWithHopeSized.png
END:VEVENT
BEGIN:VEVENT
DTSTART;TZID=America/New_York:20250714T130000
DTEND;TZID=America/New_York:20250714T140000
DTSTAMP:20260423T002054
CREATED:20250630T183019Z
LAST-MODIFIED:20250630T183019Z
UID:10013880-1752498000-1752501600@www.nassaucountycouncilonaging.org
SUMMARY:Reflections Over Tea
DESCRIPTION:1:00 pm – 2:00 pm\nApril Blue Moseley
URL:https://www.nassaucountycouncilonaging.org/calendar/reflections-over-tea-7/
LOCATION:Janice Ancrum Senior Life Center\, 1901 Island Walk Way\, Fernandina Beach\, FL\, 32034
CATEGORIES:Health & Support
ATTACH;FMTTYPE=image/png:https://www.nassaucountycouncilonaging.org/wp-content/uploads/2024/04/TeaTimeSized.png
END:VEVENT
BEGIN:VEVENT
DTSTART;TZID=America/New_York:20250711T110000
DTEND;TZID=America/New_York:20250711T123000
DTSTAMP:20260423T002054
CREATED:20250707T220644Z
LAST-MODIFIED:20250707T220646Z
UID:10013287-1752231600-1752237000@www.nassaucountycouncilonaging.org
SUMMARY:NAMI Mental Health Support Group
DESCRIPTION:National Alliance of Mental Illness (NAMI)\n11:00 am – 12:30 pm \nShare experiences with individuals\, family members and friends impacted by mental illness\nContact: NAMI Nassau\, 904-277-1886\nNational Alliance of Mental Illness \nBook Now
URL:https://www.nassaucountycouncilonaging.org/calendar/nami-mental-health-support-group-3-2-2-6-49-30-11-14-15-2/
LOCATION:Janice Ancrum Senior Life Center\, 1901 Island Walk Way\, Fernandina Beach\, FL\, 32034
CATEGORIES:Health & Support
ATTACH;FMTTYPE=image/png:https://www.nassaucountycouncilonaging.org/wp-content/uploads/2023/03/NAMISized.png
END:VEVENT
BEGIN:VEVENT
DTSTART;TZID=America/New_York:20250711T100000
DTEND;TZID=America/New_York:20250711T110000
DTSTAMP:20260423T002054
CREATED:20250707T222554Z
LAST-MODIFIED:20250707T222554Z
UID:10014758-1752228000-1752231600@www.nassaucountycouncilonaging.org
SUMMARY:Brain Boosters
DESCRIPTION:Mindfulness to Sharpen Your Memory\n10:00 am – 11:00 am\nDr. Marc Case \nBook Now
URL:https://www.nassaucountycouncilonaging.org/calendar/brain-boosters-15/
LOCATION:Janice Ancrum Senior Life Center\, 1901 Island Walk Way\, Fernandina Beach\, FL\, 32034
CATEGORIES:Health & Support
ATTACH;FMTTYPE=image/png:https://www.nassaucountycouncilonaging.org/wp-content/uploads/2025/03/brain-booster.png
END:VEVENT
BEGIN:VEVENT
DTSTART;TZID=America/New_York:20250710T130000
DTEND;TZID=America/New_York:20250710T140000
DTSTAMP:20260423T002054
CREATED:20250707T214252Z
LAST-MODIFIED:20250707T214252Z
UID:10014566-1752152400-1752156000@www.nassaucountycouncilonaging.org
SUMMARY:Poison Prevention Class
DESCRIPTION:1:00 pm – 2:00 pm\nMike McCormick \nBook Now
URL:https://www.nassaucountycouncilonaging.org/calendar/poison-prevention-class/
LOCATION:Janice Ancrum Senior Life Center\, 1901 Island Walk Way\, Fernandina Beach\, FL\, 32034
CATEGORIES:Health & Support
ATTACH;FMTTYPE=image/png:https://www.nassaucountycouncilonaging.org/wp-content/uploads/2023/03/drug.png
END:VEVENT
BEGIN:VEVENT
DTSTART;TZID=America/New_York:20250710T103000
DTEND;TZID=America/New_York:20250710T113000
DTSTAMP:20260423T002054
CREATED:20250707T212544Z
LAST-MODIFIED:20250707T212546Z
UID:10013579-1752143400-1752147000@www.nassaucountycouncilonaging.org
SUMMARY:Introduction to Qigong
DESCRIPTION:10:30 am – 11:30 am\nJohn Cipriani \nBook Now
URL:https://www.nassaucountycouncilonaging.org/calendar/qigong-healing-for-beginners-16-12/
LOCATION:Janice Ancrum Senior Life Center\, 1901 Island Walk Way\, Fernandina Beach\, FL\, 32034
CATEGORIES:Health & Support
ATTACH;FMTTYPE=image/png:https://www.nassaucountycouncilonaging.org/wp-content/uploads/2023/06/LungsSized.png
END:VEVENT
BEGIN:VEVENT
DTSTART;TZID=America/New_York:20250709T153000
DTEND;TZID=America/New_York:20250709T170000
DTSTAMP:20260423T002054
CREATED:20250707T205849Z
LAST-MODIFIED:20250707T205851Z
UID:10013418-1752075000-1752080400@www.nassaucountycouncilonaging.org
SUMMARY:Support Group
DESCRIPTION:Caregiver Support Group\nOffers support and education for caregivers. Respite care is available for loved ones. Guest speakers are often featured. \n3:30 – 5 pm\nContact Emily Kunzelmann | 904-775-5472 or ekunzelmann@nassaucountycoa.org\nor Jennifer Gundling  |  904-775-5488 or jgundling@nassaucountycoa.org \nBook at jgundling@nassaucountycoa.org
URL:https://www.nassaucountycouncilonaging.org/calendar/support-group-25-3-4-11/
LOCATION:Janice Ancrum Senior Life Center\, 1901 Island Walk Way\, Fernandina Beach\, FL\, 32034
CATEGORIES:Health & Support
ATTACH;FMTTYPE=image/png:https://www.nassaucountycouncilonaging.org/wp-content/uploads/2023/06/CareSized.png
END:VEVENT
BEGIN:VEVENT
DTSTART;TZID=America/New_York:20250709T133000
DTEND;TZID=America/New_York:20250709T150000
DTSTAMP:20260423T002054
CREATED:20250707T210026Z
LAST-MODIFIED:20250707T210026Z
UID:10014534-1752067800-1752073200@www.nassaucountycouncilonaging.org
SUMMARY:Caregiver Stressbusters Forum - FREE
DESCRIPTION:1:30 pm – 3:00 pm\nJennifer Gundling \nBook with jgundling@nassaucountycoa.org
URL:https://www.nassaucountycouncilonaging.org/calendar/caregiver-stressbusters-forum-free-14/
LOCATION:Janice Ancrum Senior Life Center\, 1901 Island Walk Way\, Fernandina Beach\, FL\, 32034
CATEGORIES:Health & Support
ATTACH;FMTTYPE=image/png:https://www.nassaucountycouncilonaging.org/wp-content/uploads/2025/03/caregiver.png
END:VEVENT
BEGIN:VEVENT
DTSTART;TZID=America/New_York:20250707T130000
DTEND;TZID=America/New_York:20250707T140000
DTSTAMP:20260423T002054
CREATED:20250707T190220Z
LAST-MODIFIED:20250707T190222Z
UID:10013879-1751893200-1751896800@www.nassaucountycouncilonaging.org
SUMMARY:Reflections Over Tea
DESCRIPTION:1:00 pm – 2:00 pm\nApril Blue Moseley \nBook Now
URL:https://www.nassaucountycouncilonaging.org/calendar/reflections-over-tea-7-3/
LOCATION:Janice Ancrum Senior Life Center\, 1901 Island Walk Way\, Fernandina Beach\, FL\, 32034
CATEGORIES:Health & Support
ATTACH;FMTTYPE=image/png:https://www.nassaucountycouncilonaging.org/wp-content/uploads/2024/04/TeaTimeSized.png
END:VEVENT
BEGIN:VEVENT
DTSTART;TZID=America/New_York:20250703T104500
DTEND;TZID=America/New_York:20250703T113000
DTSTAMP:20260423T002054
CREATED:20250630T200055Z
LAST-MODIFIED:20250630T200056Z
UID:10013578-1751539500-1751542200@www.nassaucountycouncilonaging.org
SUMMARY:Introduction to Qigong
DESCRIPTION:10:45 am – 11:30 am\nJohn Cipriani \nBook Now
URL:https://www.nassaucountycouncilonaging.org/calendar/qigong-healing-for-beginners-16-11/
LOCATION:Janice Ancrum Senior Life Center\, 1901 Island Walk Way\, Fernandina Beach\, FL\, 32034
CATEGORIES:Health & Support
ATTACH;FMTTYPE=image/png:https://www.nassaucountycouncilonaging.org/wp-content/uploads/2023/06/LungsSized.png
END:VEVENT
BEGIN:VEVENT
DTSTART;TZID=America/New_York:20250701T120000
DTEND;TZID=America/New_York:20250701T133000
DTSTAMP:20260423T002054
CREATED:20250630T185358Z
LAST-MODIFIED:20250630T185400Z
UID:10012576-1751371200-1751376600@www.nassaucountycouncilonaging.org
SUMMARY:Support Group: Hearing Loss
DESCRIPTION:12:00 pm – 1:30 pm\nFrances Bartelt \nLoss of hearing can lead to feelings of isolation and frustration. Learn about assistive listening devices and /or lip-reading\, hearing aids and local resources. \nBook Now
URL:https://www.nassaucountycouncilonaging.org/calendar/support-group-hearing-loss-3-7/
LOCATION:Janice Ancrum Senior Life Center\, 1901 Island Walk Way\, Fernandina Beach\, FL\, 32034
CATEGORIES:Health & Support
ATTACH;FMTTYPE=image/png:https://www.nassaucountycouncilonaging.org/wp-content/uploads/2023/01/EarSized.png
END:VEVENT
BEGIN:VEVENT
DTSTART;TZID=America/New_York:20250630T130000
DTEND;TZID=America/New_York:20250630T140000
DTSTAMP:20260423T002054
CREATED:20250630T183044Z
LAST-MODIFIED:20250630T183046Z
UID:10013878-1751288400-1751292000@www.nassaucountycouncilonaging.org
SUMMARY:Reflections Over Tea
DESCRIPTION:1:00 pm – 2:00 pm\nApril Blue Moseley \nBook Now
URL:https://www.nassaucountycouncilonaging.org/calendar/reflections-over-tea-7-2/
LOCATION:Janice Ancrum Senior Life Center\, 1901 Island Walk Way\, Fernandina Beach\, FL\, 32034
CATEGORIES:Health & Support
ATTACH;FMTTYPE=image/png:https://www.nassaucountycouncilonaging.org/wp-content/uploads/2024/04/TeaTimeSized.png
END:VEVENT
BEGIN:VEVENT
DTSTART;TZID=America/New_York:20250627T110000
DTEND;TZID=America/New_York:20250627T123000
DTSTAMP:20260423T002054
CREATED:20250624T165419Z
LAST-MODIFIED:20250624T165420Z
UID:10013285-1751022000-1751027400@www.nassaucountycouncilonaging.org
SUMMARY:NAMI Mental Health Support Group
DESCRIPTION:National Alliance of Mental Illness (NAMI)\n11:00 am – 12:30 pm \nShare experiences with individuals\, family members and friends impacted by mental illness\nContact: NAMI Nassau\, 904-277-1886\nNational Alliance of Mental Illness \nBook Now
URL:https://www.nassaucountycouncilonaging.org/calendar/nami-mental-health-support-group-3-2-2-6-49-30-11-14-14/
LOCATION:Janice Ancrum Senior Life Center\, 1901 Island Walk Way\, Fernandina Beach\, FL\, 32034
CATEGORIES:Health & Support
ATTACH;FMTTYPE=image/png:https://www.nassaucountycouncilonaging.org/wp-content/uploads/2023/03/NAMISized.png
END:VEVENT
BEGIN:VEVENT
DTSTART;TZID=America/New_York:20250627T100000
DTEND;TZID=America/New_York:20250627T110000
DTSTAMP:20260423T002054
CREATED:20250326T214342Z
LAST-MODIFIED:20250624T165136Z
UID:10013437-1751018400-1751022000@www.nassaucountycouncilonaging.org
SUMMARY:Brain Boosters
DESCRIPTION:Touch Points for Brain Stimulation\n10 – 11 am\nApril Blue Moseley\, Better Belly Wellness \nBook Now
URL:https://www.nassaucountycouncilonaging.org/calendar/brain-boosters-13/
LOCATION:Janice Ancrum Senior Life Center\, 1901 Island Walk Way\, Fernandina Beach\, FL\, 32034
CATEGORIES:Health & Support
ATTACH;FMTTYPE=image/png:https://www.nassaucountycouncilonaging.org/wp-content/uploads/2025/03/brain-booster.png
END:VEVENT
BEGIN:VEVENT
DTSTART;TZID=America/New_York:20250626T104500
DTEND;TZID=America/New_York:20250626T113000
DTSTAMP:20260423T002054
CREATED:20250624T163340Z
LAST-MODIFIED:20250624T163341Z
UID:10013577-1750934700-1750937400@www.nassaucountycouncilonaging.org
SUMMARY:Qigong Healing for Beginners
DESCRIPTION:10:45 am – 11:30 am\nJohn Cipriani \nBook Now
URL:https://www.nassaucountycouncilonaging.org/calendar/qigong-healing-for-beginners-16-10/
LOCATION:Janice Ancrum Senior Life Center\, 1901 Island Walk Way\, Fernandina Beach\, FL\, 32034
CATEGORIES:Health & Support
ATTACH;FMTTYPE=image/png:https://www.nassaucountycouncilonaging.org/wp-content/uploads/2023/06/LungsSized.png
END:VEVENT
BEGIN:VEVENT
DTSTART;TZID=America/New_York:20250625T153000
DTEND;TZID=America/New_York:20250625T170000
DTSTAMP:20260423T002054
CREATED:20250623T225741Z
LAST-MODIFIED:20250623T225743Z
UID:10012427-1750865400-1750870800@www.nassaucountycouncilonaging.org
SUMMARY:Support Group: Caregivers
DESCRIPTION:Sustaining the unsung Heroes\n3:30 – 5:00 pm \nCaregiving has been described as both a labor of love and the most difficult job on the planet. Learn how to better deal with physical and emotional strain\, and get the relief you  need through validation\, self-care\, respite and resource sharing. \nVarious facilitators\nMore  information: Jennifer Gundling\, NCCOA Home Health\, Training & Caregiver Services Manager\, 904-775-5488 or jgundling@nassaucountycoa.org \nRegister with jgundling@nassaucountycoa.org
URL:https://www.nassaucountycouncilonaging.org/calendar/support-group-caregivers-3-7/
LOCATION:Janice Ancrum Senior Life Center\, 1901 Island Walk Way\, Fernandina Beach\, FL\, 32034
CATEGORIES:Health & Support
ATTACH;FMTTYPE=image/png:https://www.nassaucountycouncilonaging.org/wp-content/uploads/2023/06/CareSized.png
END:VEVENT
BEGIN:VEVENT
DTSTART;TZID=America/New_York:20250625T133000
DTEND;TZID=America/New_York:20250625T150000
DTSTAMP:20260423T002054
CREATED:20250623T230307Z
LAST-MODIFIED:20250623T230307Z
UID:10013760-1750858200-1750863600@www.nassaucountycouncilonaging.org
SUMMARY:Caregiver Stressbusters Forum - FREE
DESCRIPTION:1:30 pm – 3:00 pm\nJennifer Gundling \nRegister with jgundling@nassaucountycoa.org
URL:https://www.nassaucountycouncilonaging.org/calendar/caregiver-stressbusters-forum-free-13/
LOCATION:Janice Ancrum Senior Life Center\, 1901 Island Walk Way\, Fernandina Beach\, FL\, 32034
CATEGORIES:Health & Support
ATTACH;FMTTYPE=image/png:https://www.nassaucountycouncilonaging.org/wp-content/uploads/2025/03/caregiver.png
END:VEVENT
BEGIN:VEVENT
DTSTART;TZID=America/New_York:20250625T110000
DTEND;TZID=America/New_York:20250625T233000
DTSTAMP:20260423T002054
CREATED:20250623T224833Z
LAST-MODIFIED:20250623T224834Z
UID:10012988-1750849200-1750894200@www.nassaucountycouncilonaging.org
SUMMARY:Support Group
DESCRIPTION:Low Vision\n11:00 am – 12:30 pm\nKrista Long \nVision challenges can significaly impact an individual’s independence and quality of life. Learn how to use visual aids\, modify living spaces and utilize technology. \nBook Now
URL:https://www.nassaucountycouncilonaging.org/calendar/support-group-26-7/
LOCATION:Janice Ancrum Senior Life Center\, 1901 Island Walk Way\, Fernandina Beach\, FL\, 32034
CATEGORIES:Health & Support
ATTACH;FMTTYPE=image/png:https://www.nassaucountycouncilonaging.org/wp-content/uploads/2023/03/LowVisionSized.png
END:VEVENT
BEGIN:VEVENT
DTSTART;TZID=America/New_York:20250623T173000
DTEND;TZID=America/New_York:20250623T190000
DTSTAMP:20260423T002054
CREATED:20250623T221019Z
LAST-MODIFIED:20250623T221020Z
UID:10011622-1750699800-1750705200@www.nassaucountycouncilonaging.org
SUMMARY:Support Group: Grieving w/Hope
DESCRIPTION:5:30 pm – 7:00 pm\nJennifer Gundling & Emily Kunzelmann \nRegister at jgundling@nassaucountycoa.org \nGrief is a universal – and most often misunderstood – experience. Learn about dealing with loss on your own personal healing journey. \nRegister with jgundling@nassaucountycoa.org
URL:https://www.nassaucountycouncilonaging.org/calendar/support-group-grieving-w-hope-6-2-2/
LOCATION:Janice Ancrum Senior Life Center\, 1901 Island Walk Way\, Fernandina Beach\, FL\, 32034
CATEGORIES:Health & Support
ATTACH;FMTTYPE=image/png:https://www.nassaucountycouncilonaging.org/wp-content/uploads/2023/06/GrievingWithHopeSized.png
END:VEVENT
BEGIN:VEVENT
DTSTART;TZID=America/New_York:20250620T110000
DTEND;TZID=America/New_York:20250620T123000
DTSTAMP:20260423T002054
CREATED:20250616T230052Z
LAST-MODIFIED:20250616T230054Z
UID:10013284-1750417200-1750422600@www.nassaucountycouncilonaging.org
SUMMARY:NAMI Mental Health Support Group
DESCRIPTION:National Alliance of Mental Illness (NAMI)\n11:00 am – 12:30 pm \nShare experiences with individuals\, family members and friends impacted by mental illness\nContact: NAMI Nassau\, 904-277-1886\nNational Alliance of Mental Illness \nBook Now
URL:https://www.nassaucountycouncilonaging.org/calendar/nami-mental-health-support-group-3-2-2-6-49-30-11-14-13/
LOCATION:Janice Ancrum Senior Life Center\, 1901 Island Walk Way\, Fernandina Beach\, FL\, 32034
CATEGORIES:Health & Support
ATTACH;FMTTYPE=image/png:https://www.nassaucountycouncilonaging.org/wp-content/uploads/2023/03/NAMISized.png
END:VEVENT
BEGIN:VEVENT
DTSTART;TZID=America/New_York:20250620T110000
DTEND;TZID=America/New_York:20250620T113000
DTSTAMP:20260423T002054
CREATED:20250326T214151Z
LAST-MODIFIED:20250616T225853Z
UID:10013436-1750417200-1750419000@www.nassaucountycouncilonaging.org
SUMMARY:Exercising to Fight Parkinson's
DESCRIPTION:11 – 11:30 am\nTifini McGill\, Advanced Muscle Therapy \nBook Now
URL:https://www.nassaucountycouncilonaging.org/calendar/brain-boosters-12/
LOCATION:Janice Ancrum Senior Life Center\, 1901 Island Walk Way\, Fernandina Beach\, FL\, 32034
CATEGORIES:Health & Support
ATTACH;FMTTYPE=image/png:https://www.nassaucountycouncilonaging.org/wp-content/uploads/2024/03/BrainSized.png
END:VEVENT
BEGIN:VEVENT
DTSTART;TZID=America/New_York:20250620T100000
DTEND;TZID=America/New_York:20250620T110000
DTSTAMP:20260423T002054
CREATED:20250326T213937Z
LAST-MODIFIED:20250616T225711Z
UID:10013435-1750413600-1750417200@www.nassaucountycouncilonaging.org
SUMMARY:Brain Boosters
DESCRIPTION:Your Aging Brain & What You Can Do!\n10 – 11 am\nDr. Marc Case\,\nCase Chiropractic Neurology Center \nBook Now
URL:https://www.nassaucountycouncilonaging.org/calendar/brain-boosters-11/
LOCATION:Janice Ancrum Senior Life Center\, 1901 Island Walk Way\, Fernandina Beach\, FL\, 32034
CATEGORIES:Health & Support
ATTACH;FMTTYPE=image/png:https://www.nassaucountycouncilonaging.org/wp-content/uploads/2025/03/brain-booster.png
END:VEVENT
BEGIN:VEVENT
DTSTART;TZID=America/New_York:20250619T104500
DTEND;TZID=America/New_York:20250619T113000
DTSTAMP:20260423T002054
CREATED:20250616T224022Z
LAST-MODIFIED:20250616T224024Z
UID:10013576-1750329900-1750332600@www.nassaucountycouncilonaging.org
SUMMARY:Qigong Healing for Beginners
DESCRIPTION:10:45 am – 11:30 am\nJohn Cipriani \nBook Now
URL:https://www.nassaucountycouncilonaging.org/calendar/qigong-healing-for-beginners-16-9/
LOCATION:Janice Ancrum Senior Life Center\, 1901 Island Walk Way\, Fernandina Beach\, FL\, 32034
CATEGORIES:Health & Support
ATTACH;FMTTYPE=image/png:https://www.nassaucountycouncilonaging.org/wp-content/uploads/2023/06/LungsSized.png
END:VEVENT
BEGIN:VEVENT
DTSTART;TZID=America/New_York:20250616T153000
DTEND;TZID=America/New_York:20250616T170000
DTSTAMP:20260423T002054
CREATED:20250616T215511Z
LAST-MODIFIED:20250616T215511Z
UID:10013751-1750087800-1750093200@www.nassaucountycouncilonaging.org
SUMMARY:The Successful Caregiver
DESCRIPTION:3:30 pm – 5:00 pm\nJennifer Gundling \nRegister at jgundling@nassaucountycoa.org
URL:https://www.nassaucountycouncilonaging.org/calendar/the-successful-caregiver-4/
LOCATION:Janice Ancrum Senior Life Center\, 1901 Island Walk Way\, Fernandina Beach\, FL\, 32034
CATEGORIES:Health & Support
ATTACH;FMTTYPE=image/png:https://www.nassaucountycouncilonaging.org/wp-content/uploads/2025/03/successful-caregiver.png
END:VEVENT
BEGIN:VEVENT
DTSTART;TZID=America/New_York:20250613T110000
DTEND;TZID=America/New_York:20250613T123000
DTSTAMP:20260423T002054
CREATED:20250609T192207Z
LAST-MODIFIED:20250609T192208Z
UID:10013283-1749812400-1749817800@www.nassaucountycouncilonaging.org
SUMMARY:NAMI Mental Health Support Group
DESCRIPTION:National Alliance of Mental Illness (NAMI)\n11:00 am – 12:30 pm \nShare experiences with individuals\, family members and friends impacted by mental illness\nContact: NAMI Nassau\, 904-277-1886\nNational Alliance of Mental Illness \nBook Now
URL:https://www.nassaucountycouncilonaging.org/calendar/nami-mental-health-support-group-3-2-2-6-49-30-11-14-12/
LOCATION:Janice Ancrum Senior Life Center\, 1901 Island Walk Way\, Fernandina Beach\, FL\, 32034
CATEGORIES:Health & Support
ATTACH;FMTTYPE=image/png:https://www.nassaucountycouncilonaging.org/wp-content/uploads/2023/03/NAMISized.png
END:VEVENT
BEGIN:VEVENT
DTSTART;TZID=America/New_York:20250613T100000
DTEND;TZID=America/New_York:20250613T110000
DTSTAMP:20260423T002054
CREATED:20250326T213716Z
LAST-MODIFIED:20250609T191906Z
UID:10013434-1749808800-1749812400@www.nassaucountycouncilonaging.org
SUMMARY:Brain Boosters
DESCRIPTION:Importance of Early Hearing Detection\n10 – 11am\nMichelle Christie\, Clarity Hearing Aid Center\nLynn Freeman\, NCCOA Sign Language Instructor \nBook Now
URL:https://www.nassaucountycouncilonaging.org/calendar/brain-boosters-10/
LOCATION:Janice Ancrum Senior Life Center\, 1901 Island Walk Way\, Fernandina Beach\, FL\, 32034
CATEGORIES:Health & Support
ATTACH;FMTTYPE=image/png:https://www.nassaucountycouncilonaging.org/wp-content/uploads/2025/03/brain-booster.png
END:VEVENT
BEGIN:VEVENT
DTSTART;TZID=America/New_York:20250612T104500
DTEND;TZID=America/New_York:20250612T113000
DTSTAMP:20260423T002054
CREATED:20250609T190444Z
LAST-MODIFIED:20250609T190445Z
UID:10013575-1749725100-1749727800@www.nassaucountycouncilonaging.org
SUMMARY:Qigong Healing for Beginners
DESCRIPTION:10:45 am – 11:30 am\nJohn Cipriani \nBook Now
URL:https://www.nassaucountycouncilonaging.org/calendar/qigong-healing-for-beginners-16-8/
LOCATION:Janice Ancrum Senior Life Center\, 1901 Island Walk Way\, Fernandina Beach\, FL\, 32034
CATEGORIES:Health & Support
ATTACH;FMTTYPE=image/png:https://www.nassaucountycouncilonaging.org/wp-content/uploads/2023/06/LungsSized.png
END:VEVENT
BEGIN:VEVENT
DTSTART;TZID=America/New_York:20250611T153000
DTEND;TZID=America/New_York:20250611T170000
DTSTAMP:20260423T002054
CREATED:20250609T185206Z
LAST-MODIFIED:20250609T185207Z
UID:10012421-1749655800-1749661200@www.nassaucountycouncilonaging.org
SUMMARY:Support Group
DESCRIPTION:Caregiver Support Group\nOffers support and education for caregivers. Respite care is available for loved ones. Guest speakers are often featured. \n3:30 – 5 pm\nContact Emily Kunzelmann | 904-775-5472 or ekunzelmann@nassaucountycoa.org\nor Jennifer Gundling  |  904-775-5488 or jgundling@nassaucountycoa.org \n  \nBook Now
URL:https://www.nassaucountycouncilonaging.org/calendar/support-group-25-3-4-10/
LOCATION:Janice Ancrum Senior Life Center\, 1901 Island Walk Way\, Fernandina Beach\, FL\, 32034
CATEGORIES:Health & Support
ATTACH;FMTTYPE=image/png:https://www.nassaucountycouncilonaging.org/wp-content/uploads/2023/06/CareSized.png
END:VEVENT
BEGIN:VEVENT
DTSTART;TZID=America/New_York:20250611T133000
DTEND;TZID=America/New_York:20250611T150000
DTSTAMP:20260423T002054
CREATED:20250609T185452Z
LAST-MODIFIED:20250609T185452Z
UID:10013746-1749648600-1749654000@www.nassaucountycouncilonaging.org
SUMMARY:Caregiver Stressbusters Forum
DESCRIPTION:1:30 pm – 3:00 pm\nJennifer Gundling \nRegister at jgundling@nassaucountycoa.org
URL:https://www.nassaucountycouncilonaging.org/calendar/caregiver-stressbusters-forum-3/
LOCATION:Janice Ancrum Senior Life Center\, 1901 Island Walk Way\, Fernandina Beach\, FL\, 32034
CATEGORIES:Health & Support
ATTACH;FMTTYPE=image/png:https://www.nassaucountycouncilonaging.org/wp-content/uploads/2025/03/caregiver.png
END:VEVENT
END:VCALENDAR