BEGIN:VCALENDAR
VERSION:2.0
PRODID:-//Nassau County Council on Aging - ECPv6.15.20//NONSGML v1.0//EN
CALSCALE:GREGORIAN
METHOD:PUBLISH
X-WR-CALNAME:Nassau County Council on Aging
X-ORIGINAL-URL:https://www.nassaucountycouncilonaging.org
X-WR-CALDESC:Events for Nassau County Council on Aging
REFRESH-INTERVAL;VALUE=DURATION:PT1H
X-Robots-Tag:noindex
X-PUBLISHED-TTL:PT1H
BEGIN:VTIMEZONE
TZID:America/New_York
BEGIN:DAYLIGHT
TZOFFSETFROM:-0500
TZOFFSETTO:-0400
TZNAME:EDT
DTSTART:20240310T070000
END:DAYLIGHT
BEGIN:STANDARD
TZOFFSETFROM:-0400
TZOFFSETTO:-0500
TZNAME:EST
DTSTART:20241103T060000
END:STANDARD
BEGIN:DAYLIGHT
TZOFFSETFROM:-0500
TZOFFSETTO:-0400
TZNAME:EDT
DTSTART:20250309T070000
END:DAYLIGHT
BEGIN:STANDARD
TZOFFSETFROM:-0400
TZOFFSETTO:-0500
TZNAME:EST
DTSTART:20251102T060000
END:STANDARD
BEGIN:DAYLIGHT
TZOFFSETFROM:-0500
TZOFFSETTO:-0400
TZNAME:EDT
DTSTART:20260308T070000
END:DAYLIGHT
BEGIN:STANDARD
TZOFFSETFROM:-0400
TZOFFSETTO:-0500
TZNAME:EST
DTSTART:20261101T060000
END:STANDARD
END:VTIMEZONE
BEGIN:VEVENT
DTSTART;TZID=America/New_York:20250827T133000
DTEND;TZID=America/New_York:20250827T150000
DTSTAMP:20260422T184306
CREATED:20250825T171752Z
LAST-MODIFIED:20250825T171752Z
UID:10014933-1756301400-1756306800@www.nassaucountycouncilonaging.org
SUMMARY:Caregiver Stressbusters Forum - FREE
DESCRIPTION:1:30 pm – 3:00 pm\nJennifer Gundling \nRegister with jgundling@nassaucountycoa.org
URL:https://www.nassaucountycouncilonaging.org/calendar/caregiver-stressbusters-forum-free-16/
LOCATION:Janice Ancrum Senior Life Center\, 1901 Island Walk Way\, Fernandina Beach\, FL\, 32034
CATEGORIES:Health & Support
ATTACH;FMTTYPE=image/png:https://www.nassaucountycouncilonaging.org/wp-content/uploads/2025/03/caregiver.png
END:VEVENT
BEGIN:VEVENT
DTSTART;TZID=America/New_York:20250827T110000
DTEND;TZID=America/New_York:20250827T233000
DTSTAMP:20260422T184306
CREATED:20250825T163121Z
LAST-MODIFIED:20250825T163123Z
UID:10012990-1756292400-1756337400@www.nassaucountycouncilonaging.org
SUMMARY:Support Group
DESCRIPTION:Low Vision\n11:00 am – 12:30 pm\nKrista Long \nVision challenges can significaly impact an individual’s independence and quality of life. Learn how to use visual aids\, modify living spaces and utilize technology. \nBook Now
URL:https://www.nassaucountycouncilonaging.org/calendar/support-group-26-9/
LOCATION:Janice Ancrum Senior Life Center\, 1901 Island Walk Way\, Fernandina Beach\, FL\, 32034
CATEGORIES:Health & Support
ATTACH;FMTTYPE=image/png:https://www.nassaucountycouncilonaging.org/wp-content/uploads/2023/03/LowVisionSized.png
END:VEVENT
BEGIN:VEVENT
DTSTART;TZID=America/New_York:20250825T173000
DTEND;TZID=America/New_York:20250825T190000
DTSTAMP:20260422T184306
CREATED:20250825T154936Z
LAST-MODIFIED:20250825T154937Z
UID:10012801-1756143000-1756148400@www.nassaucountycouncilonaging.org
SUMMARY:Support Group: Grieving w/Hope
DESCRIPTION:5:30 pm – 7:00 pm\nJennifer Gundling \nRegister at jgundling@nassaucountycoa.org \nGrief is a universal – and most often misunderstood – experience. Learn about dealing with loss on your own personal healing journey.
URL:https://www.nassaucountycouncilonaging.org/calendar/support-group-grieving-w-hope-6-2-4/2025-08-25/
LOCATION:Janice Ancrum Senior Life Center\, 1901 Island Walk Way\, Fernandina Beach\, FL\, 32034
CATEGORIES:Health & Support
ATTACH;FMTTYPE=image/png:https://www.nassaucountycouncilonaging.org/wp-content/uploads/2023/06/GrievingWithHopeSized.png
END:VEVENT
BEGIN:VEVENT
DTSTART;TZID=America/New_York:20250822T110000
DTEND;TZID=America/New_York:20250822T123000
DTSTAMP:20260422T184306
CREATED:20250818T183444Z
LAST-MODIFIED:20250818T183448Z
UID:10013293-1755860400-1755865800@www.nassaucountycouncilonaging.org
SUMMARY:NAMI Mental Health Support Group
DESCRIPTION:National Alliance of Mental Illness (NAMI)\n11:00 am – 12:30 pm \nShare experiences with individuals\, family members and friends impacted by mental illness\nContact: NAMI Nassau\, 904-277-1886\nNational Alliance of Mental Illness \nBook Now
URL:https://www.nassaucountycouncilonaging.org/calendar/nami-mental-health-support-group-3-2-2-6-49-30-11-14-15-7/
LOCATION:Janice Ancrum Senior Life Center\, 1901 Island Walk Way\, Fernandina Beach\, FL\, 32034
CATEGORIES:Health & Support
ATTACH;FMTTYPE=image/png:https://www.nassaucountycouncilonaging.org/wp-content/uploads/2023/03/NAMISized.png
END:VEVENT
BEGIN:VEVENT
DTSTART;TZID=America/New_York:20250822T100000
DTEND;TZID=America/New_York:20250822T110000
DTSTAMP:20260422T184306
CREATED:20250707T223514Z
LAST-MODIFIED:20250818T183152Z
UID:10014764-1755856800-1755860400@www.nassaucountycouncilonaging.org
SUMMARY:Mindfulness for Stress Reduction
DESCRIPTION:10 – 11 am\nApril Blue Moseley\, Better Belly \nBook Now
URL:https://www.nassaucountycouncilonaging.org/calendar/mindfulness-for-stress-reduction/
LOCATION:Janice Ancrum Senior Life Center\, 1901 Island Walk Way\, Fernandina Beach\, FL\, 32034
CATEGORIES:Health & Support
ATTACH;FMTTYPE=image/png:https://www.nassaucountycouncilonaging.org/wp-content/uploads/2025/03/brain-booster.png
END:VEVENT
BEGIN:VEVENT
DTSTART;TZID=America/New_York:20250821T104500
DTEND;TZID=America/New_York:20250821T113000
DTSTAMP:20260422T184306
CREATED:20250818T181613Z
LAST-MODIFIED:20250818T181615Z
UID:10013585-1755773100-1755775800@www.nassaucountycouncilonaging.org
SUMMARY:Introduction to Qigong
DESCRIPTION:10:45 am – 11:30 am\nJohn Cipriani \nBook Now
URL:https://www.nassaucountycouncilonaging.org/calendar/qigong-healing-for-beginners-16-16/
LOCATION:Janice Ancrum Senior Life Center\, 1901 Island Walk Way\, Fernandina Beach\, FL\, 32034
CATEGORIES:Health & Support
ATTACH;FMTTYPE=image/png:https://www.nassaucountycouncilonaging.org/wp-content/uploads/2023/06/LungsSized.png
END:VEVENT
BEGIN:VEVENT
DTSTART;TZID=America/New_York:20250818T153000
DTEND;TZID=America/New_York:20250818T170000
DTSTAMP:20260422T184306
CREATED:20250818T165834Z
LAST-MODIFIED:20250818T165834Z
UID:10014853-1755531000-1755536400@www.nassaucountycouncilonaging.org
SUMMARY:Support Group: The Successful Caregiver
DESCRIPTION:3:30 pm – 5:00 pm\nJennifer Gundling \nBook via email:  jgundling@nassaucountycoa.org
URL:https://www.nassaucountycouncilonaging.org/calendar/support-group-the-successful-caregiver-2/
LOCATION:Janice Ancrum Senior Life Center\, 1901 Island Walk Way\, Fernandina Beach\, FL\, 32034
CATEGORIES:Health & Support
ATTACH;FMTTYPE=image/png:https://www.nassaucountycouncilonaging.org/wp-content/uploads/2025/03/successful-caregiver.png
END:VEVENT
BEGIN:VEVENT
DTSTART;TZID=America/New_York:20250818T123000
DTEND;TZID=America/New_York:20250818T130000
DTSTAMP:20260422T184306
CREATED:20250818T164851Z
LAST-MODIFIED:20250818T164853Z
UID:10013885-1755520200-1755522000@www.nassaucountycouncilonaging.org
SUMMARY:Healthy Smoothie Samplers
DESCRIPTION:12:30 pm – 1:00 pm\nApril Blue Moseley \nBook Now
URL:https://www.nassaucountycouncilonaging.org/calendar/reflections-over-tea-7-4/
LOCATION:Janice Ancrum Senior Life Center\, 1901 Island Walk Way\, Fernandina Beach\, FL\, 32034
CATEGORIES:Health & Support
ATTACH;FMTTYPE=image/png:https://www.nassaucountycouncilonaging.org/wp-content/uploads/2024/04/SmoothieSized.png
END:VEVENT
BEGIN:VEVENT
DTSTART;TZID=America/New_York:20250815T110000
DTEND;TZID=America/New_York:20250815T123000
DTSTAMP:20260422T184306
CREATED:20250809T183238Z
LAST-MODIFIED:20250809T183239Z
UID:10013292-1755255600-1755261000@www.nassaucountycouncilonaging.org
SUMMARY:NAMI Mental Health Support Group
DESCRIPTION:National Alliance of Mental Illness (NAMI)\n11:00 am – 12:30 pm \nShare experiences with individuals\, family members and friends impacted by mental illness\nContact: NAMI Nassau\, 904-277-1886\nNational Alliance of Mental Illness \nBook Now
URL:https://www.nassaucountycouncilonaging.org/calendar/nami-mental-health-support-group-3-2-2-6-49-30-11-14-15-6/
LOCATION:Janice Ancrum Senior Life Center\, 1901 Island Walk Way\, Fernandina Beach\, FL\, 32034
CATEGORIES:Health & Support
ATTACH;FMTTYPE=image/png:https://www.nassaucountycouncilonaging.org/wp-content/uploads/2023/03/NAMISized.png
END:VEVENT
BEGIN:VEVENT
DTSTART;TZID=America/New_York:20250814T103000
DTEND;TZID=America/New_York:20250814T113000
DTSTAMP:20260422T184306
CREATED:20250809T181654Z
LAST-MODIFIED:20250809T181656Z
UID:10013584-1755167400-1755171000@www.nassaucountycouncilonaging.org
SUMMARY:Introduction to Qigong
DESCRIPTION:10:30 am – 11:30 am\nJohn Cipriani \nBook Now
URL:https://www.nassaucountycouncilonaging.org/calendar/qigong-healing-for-beginners-16-15/
LOCATION:Janice Ancrum Senior Life Center\, 1901 Island Walk Way\, Fernandina Beach\, FL\, 32034
CATEGORIES:Health & Support
ATTACH;FMTTYPE=image/png:https://www.nassaucountycouncilonaging.org/wp-content/uploads/2023/06/LungsSized.png
END:VEVENT
BEGIN:VEVENT
DTSTART;TZID=America/New_York:20250813T153000
DTEND;TZID=America/New_York:20250813T170000
DTSTAMP:20260422T184306
CREATED:20250809T180459Z
LAST-MODIFIED:20250809T180501Z
UID:10013419-1755099000-1755104400@www.nassaucountycouncilonaging.org
SUMMARY:Support Group
DESCRIPTION:Caregiver Support Group\nOffers support and education for caregivers. Respite care is available for loved ones. Guest speakers are often featured. \n3:30 – 5 pm \nContact Jennifer Gundling to register  |  904-775-5488 or jgundling@nassaucountycoa.org
URL:https://www.nassaucountycouncilonaging.org/calendar/support-group-25-3-4-12/
LOCATION:Janice Ancrum Senior Life Center\, 1901 Island Walk Way\, Fernandina Beach\, FL\, 32034
CATEGORIES:Health & Support
ATTACH;FMTTYPE=image/png:https://www.nassaucountycouncilonaging.org/wp-content/uploads/2023/06/CareSized.png
END:VEVENT
BEGIN:VEVENT
DTSTART;TZID=America/New_York:20250813T133000
DTEND;TZID=America/New_York:20250813T150000
DTSTAMP:20260422T184306
CREATED:20250809T180630Z
LAST-MODIFIED:20250809T180630Z
UID:10014829-1755091800-1755097200@www.nassaucountycouncilonaging.org
SUMMARY:Caregiver Stressbusters Forum - FREE
DESCRIPTION:1:30 pm – 3:00 pm\nJennifer Gundling \nRegister via email: jgundling@nassaucountycoa.org
URL:https://www.nassaucountycouncilonaging.org/calendar/caregiver-stressbusters-forum-free-15/
LOCATION:Janice Ancrum Senior Life Center\, 1901 Island Walk Way\, Fernandina Beach\, FL\, 32034
CATEGORIES:Health & Support
ATTACH;FMTTYPE=image/png:https://www.nassaucountycouncilonaging.org/wp-content/uploads/2025/03/caregiver.png
END:VEVENT
BEGIN:VEVENT
DTSTART;TZID=America/New_York:20250811T173000
DTEND;TZID=America/New_York:20250811T190000
DTSTAMP:20260422T184306
CREATED:20250809T171641Z
LAST-MODIFIED:20250809T171643Z
UID:10013415-1754933400-1754938800@www.nassaucountycouncilonaging.org
SUMMARY:Support Group: Grieving w/Hope
DESCRIPTION:5:30 pm – 7:00 pm\nJennifer Gundling \nRegister at jgundling@nassaucountycoa.org\nGrief is a universal – and most often misunderstood – experience. Learn about dealing with loss on your own personal healing journey.
URL:https://www.nassaucountycouncilonaging.org/calendar/support-group-grieving-w-hope-7-2-4/
LOCATION:Janice Ancrum Senior Life Center\, 1901 Island Walk Way\, Fernandina Beach\, FL\, 32034
CATEGORIES:Health & Support
ATTACH;FMTTYPE=image/png:https://www.nassaucountycouncilonaging.org/wp-content/uploads/2023/06/GrievingWithHopeSized.png
END:VEVENT
BEGIN:VEVENT
DTSTART;TZID=America/New_York:20250808T110000
DTEND;TZID=America/New_York:20250808T123000
DTSTAMP:20260422T184306
CREATED:20250804T220328Z
LAST-MODIFIED:20250804T220331Z
UID:10013291-1754650800-1754656200@www.nassaucountycouncilonaging.org
SUMMARY:NAMI Mental Health Support Group
DESCRIPTION:National Alliance of Mental Illness (NAMI)\n11:00 am – 12:30 pm \nShare experiences with individuals\, family members and friends impacted by mental illness\nContact: NAMI Nassau\, 904-277-1886\nNational Alliance of Mental Illness \nBook Now
URL:https://www.nassaucountycouncilonaging.org/calendar/nami-mental-health-support-group-3-2-2-6-49-30-11-14-15-5/
LOCATION:Janice Ancrum Senior Life Center\, 1901 Island Walk Way\, Fernandina Beach\, FL\, 32034
CATEGORIES:Health & Support
ATTACH;FMTTYPE=image/png:https://www.nassaucountycouncilonaging.org/wp-content/uploads/2023/03/NAMISized.png
END:VEVENT
BEGIN:VEVENT
DTSTART;TZID=America/New_York:20250808T100000
DTEND;TZID=America/New_York:20250808T110000
DTSTAMP:20260422T184306
CREATED:20250707T223222Z
LAST-MODIFIED:20250804T220110Z
UID:10014762-1754647200-1754650800@www.nassaucountycouncilonaging.org
SUMMARY:Brain Games
DESCRIPTION:10 – 11 am\nKathy DeAngelis \nBook Now
URL:https://www.nassaucountycouncilonaging.org/calendar/brain-games/
LOCATION:Janice Ancrum Senior Life Center\, 1901 Island Walk Way\, Fernandina Beach\, FL\, 32034
CATEGORIES:Health & Support
ATTACH;FMTTYPE=image/png:https://www.nassaucountycouncilonaging.org/wp-content/uploads/2025/03/brain-booster.png
END:VEVENT
BEGIN:VEVENT
DTSTART;TZID=America/New_York:20250805T120000
DTEND;TZID=America/New_York:20250805T133000
DTSTAMP:20260422T184306
CREATED:20250804T204942Z
LAST-MODIFIED:20250804T204944Z
UID:10013416-1754395200-1754400600@www.nassaucountycouncilonaging.org
SUMMARY:Support Group: Hearing Loss
DESCRIPTION:12:00 pm – 1:30 pm\nFrances Bartelt \nLoss of hearing can lead to feelings of isolation and frustration. Learn about assistive listening devices and /or lip-reading\, hearing aids and local resources. \nBook Now
URL:https://www.nassaucountycouncilonaging.org/calendar/support-group-hearing-loss-3-8/
LOCATION:Janice Ancrum Senior Life Center\, 1901 Island Walk Way\, Fernandina Beach\, FL\, 32034
CATEGORIES:Health & Support
ATTACH;FMTTYPE=image/png:https://www.nassaucountycouncilonaging.org/wp-content/uploads/2023/01/EarSized.png
END:VEVENT
BEGIN:VEVENT
DTSTART;TZID=America/New_York:20250801T110000
DTEND;TZID=America/New_York:20250801T123000
DTSTAMP:20260422T184306
CREATED:20250728T174403Z
LAST-MODIFIED:20250728T174405Z
UID:10013290-1754046000-1754051400@www.nassaucountycouncilonaging.org
SUMMARY:NAMI Mental Health Support Group
DESCRIPTION:National Alliance of Mental Illness (NAMI)\n11:00 am – 12:30 pm \nShare experiences with individuals\, family members and friends impacted by mental illness\nContact: NAMI Nassau\, 904-277-1886\nNational Alliance of Mental Illness \nBook Now
URL:https://www.nassaucountycouncilonaging.org/calendar/nami-mental-health-support-group-3-2-2-6-49-30-11-14-15-4/
LOCATION:Janice Ancrum Senior Life Center\, 1901 Island Walk Way\, Fernandina Beach\, FL\, 32034
CATEGORIES:Health & Support
ATTACH;FMTTYPE=image/png:https://www.nassaucountycouncilonaging.org/wp-content/uploads/2023/03/NAMISized.png
END:VEVENT
BEGIN:VEVENT
DTSTART;TZID=America/New_York:20250801T100000
DTEND;TZID=America/New_York:20250801T110000
DTSTAMP:20260422T184306
CREATED:20250707T223055Z
LAST-MODIFIED:20250728T174009Z
UID:10014761-1754042400-1754046000@www.nassaucountycouncilonaging.org
SUMMARY:Mindfulness to Improve Daily Activities
DESCRIPTION:10 – 11am\nApril Blue Moseley\, Better Belly \nBook Now
URL:https://www.nassaucountycouncilonaging.org/calendar/mindfulness-to-improve-daily-activities/
LOCATION:Janice Ancrum Senior Life Center\, 1901 Island Walk Way\, Fernandina Beach\, FL\, 32034
CATEGORIES:Health & Support
ATTACH;FMTTYPE=image/png:https://www.nassaucountycouncilonaging.org/wp-content/uploads/2025/03/brain-booster.png
END:VEVENT
BEGIN:VEVENT
DTSTART;TZID=America/New_York:20250731T104500
DTEND;TZID=America/New_York:20250731T113000
DTSTAMP:20260422T184306
CREATED:20250728T172417Z
LAST-MODIFIED:20250728T172418Z
UID:10013582-1753958700-1753961400@www.nassaucountycouncilonaging.org
SUMMARY:Introduction to Qigong
DESCRIPTION:10:45 am – 11:30 am\nJohn Cipriani \nBook Now
URL:https://www.nassaucountycouncilonaging.org/calendar/qigong-healing-for-beginners-16-14/
LOCATION:Janice Ancrum Senior Life Center\, 1901 Island Walk Way\, Fernandina Beach\, FL\, 32034
CATEGORIES:Health & Support
ATTACH;FMTTYPE=image/png:https://www.nassaucountycouncilonaging.org/wp-content/uploads/2023/06/LungsSized.png
END:VEVENT
BEGIN:VEVENT
DTSTART;TZID=America/New_York:20250728T173000
DTEND;TZID=America/New_York:20250728T190000
DTSTAMP:20260422T184306
CREATED:20250728T160936Z
LAST-MODIFIED:20250728T160937Z
UID:10011623-1753723800-1753729200@www.nassaucountycouncilonaging.org
SUMMARY:Support Group: Grieving w/Hope
DESCRIPTION:5:30 pm – 7:00 pm\nJennifer Gundling & Emily Kunzelmann \nRegister at jgundling@nassaucountycoa.org\nGrief is a universal – and most often misunderstood – experience. Learn about dealing with loss on your own personal healing journey.
URL:https://www.nassaucountycouncilonaging.org/calendar/support-group-grieving-w-hope-6-2-3/
LOCATION:Janice Ancrum Senior Life Center\, 1901 Island Walk Way\, Fernandina Beach\, FL\, 32034
CATEGORIES:Health & Support
ATTACH;FMTTYPE=image/png:https://www.nassaucountycouncilonaging.org/wp-content/uploads/2023/06/GrievingWithHopeSized.png
END:VEVENT
BEGIN:VEVENT
DTSTART;TZID=America/New_York:20250725T110000
DTEND;TZID=America/New_York:20250725T123000
DTSTAMP:20260422T184306
CREATED:20250721T174637Z
LAST-MODIFIED:20250721T174639Z
UID:10013289-1753441200-1753446600@www.nassaucountycouncilonaging.org
SUMMARY:NAMI Mental Health Support Group
DESCRIPTION:National Alliance of Mental Illness (NAMI)\n11:00 am – 12:30 pm \nShare experiences with individuals\, family members and friends impacted by mental illness\nContact: NAMI Nassau\, 904-277-1886\nNational Alliance of Mental Illness \nBook Now
URL:https://www.nassaucountycouncilonaging.org/calendar/nami-mental-health-support-group-3-2-2-6-49-30-11-14-15-3/
LOCATION:Janice Ancrum Senior Life Center\, 1901 Island Walk Way\, Fernandina Beach\, FL\, 32034
CATEGORIES:Health & Support
ATTACH;FMTTYPE=image/png:https://www.nassaucountycouncilonaging.org/wp-content/uploads/2023/03/NAMISized.png
END:VEVENT
BEGIN:VEVENT
DTSTART;TZID=America/New_York:20250725T100000
DTEND;TZID=America/New_York:20250725T110000
DTSTAMP:20260422T184306
CREATED:20250707T222920Z
LAST-MODIFIED:20250721T174219Z
UID:10014760-1753437600-1753441200@www.nassaucountycouncilonaging.org
SUMMARY:Tune Into Brain Health
DESCRIPTION:Part 1\n10 – 11 am\nDanielle Caldwell\, Music Therapy Now \nBook Now
URL:https://www.nassaucountycouncilonaging.org/calendar/tune-into-brain-health/
LOCATION:Janice Ancrum Senior Life Center\, 1901 Island Walk Way\, Fernandina Beach\, FL\, 32034
CATEGORIES:Health & Support
ATTACH;FMTTYPE=image/png:https://www.nassaucountycouncilonaging.org/wp-content/uploads/2025/03/brain-booster.png
END:VEVENT
BEGIN:VEVENT
DTSTART;TZID=America/New_York:20250724T104500
DTEND;TZID=America/New_York:20250724T113000
DTSTAMP:20260422T184306
CREATED:20250721T172221Z
LAST-MODIFIED:20250721T172223Z
UID:10013581-1753353900-1753356600@www.nassaucountycouncilonaging.org
SUMMARY:Introduction to Qigong
DESCRIPTION:10:45 am – 11:30 am\nJohn Cipriani \nBook Now
URL:https://www.nassaucountycouncilonaging.org/calendar/qigong-healing-for-beginners-16-13/
LOCATION:Janice Ancrum Senior Life Center\, 1901 Island Walk Way\, Fernandina Beach\, FL\, 32034
CATEGORIES:Health & Support
ATTACH;FMTTYPE=image/png:https://www.nassaucountycouncilonaging.org/wp-content/uploads/2023/06/LungsSized.png
END:VEVENT
BEGIN:VEVENT
DTSTART;TZID=America/New_York:20250723T153000
DTEND;TZID=America/New_York:20250723T170000
DTSTAMP:20260422T184306
CREATED:20250721T170444Z
LAST-MODIFIED:20250721T170445Z
UID:10012428-1753284600-1753290000@www.nassaucountycouncilonaging.org
SUMMARY:Support Group: Caregivers
DESCRIPTION:Sustaining the unsung Heroes\n3:30 – 5:00 pm \nCaregiving has been described as both a labor of love and the most difficult job on the planet. Learn how to better deal with physical and emotional strain\, and get the relief you  need through validation\, self-care\, respite and resource sharing. \nVarious facilitators\nMore  information: Jennifer Gundling\, NCCOA Home Health\, Training & Caregiver Services Manager\, 904-775-5488 or jgundling@nassaucountycoa.org \nBook via email: jgundling@nassaucountycoa.org\n  \n 
URL:https://www.nassaucountycouncilonaging.org/calendar/support-group-caregivers-3-8/
LOCATION:Janice Ancrum Senior Life Center\, 1901 Island Walk Way\, Fernandina Beach\, FL\, 32034
CATEGORIES:Health & Support
ATTACH;FMTTYPE=image/png:https://www.nassaucountycouncilonaging.org/wp-content/uploads/2023/06/CareSized.png
END:VEVENT
BEGIN:VEVENT
DTSTART;TZID=America/New_York:20250723T133000
DTEND;TZID=America/New_York:20250723T150000
DTSTAMP:20260422T184306
CREATED:20250721T170604Z
LAST-MODIFIED:20250721T173333Z
UID:10014797-1753277400-1753282800@www.nassaucountycouncilonaging.org
SUMMARY:Caregiver Stressbusters Forum
DESCRIPTION:1:30 pm – 3:00 pm\nJennifer Gundling \nBook via email: jgundling@nassaucountycoa.org
URL:https://www.nassaucountycouncilonaging.org/calendar/caregiver-stressbusters-forum-4/
LOCATION:Janice Ancrum Senior Life Center\, 1901 Island Walk Way\, Fernandina Beach\, FL\, 32034
CATEGORIES:Health & Support
ATTACH;FMTTYPE=image/png:https://www.nassaucountycouncilonaging.org/wp-content/uploads/2025/03/caregiver.png
END:VEVENT
BEGIN:VEVENT
DTSTART;TZID=America/New_York:20250723T110000
DTEND;TZID=America/New_York:20250723T233000
DTSTAMP:20260422T184306
CREATED:20250721T165008Z
LAST-MODIFIED:20250721T165009Z
UID:10012989-1753268400-1753313400@www.nassaucountycouncilonaging.org
SUMMARY:Support Group
DESCRIPTION:Low Vision\n11:00 am – 12:30 pm\nKrista Long \nVision challenges can significaly impact an individual’s independence and quality of life. Learn how to use visual aids\, modify living spaces and utilize technology. \nBook Now
URL:https://www.nassaucountycouncilonaging.org/calendar/support-group-26-8/
LOCATION:Janice Ancrum Senior Life Center\, 1901 Island Walk Way\, Fernandina Beach\, FL\, 32034
CATEGORIES:Health & Support
ATTACH;FMTTYPE=image/png:https://www.nassaucountycouncilonaging.org/wp-content/uploads/2023/03/LowVisionSized.png
END:VEVENT
BEGIN:VEVENT
DTSTART;TZID=America/New_York:20250721T153000
DTEND;TZID=America/New_York:20250721T170000
DTSTAMP:20260422T184306
CREATED:20250719T215048Z
LAST-MODIFIED:20250719T215048Z
UID:10014795-1753111800-1753117200@www.nassaucountycouncilonaging.org
SUMMARY:Support Group: The Successful Caregiver
DESCRIPTION:3:30 pm – 5:00 pm\nJennifer Gundling \nBook via email: jgundling@nassaucountycoa.org
URL:https://www.nassaucountycouncilonaging.org/calendar/support-group-the-successful-caregiver/
LOCATION:Janice Ancrum Senior Life Center\, 1901 Island Walk Way\, Fernandina Beach\, FL\, 32034
CATEGORIES:Health & Support
ATTACH;FMTTYPE=image/png:https://www.nassaucountycouncilonaging.org/wp-content/uploads/2025/03/successful-caregiver.png
END:VEVENT
BEGIN:VEVENT
DTSTART;TZID=America/New_York:20250718T110000
DTEND;TZID=America/New_York:20250718T123000
DTSTAMP:20260422T184306
CREATED:20250326T192439Z
LAST-MODIFIED:20250707T220615Z
UID:10013288-1752836400-1752841800@www.nassaucountycouncilonaging.org
SUMMARY:NAMI Mental Health Support Group
DESCRIPTION:National Alliance of Mental Illness (NAMI)\n11:00 am – 12:30 pm \nShare experiences with individuals\, family members and friends impacted by mental illness\nContact: NAMI Nassau\, 904-277-1886\nNational Alliance of Mental Illness
URL:https://www.nassaucountycouncilonaging.org/calendar/nami-mental-health-support-group-3-2-2-6-49-30-11-14-15/
LOCATION:Janice Ancrum Senior Life Center\, 1901 Island Walk Way\, Fernandina Beach\, FL\, 32034
CATEGORIES:Health & Support
ATTACH;FMTTYPE=image/png:https://www.nassaucountycouncilonaging.org/wp-content/uploads/2023/03/NAMISized.png
END:VEVENT
BEGIN:VEVENT
DTSTART;TZID=America/New_York:20250718T100000
DTEND;TZID=America/New_York:20250718T110000
DTSTAMP:20260422T184306
CREATED:20250707T222741Z
LAST-MODIFIED:20250707T222741Z
UID:10014759-1752832800-1752836400@www.nassaucountycouncilonaging.org
SUMMARY:Brain Health & Nutrition:
DESCRIPTION:Fueling the Aging Mind \n10 – 11 am\nDr. Marc Case\, Case Chiropractic
URL:https://www.nassaucountycouncilonaging.org/calendar/brain-health-nutrition/
LOCATION:Janice Ancrum Senior Life Center\, 1901 Island Walk Way\, Fernandina Beach\, FL\, 32034
CATEGORIES:Health & Support
ATTACH;FMTTYPE=image/png:https://www.nassaucountycouncilonaging.org/wp-content/uploads/2025/03/brain-booster.png
END:VEVENT
BEGIN:VEVENT
DTSTART;TZID=America/New_York:20250717T104500
DTEND;TZID=America/New_York:20250717T113000
DTSTAMP:20260422T184306
CREATED:20250106T224811Z
LAST-MODIFIED:20250630T200021Z
UID:10013580-1752749100-1752751800@www.nassaucountycouncilonaging.org
SUMMARY:Introduction to Qigong
DESCRIPTION:10:45 am – 11:30 am\nJohn Cipriani
URL:https://www.nassaucountycouncilonaging.org/calendar/qigong-healing-for-beginners-16/
LOCATION:Janice Ancrum Senior Life Center\, 1901 Island Walk Way\, Fernandina Beach\, FL\, 32034
CATEGORIES:Health & Support
ATTACH;FMTTYPE=image/png:https://www.nassaucountycouncilonaging.org/wp-content/uploads/2023/06/LungsSized.png
END:VEVENT
END:VCALENDAR