BEGIN:VCALENDAR
VERSION:2.0
PRODID:-//Nassau County Council on Aging - ECPv6.15.20//NONSGML v1.0//EN
CALSCALE:GREGORIAN
METHOD:PUBLISH
X-ORIGINAL-URL:https://www.nassaucountycouncilonaging.org
X-WR-CALDESC:Events for Nassau County Council on Aging
REFRESH-INTERVAL;VALUE=DURATION:PT1H
X-Robots-Tag:noindex
X-PUBLISHED-TTL:PT1H
BEGIN:VTIMEZONE
TZID:America/New_York
BEGIN:DAYLIGHT
TZOFFSETFROM:-0500
TZOFFSETTO:-0400
TZNAME:EDT
DTSTART:20250309T070000
END:DAYLIGHT
BEGIN:STANDARD
TZOFFSETFROM:-0400
TZOFFSETTO:-0500
TZNAME:EST
DTSTART:20251102T060000
END:STANDARD
BEGIN:DAYLIGHT
TZOFFSETFROM:-0500
TZOFFSETTO:-0400
TZNAME:EDT
DTSTART:20260308T070000
END:DAYLIGHT
BEGIN:STANDARD
TZOFFSETFROM:-0400
TZOFFSETTO:-0500
TZNAME:EST
DTSTART:20261101T060000
END:STANDARD
BEGIN:DAYLIGHT
TZOFFSETFROM:-0500
TZOFFSETTO:-0400
TZNAME:EDT
DTSTART:20270314T070000
END:DAYLIGHT
BEGIN:STANDARD
TZOFFSETFROM:-0400
TZOFFSETTO:-0500
TZNAME:EST
DTSTART:20271107T060000
END:STANDARD
END:VTIMEZONE
BEGIN:VEVENT
DTSTART;TZID=America/New_York:20260106T120000
DTEND;TZID=America/New_York:20260106T133000
DTSTAMP:20260419T104748
CREATED:20250203T214736Z
LAST-MODIFIED:20251006T213027Z
UID:10015321-1767700800-1767706200@www.nassaucountycouncilonaging.org
SUMMARY:Support Group: Hearing Loss
DESCRIPTION:12:00 pm – 1:30 pm\nFrances Bartelt \nLoss of hearing can lead to feelings of isolation and frustration. Learn about assistive listening devices and /or lip-reading\, hearing aids and local resources.
URL:https://www.nassaucountycouncilonaging.org/calendar/support-group-hearing-loss-3/2026-01-06/
LOCATION:Janice Ancrum Senior Life Center\, 1901 Island Walk Way\, Fernandina Beach\, FL\, 32034
CATEGORIES:Health & Support
ATTACH;FMTTYPE=image/png:https://www.nassaucountycouncilonaging.org/wp-content/uploads/2023/01/EarSized.png
END:VEVENT
BEGIN:VEVENT
DTSTART;TZID=America/New_York:20260108T103000
DTEND;TZID=America/New_York:20260108T113000
DTSTAMP:20260419T104748
CREATED:20251007T143109Z
LAST-MODIFIED:20251007T143112Z
UID:10015711-1767868200-1767871800@www.nassaucountycouncilonaging.org
SUMMARY:Introduction to Qigong
DESCRIPTION:10:30 am – 11:30 am\nJohn Cipriani
URL:https://www.nassaucountycouncilonaging.org/calendar/qigong-healing-for-beginners-16-22/
LOCATION:Janice Ancrum Senior Life Center\, 1901 Island Walk Way\, Fernandina Beach\, FL\, 32034
CATEGORIES:Health & Support
ATTACH;FMTTYPE=image/png:https://www.nassaucountycouncilonaging.org/wp-content/uploads/2023/06/LungsSized.png
END:VEVENT
BEGIN:VEVENT
DTSTART;TZID=America/New_York:20260109T110000
DTEND;TZID=America/New_York:20260109T123000
DTSTAMP:20260419T104748
CREATED:20251007T152830Z
LAST-MODIFIED:20251007T152833Z
UID:10015917-1767956400-1767961800@www.nassaucountycouncilonaging.org
SUMMARY:NAMI Mental Health Support Group
DESCRIPTION:National Alliance of Mental Illness (NAMI)\n11:00 am – 12:30 pm \nShare experiences with individuals\, family members and friends impacted by mental illness\nContact: NAMI Nassau\, 904-277-1886\nNational Alliance of Mental Illness
URL:https://www.nassaucountycouncilonaging.org/calendar/nami-mental-health-support-group-3-2-2-6-49-30-11-14-15-14/
LOCATION:Janice Ancrum Senior Life Center\, 1901 Island Walk Way\, Fernandina Beach\, FL\, 32034
CATEGORIES:Health & Support
ATTACH;FMTTYPE=image/png:https://www.nassaucountycouncilonaging.org/wp-content/uploads/2023/03/NAMISized.png
END:VEVENT
BEGIN:VEVENT
DTSTART;TZID=America/New_York:20260112T161500
DTEND;TZID=America/New_York:20260112T171500
DTSTAMP:20260419T104748
CREATED:20260112T191643Z
LAST-MODIFIED:20260112T191646Z
UID:10016147-1768234500-1768238100@www.nassaucountycouncilonaging.org
SUMMARY:Yoga for the Grieving Heart
DESCRIPTION:4:15 pm – 5:15 pm\nTina LaVacca \nGrief Yoga® is accompanied by Restorative Yoga to aide in the release of physical pain and emotional struggle experienced through grief and loss. \nBook Now
URL:https://www.nassaucountycouncilonaging.org/calendar/yoga-for-the-grieving-heart-4-6/
LOCATION:Janice Ancrum Senior Life Center\, 1901 Island Walk Way\, Fernandina Beach\, FL\, 32034
CATEGORIES:Health & Support
ATTACH;FMTTYPE=image/png:https://www.nassaucountycouncilonaging.org/wp-content/uploads/2025/10/yoga-for-grieving-heart.png
END:VEVENT
BEGIN:VEVENT
DTSTART;TZID=America/New_York:20260112T173000
DTEND;TZID=America/New_York:20260112T190000
DTSTAMP:20260419T104748
CREATED:20260112T191922Z
LAST-MODIFIED:20260112T191926Z
UID:10016157-1768239000-1768244400@www.nassaucountycouncilonaging.org
SUMMARY:Support Group: Grieving w/Hope
DESCRIPTION:5:30 pm – 7:00 pm\nJennifer Gundling\njgundling@nassaucountycoa.org \nShare stories and find support for those who have also lost a family member or close friend. \nBook Now\n 
URL:https://www.nassaucountycouncilonaging.org/calendar/support-group-grieving-w-hope-10-4-2/
LOCATION:Janice Ancrum Senior Life Center\, 1901 Island Walk Way\, Fernandina Beach\, FL\, 32034
CATEGORIES:Health & Support
ATTACH;FMTTYPE=image/png:https://www.nassaucountycouncilonaging.org/wp-content/uploads/2023/06/GrievingWithHopeSized.png
END:VEVENT
BEGIN:VEVENT
DTSTART;TZID=America/New_York:20260113T140000
DTEND;TZID=America/New_York:20260113T150000
DTSTAMP:20260419T104748
CREATED:20260112T203721Z
LAST-MODIFIED:20260112T203721Z
UID:10016773-1768312800-1768316400@www.nassaucountycouncilonaging.org
SUMMARY:Memory Cafe
DESCRIPTION:2:00 pm – 3:00 pm\nJennifer Gundling \nFind support\, connection\, health & well-being for those experiencing clinical memory loss in a welcoming and safe environment. \nRegister with jgundling@nassaucountycoa.org
URL:https://www.nassaucountycouncilonaging.org/calendar/memory-cafe-4/2026-01-13/
LOCATION:Janice Ancrum Senior Life Center\, 1901 Island Walk Way\, Fernandina Beach\, FL\, 32034
CATEGORIES:Health & Support
ATTACH;FMTTYPE=image/png:https://www.nassaucountycouncilonaging.org/wp-content/uploads/2025/12/coffee-cup.png
END:VEVENT
BEGIN:VEVENT
DTSTART;TZID=America/New_York:20260114T090000
DTEND;TZID=America/New_York:20260114T110000
DTSTAMP:20260419T104748
CREATED:20260112T204708Z
LAST-MODIFIED:20260112T204708Z
UID:10016824-1768381200-1768388400@www.nassaucountycouncilonaging.org
SUMMARY:Linking Lives with Social Connections - FREE
DESCRIPTION:9:00 am – 11:00 am\nKatrina Robinson-Wheeler \nBook Now
URL:https://www.nassaucountycouncilonaging.org/calendar/linking-lives-with-social-connections-free/
LOCATION:Janice Ancrum Senior Life Center\, 1901 Island Walk Way\, Fernandina Beach\, FL\, 32034
CATEGORIES:Health & Support
ATTACH;FMTTYPE=image/png:https://www.nassaucountycouncilonaging.org/wp-content/uploads/2025/10/peace-of-mind.png
END:VEVENT
BEGIN:VEVENT
DTSTART;TZID=America/New_York:20260114T123000
DTEND;TZID=America/New_York:20260114T150000
DTSTAMP:20260419T104748
CREATED:20260112T212025Z
LAST-MODIFIED:20260112T212149Z
UID:10016947-1768393800-1768402800@www.nassaucountycouncilonaging.org
SUMMARY:Caregiver Stressbusters Forum
DESCRIPTION:1:30 pm – 3:00 pm\nJennifer Gundling \nPractice stress-reduction techniques\, find support from other caregivers\, reduce anxiety and improve quality of life. A respite activity for loved ones is available by reservation for a nominal fee for Club members during the meeting. \nRegister at jgundling@nassaucountycoa.org\n 
URL:https://www.nassaucountycouncilonaging.org/calendar/caregiver-stressbusters-forum-5/2026-01-14/
LOCATION:Janice Ancrum Senior Life Center\, 1901 Island Walk Way\, Fernandina Beach\, FL\, 32034
CATEGORIES:Health & Support
ATTACH;FMTTYPE=image/png:https://www.nassaucountycouncilonaging.org/wp-content/uploads/2025/03/caregiver.png
END:VEVENT
BEGIN:VEVENT
DTSTART;TZID=America/New_York:20260114T153000
DTEND;TZID=America/New_York:20260114T170000
DTSTAMP:20260419T104748
CREATED:20260112T212844Z
LAST-MODIFIED:20260112T212847Z
UID:10015604-1768404600-1768410000@www.nassaucountycouncilonaging.org
SUMMARY:Support Group: Caregivers
DESCRIPTION:3:30 pm – 5:00 pm\nJennifer Gundling \nRegister with  jgundling@nassaucountycoa.org
URL:https://www.nassaucountycouncilonaging.org/calendar/support-group-caregivers-5-2/2026-01-14/
LOCATION:Janice Ancrum Senior Life Center\, 1901 Island Walk Way\, Fernandina Beach\, FL\, 32034
CATEGORIES:Health & Support
ATTACH;FMTTYPE=image/png:https://www.nassaucountycouncilonaging.org/wp-content/uploads/2022/09/caregiver-stressbuster.png
END:VEVENT
BEGIN:VEVENT
DTSTART;TZID=America/New_York:20260115T100000
DTEND;TZID=America/New_York:20260115T110000
DTSTAMP:20260419T104748
CREATED:20260112T214934Z
LAST-MODIFIED:20260112T214937Z
UID:10016218-1768471200-1768474800@www.nassaucountycouncilonaging.org
SUMMARY:Support Group: Parkinson's - You Are Not Alone
DESCRIPTION:10:00 am – 11:00 am\nTina LaVacca \nOpen to individuals with Parkinson’s and their care partners to share experiences\, learn coping strategies and find encouragement. \nBook Now
URL:https://www.nassaucountycouncilonaging.org/calendar/support-group-parkinsons-you-are-not-alone-4-2/
LOCATION:Janice Ancrum Senior Life Center\, 1901 Island Walk Way\, Fernandina Beach\, FL\, 32034
CATEGORIES:Health & Support
ATTACH;FMTTYPE=image/png:https://www.nassaucountycouncilonaging.org/wp-content/uploads/2025/10/parkinson-icon1.png
END:VEVENT
BEGIN:VEVENT
DTSTART;TZID=America/New_York:20260116T110000
DTEND;TZID=America/New_York:20260116T123000
DTSTAMP:20260419T104748
CREATED:20260112T224948Z
LAST-MODIFIED:20260112T224950Z
UID:10015918-1768561200-1768566600@www.nassaucountycouncilonaging.org
SUMMARY:NAMI Mental Health Support Group
DESCRIPTION:National Alliance of Mental Illness (NAMI)\n11:00 am – 12:30 pm \nShare experiences with individuals\, family members and friends impacted by mental illness\nContact: NAMI Nassau\, 904-277-1886\nNational Alliance of Mental Illness \nBook Now
URL:https://www.nassaucountycouncilonaging.org/calendar/nami-mental-health-support-group-3-2-2-6-49-30-11-14-15-14-12-2/
LOCATION:Janice Ancrum Senior Life Center\, 1901 Island Walk Way\, Fernandina Beach\, FL\, 32034
CATEGORIES:Health & Support
ATTACH;FMTTYPE=image/png:https://www.nassaucountycouncilonaging.org/wp-content/uploads/2023/03/NAMISized.png
END:VEVENT
BEGIN:VEVENT
DTSTART;TZID=America/New_York:20260121T090000
DTEND;TZID=America/New_York:20260121T230000
DTSTAMP:20260419T104748
CREATED:20260120T161603Z
LAST-MODIFIED:20260120T161606Z
UID:10017555-1768986000-1769036400@www.nassaucountycouncilonaging.org
SUMMARY:Linking Lives with Social Connections - FREE
DESCRIPTION:9:00 am – 11:00 am\nKatrina Robinson-Wheeler \nBook Now\n 
URL:https://www.nassaucountycouncilonaging.org/calendar/linking-lives-with-social-connections-free-2-2/
LOCATION:Janice Ancrum Senior Life Center\, 1901 Island Walk Way\, Fernandina Beach\, FL\, 32034
CATEGORIES:Health & Support
ATTACH;FMTTYPE=image/png:https://www.nassaucountycouncilonaging.org/wp-content/uploads/2025/10/peace-of-mind.png
END:VEVENT
BEGIN:VEVENT
DTSTART;TZID=America/New_York:20260123T110000
DTEND;TZID=America/New_York:20260123T123000
DTSTAMP:20260419T104748
CREATED:20260120T180718Z
LAST-MODIFIED:20260120T180721Z
UID:10015919-1769166000-1769171400@www.nassaucountycouncilonaging.org
SUMMARY:NAMI Mental Health Support Group
DESCRIPTION:National Alliance of Mental Illness (NAMI)\n11:00 am – 12:30 pm \nShare experiences with individuals\, family members and friends impacted by mental illness\nContact: NAMI Nassau\, 904-277-1886\nNational Alliance of Mental Illness \nBook Now
URL:https://www.nassaucountycouncilonaging.org/calendar/nami-mental-health-support-group-3-2-2-6-49-30-11-14-15-14-12-3/
LOCATION:Janice Ancrum Senior Life Center\, 1901 Island Walk Way\, Fernandina Beach\, FL\, 32034
CATEGORIES:Health & Support
ATTACH;FMTTYPE=image/png:https://www.nassaucountycouncilonaging.org/wp-content/uploads/2023/03/NAMISized.png
END:VEVENT
BEGIN:VEVENT
DTSTART;TZID=America/New_York:20260126T173000
DTEND;TZID=America/New_York:20260126T190000
DTSTAMP:20260419T104748
CREATED:20251220T194502Z
LAST-MODIFIED:20251220T194505Z
UID:10016162-1769448600-1769454000@www.nassaucountycouncilonaging.org
SUMMARY:Support Group: Grieving w/Hope
DESCRIPTION:5:30 pm – 7:00 pm\nJennifer Gundling \nShare stories and find support for those who have also lost a family member or close friend. \nBook via email jgundling@nassaucountycoa.org
URL:https://www.nassaucountycouncilonaging.org/calendar/support-group-grieving-w-hope-11-3/2026-01-26/
LOCATION:Janice Ancrum Senior Life Center\, 1901 Island Walk Way\, Fernandina Beach\, FL\, 32034
CATEGORIES:Health & Support
ATTACH;FMTTYPE=image/png:https://www.nassaucountycouncilonaging.org/wp-content/uploads/2023/06/GrievingWithHopeSized.png
END:VEVENT
BEGIN:VEVENT
DTSTART;TZID=America/New_York:20260127T140000
DTEND;TZID=America/New_York:20260127T150000
DTSTAMP:20260419T104748
CREATED:20260127T184720Z
LAST-MODIFIED:20260127T184720Z
UID:10017710-1769522400-1769526000@www.nassaucountycouncilonaging.org
SUMMARY:Memory Cafe Support Group
DESCRIPTION:2:00 pm – 3:00 pm\nJennifer Gundling \nFind support\, connection\, health & well-being for those experiencing clinical memory loss in a welcoming and safe environment. \nRegister at:  jgundling@nassaucountycoa.org
URL:https://www.nassaucountycouncilonaging.org/calendar/memory-cafe-support-group/
LOCATION:Janice Ancrum Senior Life Center\, 1901 Island Walk Way\, Fernandina Beach\, FL\, 32034
CATEGORIES:Health & Support
ATTACH;FMTTYPE=image/png:https://www.nassaucountycouncilonaging.org/wp-content/uploads/2025/12/coffee-cup.png
END:VEVENT
BEGIN:VEVENT
DTSTART;TZID=America/New_York:20260128T090000
DTEND;TZID=America/New_York:20260128T230000
DTSTAMP:20260419T104748
CREATED:20260127T185743Z
LAST-MODIFIED:20260127T185746Z
UID:10017556-1769590800-1769641200@www.nassaucountycouncilonaging.org
SUMMARY:Linking Lives with Social Connections - FREE
DESCRIPTION:9:00 am – 11:00 am\nKatrina Robinson-Wheeler \nBook Now\n 
URL:https://www.nassaucountycouncilonaging.org/calendar/linking-lives-with-social-connections-free-2-3/
LOCATION:Janice Ancrum Senior Life Center\, 1901 Island Walk Way\, Fernandina Beach\, FL\, 32034
CATEGORIES:Health & Support
ATTACH;FMTTYPE=image/png:https://www.nassaucountycouncilonaging.org/wp-content/uploads/2025/10/peace-of-mind.png
END:VEVENT
BEGIN:VEVENT
DTSTART;TZID=America/New_York:20260128T110000
DTEND;TZID=America/New_York:20260128T123000
DTSTAMP:20260419T104748
CREATED:20260127T191116Z
LAST-MODIFIED:20260127T191119Z
UID:10016237-1769598000-1769603400@www.nassaucountycouncilonaging.org
SUMMARY:Support Group: Low Vision
DESCRIPTION:11:00 am – 12:30 pm\nFrances Bartelt \nDiscuss latest adaptive devices and member experiences to assist with vision loss in daily living. \nBook Now
URL:https://www.nassaucountycouncilonaging.org/calendar/support-group-low-vision-4-3/
LOCATION:Janice Ancrum Senior Life Center\, 1901 Island Walk Way\, Fernandina Beach\, FL\, 32034
CATEGORIES:Health & Support
ATTACH;FMTTYPE=image/png:https://www.nassaucountycouncilonaging.org/wp-content/uploads/2023/03/LowVisionSized.png
END:VEVENT
BEGIN:VEVENT
DTSTART;TZID=America/New_York:20260128T133000
DTEND;TZID=America/New_York:20260128T150000
DTSTAMP:20260419T104748
CREATED:20251022T165437Z
LAST-MODIFIED:20251022T165437Z
UID:10016232-1769607000-1769612400@www.nassaucountycouncilonaging.org
SUMMARY:Caregiver Stressbusters Forum - FREE
DESCRIPTION:1:30 pm – 3:00 pm\nJennifer Gundling \nPractice stress-reducing techniques\, find support from other caregivers\, reduce anxiety and improve quality of life. A respite activity for loved ones is available by reservation for a nominal fee for club members during the meeting. \nRegister with jgundling@nassaucountycoa.org
URL:https://www.nassaucountycouncilonaging.org/calendar/caregiver-stressbusters-forum-free-20/2026-01-28/
LOCATION:Janice Ancrum Senior Life Center\, 1901 Island Walk Way\, Fernandina Beach\, FL\, 32034
CATEGORIES:Health & Support
ATTACH;FMTTYPE=image/png:https://www.nassaucountycouncilonaging.org/wp-content/uploads/2025/03/caregiver.png
END:VEVENT
BEGIN:VEVENT
DTSTART;TZID=America/New_York:20260128T153000
DTEND;TZID=America/New_York:20260128T170000
DTSTAMP:20260419T104748
CREATED:20250106T222426Z
LAST-MODIFIED:20251022T165626Z
UID:10012434-1769614200-1769619600@www.nassaucountycouncilonaging.org
SUMMARY:Support Group: Caregivers
DESCRIPTION:Sustaining the unsung Heroes\n3:30 – 5:00 pm \nCaregiving has been described as both a labor of love and the most difficult job on the planet. Learn how to better deal with physical and emotional strain\, and get the relief you  need through validation\, self-care\, respite and resource sharing. \nVarious facilitators\nMore  information: Jennifer Gundling\, NCCOA Home Health\, Training & Caregiver Services Manager\, 904-775-5488 \nRegister with jgundling@nassaucountycoa.org\n 
URL:https://www.nassaucountycouncilonaging.org/calendar/support-group-caregivers-3/2026-01-28/
LOCATION:Janice Ancrum Senior Life Center\, 1901 Island Walk Way\, Fernandina Beach\, FL\, 32034
CATEGORIES:Health & Support
ATTACH;FMTTYPE=image/png:https://www.nassaucountycouncilonaging.org/wp-content/uploads/2023/06/CareSized.png
END:VEVENT
BEGIN:VEVENT
DTSTART;TZID=America/New_York:20260130T100000
DTEND;TZID=America/New_York:20260130T110000
DTSTAMP:20260419T104748
CREATED:20260127T202744Z
LAST-MODIFIED:20260127T202744Z
UID:10017712-1769767200-1769770800@www.nassaucountycouncilonaging.org
SUMMARY:Brain Boosters:
DESCRIPTION:The Maturing Brain \n10:00 am – 11:00 am\nDr. Marc Case \nBook  Now
URL:https://www.nassaucountycouncilonaging.org/calendar/brain-boosters-17/
LOCATION:Janice Ancrum Senior Life Center\, 1901 Island Walk Way\, Fernandina Beach\, FL\, 32034
CATEGORIES:Health & Support
ATTACH;FMTTYPE=image/png:https://www.nassaucountycouncilonaging.org/wp-content/uploads/2025/03/brain-booster.png
END:VEVENT
BEGIN:VEVENT
DTSTART;TZID=America/New_York:20260130T110000
DTEND;TZID=America/New_York:20260130T123000
DTSTAMP:20260419T104748
CREATED:20260127T203136Z
LAST-MODIFIED:20260127T203142Z
UID:10015920-1769770800-1769776200@www.nassaucountycouncilonaging.org
SUMMARY:NAMI Mental Health Support Group
DESCRIPTION:National Alliance of Mental Illness (NAMI)\n11:00 am – 12:30 pm \nShare experiences with individuals\, family members and friends impacted by mental illness\nContact: NAMI Nassau\, 904-277-1886\nNational Alliance of Mental Illness \nBook Now
URL:https://www.nassaucountycouncilonaging.org/calendar/nami-mental-health-support-group-3-2-2-6-49-30-11-14-15-14-12-4/
LOCATION:Janice Ancrum Senior Life Center\, 1901 Island Walk Way\, Fernandina Beach\, FL\, 32034
CATEGORIES:Health & Support
ATTACH;FMTTYPE=image/png:https://www.nassaucountycouncilonaging.org/wp-content/uploads/2023/03/NAMISized.png
END:VEVENT
END:VCALENDAR