BEGIN:VCALENDAR
VERSION:2.0
PRODID:-//Nassau County Council on Aging - ECPv6.15.20//NONSGML v1.0//EN
CALSCALE:GREGORIAN
METHOD:PUBLISH
X-ORIGINAL-URL:https://www.nassaucountycouncilonaging.org
X-WR-CALDESC:Events for Nassau County Council on Aging
REFRESH-INTERVAL;VALUE=DURATION:PT1H
X-Robots-Tag:noindex
X-PUBLISHED-TTL:PT1H
BEGIN:VTIMEZONE
TZID:America/New_York
BEGIN:DAYLIGHT
TZOFFSETFROM:-0500
TZOFFSETTO:-0400
TZNAME:EDT
DTSTART:20230312T070000
END:DAYLIGHT
BEGIN:STANDARD
TZOFFSETFROM:-0400
TZOFFSETTO:-0500
TZNAME:EST
DTSTART:20231105T060000
END:STANDARD
BEGIN:DAYLIGHT
TZOFFSETFROM:-0500
TZOFFSETTO:-0400
TZNAME:EDT
DTSTART:20240310T070000
END:DAYLIGHT
BEGIN:STANDARD
TZOFFSETFROM:-0400
TZOFFSETTO:-0500
TZNAME:EST
DTSTART:20241103T060000
END:STANDARD
BEGIN:DAYLIGHT
TZOFFSETFROM:-0500
TZOFFSETTO:-0400
TZNAME:EDT
DTSTART:20250309T070000
END:DAYLIGHT
BEGIN:STANDARD
TZOFFSETFROM:-0400
TZOFFSETTO:-0500
TZNAME:EST
DTSTART:20251102T060000
END:STANDARD
END:VTIMEZONE
BEGIN:VEVENT
DTSTART;TZID=America/New_York:20240409T093000
DTEND;TZID=America/New_York:20240409T113000
DTSTAMP:20260426T000227
CREATED:20240408T220626Z
LAST-MODIFIED:20240408T220628Z
UID:10008654-1712655000-1712662200@www.nassaucountycouncilonaging.org
SUMMARY:Apple iPhone/iPad
DESCRIPTION:9:30 am – 11:30 am\nMarc Williams \nBook Now
URL:https://www.nassaucountycouncilonaging.org/calendar/apple-iphone-ipad-14-2/
LOCATION:Janice Ancrum Senior Life Center\, 1901 Island Walk Way\, Fernandina Beach\, FL\, 32034
CATEGORIES:Computers & Technology
ATTACH;FMTTYPE=image/png:https://www.nassaucountycouncilonaging.org/wp-content/uploads/2023/03/phone-help.png
END:VEVENT
BEGIN:VEVENT
DTSTART;TZID=America/New_York:20240410T093000
DTEND;TZID=America/New_York:20240410T113000
DTSTAMP:20260426T000227
CREATED:20240408T222748Z
LAST-MODIFIED:20240408T222750Z
UID:10008655-1712741400-1712748600@www.nassaucountycouncilonaging.org
SUMMARY:Apple iPhone/iPad
DESCRIPTION:9:30 am – 11:30 am\nMarc Williams \nBook Now
URL:https://www.nassaucountycouncilonaging.org/calendar/apple-iphone-ipad-14-3/
LOCATION:Janice Ancrum Senior Life Center\, 1901 Island Walk Way\, Fernandina Beach\, FL\, 32034
CATEGORIES:Computers & Technology
ATTACH;FMTTYPE=image/png:https://www.nassaucountycouncilonaging.org/wp-content/uploads/2023/03/phone-help.png
END:VEVENT
BEGIN:VEVENT
DTSTART;TZID=America/New_York:20240411T093000
DTEND;TZID=America/New_York:20240411T113000
DTSTAMP:20260426T000227
CREATED:20240408T224730Z
LAST-MODIFIED:20240408T224732Z
UID:10008656-1712827800-1712835000@www.nassaucountycouncilonaging.org
SUMMARY:Apple iPhone/iPad
DESCRIPTION:9:30 am – 11:30 am\nMarc Williams \nBook Now
URL:https://www.nassaucountycouncilonaging.org/calendar/apple-iphone-ipad-14-4/
LOCATION:Janice Ancrum Senior Life Center\, 1901 Island Walk Way\, Fernandina Beach\, FL\, 32034
CATEGORIES:Computers & Technology
ATTACH;FMTTYPE=image/png:https://www.nassaucountycouncilonaging.org/wp-content/uploads/2023/03/phone-help.png
END:VEVENT
BEGIN:VEVENT
DTSTART;TZID=America/New_York:20240424T090000
DTEND;TZID=America/New_York:20240424T100000
DTSTAMP:20260426T000227
CREATED:20240422T150220Z
LAST-MODIFIED:20240422T150220Z
UID:10008977-1713949200-1713952800@www.nassaucountycouncilonaging.org
SUMMARY:AI in Your Life
DESCRIPTION:Practical Applications\n9:00 am – 10:00 am\nJeff Cheeney \nBook Now
URL:https://www.nassaucountycouncilonaging.org/calendar/ai-in-your-life/
LOCATION:Janice Ancrum Senior Life Center\, 1901 Island Walk Way\, Fernandina Beach\, FL\, 32034
CATEGORIES:Computers & Technology
ATTACH;FMTTYPE=image/png:https://www.nassaucountycouncilonaging.org/wp-content/uploads/2022/11/computer.png
END:VEVENT
END:VCALENDAR