BEGIN:VCALENDAR
VERSION:2.0
PRODID:-//Nassau County Council on Aging - ECPv6.15.20//NONSGML v1.0//EN
CALSCALE:GREGORIAN
METHOD:PUBLISH
X-WR-CALNAME:Nassau County Council on Aging
X-ORIGINAL-URL:https://www.nassaucountycouncilonaging.org
X-WR-CALDESC:Events for Nassau County Council on Aging
REFRESH-INTERVAL;VALUE=DURATION:PT1H
X-Robots-Tag:noindex
X-PUBLISHED-TTL:PT1H
BEGIN:VTIMEZONE
TZID:America/New_York
BEGIN:DAYLIGHT
TZOFFSETFROM:-0500
TZOFFSETTO:-0400
TZNAME:EDT
DTSTART:20230312T070000
END:DAYLIGHT
BEGIN:STANDARD
TZOFFSETFROM:-0400
TZOFFSETTO:-0500
TZNAME:EST
DTSTART:20231105T060000
END:STANDARD
BEGIN:DAYLIGHT
TZOFFSETFROM:-0500
TZOFFSETTO:-0400
TZNAME:EDT
DTSTART:20240310T070000
END:DAYLIGHT
BEGIN:STANDARD
TZOFFSETFROM:-0400
TZOFFSETTO:-0500
TZNAME:EST
DTSTART:20241103T060000
END:STANDARD
BEGIN:DAYLIGHT
TZOFFSETFROM:-0500
TZOFFSETTO:-0400
TZNAME:EDT
DTSTART:20250309T070000
END:DAYLIGHT
BEGIN:STANDARD
TZOFFSETFROM:-0400
TZOFFSETTO:-0500
TZNAME:EST
DTSTART:20251102T060000
END:STANDARD
END:VTIMEZONE
BEGIN:VEVENT
DTSTART;TZID=America/New_York:20240304T083000
DTEND;TZID=America/New_York:20240304T103000
DTSTAMP:20260425T224249
CREATED:20231226T212053Z
LAST-MODIFIED:20240304T155637Z
UID:10007334-1709541000-1709548200@www.nassaucountycouncilonaging.org
SUMMARY:Apple iPhone/iPad
DESCRIPTION:8:30 – 10:30 am\nMark William \nBook Now
URL:https://www.nassaucountycouncilonaging.org/calendar/apple-iphone-ipad-9/
LOCATION:Janice Ancrum Senior Life Center\, 1901 Island Walk Way\, Fernandina Beach\, FL\, 32034
CATEGORIES:Computers & Technology
ATTACH;FMTTYPE=image/png:https://www.nassaucountycouncilonaging.org/wp-content/uploads/2023/03/phone-help.png
END:VEVENT
BEGIN:VEVENT
DTSTART;TZID=America/New_York:20240305T083000
DTEND;TZID=America/New_York:20240305T103000
DTSTAMP:20260425T224249
CREATED:20240304T171127Z
LAST-MODIFIED:20240304T171148Z
UID:10007993-1709627400-1709634600@www.nassaucountycouncilonaging.org
SUMMARY:Apple iPhone/iPad
DESCRIPTION:8:30 am – 10:30 am\nMarc Williams \nBook Now
URL:https://www.nassaucountycouncilonaging.org/calendar/apple-iphone-ipad-13/
LOCATION:Janice Ancrum Senior Life Center\, 1901 Island Walk Way\, Fernandina Beach\, FL\, 32034
CATEGORIES:Computers & Technology
ATTACH;FMTTYPE=image/png:https://www.nassaucountycouncilonaging.org/wp-content/uploads/2023/03/phone-help.png
END:VEVENT
BEGIN:VEVENT
DTSTART;TZID=America/New_York:20240306T083000
DTEND;TZID=America/New_York:20240306T103000
DTSTAMP:20260425T224249
CREATED:20240304T171237Z
LAST-MODIFIED:20240304T171238Z
UID:10007994-1709713800-1709721000@www.nassaucountycouncilonaging.org
SUMMARY:Apple iPhone/iPad
DESCRIPTION:8:30 am – 10:30 am\nMarc Williams \nBook Now
URL:https://www.nassaucountycouncilonaging.org/calendar/apple-iphone-ipad-13-2/
LOCATION:Janice Ancrum Senior Life Center\, 1901 Island Walk Way\, Fernandina Beach\, FL\, 32034
CATEGORIES:Computers & Technology
ATTACH;FMTTYPE=image/png:https://www.nassaucountycouncilonaging.org/wp-content/uploads/2023/03/phone-help.png
END:VEVENT
END:VCALENDAR