BEGIN:VCALENDAR
VERSION:2.0
PRODID:-//Nassau County Council on Aging - ECPv6.15.20//NONSGML v1.0//EN
CALSCALE:GREGORIAN
METHOD:PUBLISH
X-ORIGINAL-URL:https://www.nassaucountycouncilonaging.org
X-WR-CALDESC:Events for Nassau County Council on Aging
REFRESH-INTERVAL;VALUE=DURATION:PT1H
X-Robots-Tag:noindex
X-PUBLISHED-TTL:PT1H
BEGIN:VTIMEZONE
TZID:America/New_York
BEGIN:DAYLIGHT
TZOFFSETFROM:-0500
TZOFFSETTO:-0400
TZNAME:EDT
DTSTART:20220313T070000
END:DAYLIGHT
BEGIN:STANDARD
TZOFFSETFROM:-0400
TZOFFSETTO:-0500
TZNAME:EST
DTSTART:20221106T060000
END:STANDARD
BEGIN:DAYLIGHT
TZOFFSETFROM:-0500
TZOFFSETTO:-0400
TZNAME:EDT
DTSTART:20230312T070000
END:DAYLIGHT
BEGIN:STANDARD
TZOFFSETFROM:-0400
TZOFFSETTO:-0500
TZNAME:EST
DTSTART:20231105T060000
END:STANDARD
BEGIN:DAYLIGHT
TZOFFSETFROM:-0500
TZOFFSETTO:-0400
TZNAME:EDT
DTSTART:20240310T070000
END:DAYLIGHT
BEGIN:STANDARD
TZOFFSETFROM:-0400
TZOFFSETTO:-0500
TZNAME:EST
DTSTART:20241103T060000
END:STANDARD
END:VTIMEZONE
BEGIN:VEVENT
DTSTART;TZID=America/New_York:20231108T143000
DTEND;TZID=America/New_York:20231108T153000
DTSTAMP:20260423T133754
CREATED:20230923T210855Z
LAST-MODIFIED:20231106T185823Z
UID:10006725-1699453800-1699457400@www.nassaucountycouncilonaging.org
SUMMARY:Fraud
DESCRIPTION:Browsers and Search Engines\n2:30 – 3:30 pm\nJeff Fatora\, Secure Amelia LLC \nBook Now
URL:https://www.nassaucountycouncilonaging.org/calendar/fraud-6/
LOCATION:Janice Ancrum Senior Life Center\, 1901 Island Walk Way\, Fernandina Beach\, FL\, 32034
CATEGORIES:Community, Security & Safety,Finance & Legal Chats
ATTACH;FMTTYPE=image/png:https://www.nassaucountycouncilonaging.org/wp-content/uploads/2023/01/credit-card-hacks.png
END:VEVENT
BEGIN:VEVENT
DTSTART;TZID=America/New_York:20231114T100000
DTEND;TZID=America/New_York:20231114T110000
DTSTAMP:20260423T133754
CREATED:20231111T184721Z
LAST-MODIFIED:20231111T184721Z
UID:10006783-1699956000-1699959600@www.nassaucountycouncilonaging.org
SUMMARY:Election Process & Updates
DESCRIPTION:10:00 am – 11:00 am\nJanet Adkins \nBook Now
URL:https://www.nassaucountycouncilonaging.org/calendar/election-process-updates/
LOCATION:Janice Ancrum Senior Life Center\, 1901 Island Walk Way\, Fernandina Beach\, FL\, 32034
CATEGORIES:Community, Security & Safety,Government & Finance
ATTACH;FMTTYPE=image/png:https://www.nassaucountycouncilonaging.org/wp-content/uploads/2023/01/government.png
END:VEVENT
BEGIN:VEVENT
DTSTART;TZID=America/New_York:20231115T143000
DTEND;TZID=America/New_York:20231115T153000
DTSTAMP:20260423T133754
CREATED:20230923T211035Z
LAST-MODIFIED:20231111T191620Z
UID:10006726-1700058600-1700062200@www.nassaucountycouncilonaging.org
SUMMARY:Fraud
DESCRIPTION:Elder Fraud Scams\n2:30 – 3:30 pm\nJeff Fatora\, Secure Amelia LLC \nBook Now
URL:https://www.nassaucountycouncilonaging.org/calendar/fraud-7/
LOCATION:Janice Ancrum Senior Life Center\, 1901 Island Walk Way\, Fernandina Beach\, FL\, 32034
CATEGORIES:Community, Security & Safety,Finance & Legal Chats
ATTACH;FMTTYPE=image/png:https://www.nassaucountycouncilonaging.org/wp-content/uploads/2023/01/credit-card-hacks.png
END:VEVENT
END:VCALENDAR