BEGIN:VCALENDAR
VERSION:2.0
PRODID:-//Nassau County Council on Aging - ECPv6.15.20//NONSGML v1.0//EN
CALSCALE:GREGORIAN
METHOD:PUBLISH
X-WR-CALNAME:Nassau County Council on Aging
X-ORIGINAL-URL:https://www.nassaucountycouncilonaging.org
X-WR-CALDESC:Events for Nassau County Council on Aging
REFRESH-INTERVAL;VALUE=DURATION:PT1H
X-Robots-Tag:noindex
X-PUBLISHED-TTL:PT1H
BEGIN:VTIMEZONE
TZID:America/New_York
BEGIN:DAYLIGHT
TZOFFSETFROM:-0500
TZOFFSETTO:-0400
TZNAME:EDT
DTSTART:20210314T070000
END:DAYLIGHT
BEGIN:STANDARD
TZOFFSETFROM:-0400
TZOFFSETTO:-0500
TZNAME:EST
DTSTART:20211107T060000
END:STANDARD
BEGIN:DAYLIGHT
TZOFFSETFROM:-0500
TZOFFSETTO:-0400
TZNAME:EDT
DTSTART:20220313T070000
END:DAYLIGHT
BEGIN:STANDARD
TZOFFSETFROM:-0400
TZOFFSETTO:-0500
TZNAME:EST
DTSTART:20221106T060000
END:STANDARD
BEGIN:DAYLIGHT
TZOFFSETFROM:-0500
TZOFFSETTO:-0400
TZNAME:EDT
DTSTART:20230312T070000
END:DAYLIGHT
BEGIN:STANDARD
TZOFFSETFROM:-0400
TZOFFSETTO:-0500
TZNAME:EST
DTSTART:20231105T060000
END:STANDARD
END:VTIMEZONE
BEGIN:VEVENT
DTSTART;TZID=America/New_York:20220607T130000
DTEND;TZID=America/New_York:20220607T160000
DTSTAMP:20260425T075219
CREATED:20220606T154009Z
LAST-MODIFIED:20220606T154009Z
UID:10001465-1654606800-1654617600@www.nassaucountycouncilonaging.org
SUMMARY:Bystander CPR
DESCRIPTION:1:00 pm – 4:00 pm\nJim Bollenbacher
URL:https://www.nassaucountycouncilonaging.org/calendar/bystander-cpr/
LOCATION:Janice Ancrum Senior Life Center\, 1901 Island Walk Way\, Fernandina Beach\, FL\, 32034
CATEGORIES:Community, Security & Safety,Health & Support
ATTACH;FMTTYPE=image/jpeg:https://www.nassaucountycouncilonaging.org/wp-content/uploads/2021/05/ja-senior-life-center.jpg
END:VEVENT
BEGIN:VEVENT
DTSTART;TZID=America/New_York:20220616T100000
DTEND;TZID=America/New_York:20220616T110000
DTSTAMP:20260425T075219
CREATED:20220613T173616Z
LAST-MODIFIED:20220613T173616Z
UID:10001471-1655373600-1655377200@www.nassaucountycouncilonaging.org
SUMMARY:Sea Turtle
DESCRIPTION:Sea Turtle Nesting Activity on Amelia Island\n10:00 am – 11:00 am\nMary Duffy
URL:https://www.nassaucountycouncilonaging.org/calendar/sea-turtle/
LOCATION:Janice Ancrum Senior Life Center\, 1901 Island Walk Way\, Fernandina Beach\, FL\, 32034
CATEGORIES:Community, Security & Safety
ATTACH;FMTTYPE=image/jpeg:https://www.nassaucountycouncilonaging.org/wp-content/uploads/2017/11/turtle-painting.jpg
END:VEVENT
BEGIN:VEVENT
DTSTART;TZID=America/New_York:20220622T153000
DTEND;TZID=America/New_York:20220622T163000
DTSTAMP:20260425T075219
CREATED:20220621T200514Z
LAST-MODIFIED:20220621T200514Z
UID:10001473-1655911800-1655915400@www.nassaucountycouncilonaging.org
SUMMARY:Amelia Island Tourism
DESCRIPTION:Beach\, Parks & More\n3:30 pm – 4:30 pm\nMaurie Dugger\, Amelia Island Convention & Visitors Bureau
URL:https://www.nassaucountycouncilonaging.org/calendar/amelia-island-tourism/
LOCATION:Janice Ancrum Senior Life Center\, 1901 Island Walk Way\, Fernandina Beach\, FL\, 32034
CATEGORIES:Community, Security & Safety
ATTACH;FMTTYPE=image/jpeg:https://www.nassaucountycouncilonaging.org/wp-content/uploads/2021/05/ja-senior-life-center.jpg
END:VEVENT
BEGIN:VEVENT
DTSTART;TZID=America/New_York:20220627T133000
DTEND;TZID=America/New_York:20220627T143000
DTSTAMP:20260425T075219
CREATED:20220625T210027Z
LAST-MODIFIED:20220625T210027Z
UID:10001475-1656336600-1656340200@www.nassaucountycouncilonaging.org
SUMMARY:Amelia Island Tourism
DESCRIPTION:Beach\, Parks & More\n1:30 pm – 2:30 pm\nMaurie Dugger\, Amelia Island Convention & Visitors Bureau
URL:https://www.nassaucountycouncilonaging.org/calendar/amelia-island-tourism-2/
LOCATION:Janice Ancrum Senior Life Center\, 1901 Island Walk Way\, Fernandina Beach\, FL\, 32034
CATEGORIES:Community, Security & Safety
ATTACH;FMTTYPE=image/jpeg:https://www.nassaucountycouncilonaging.org/wp-content/uploads/2021/05/ja-senior-life-center.jpg
END:VEVENT
END:VCALENDAR