BEGIN:VCALENDAR
VERSION:2.0
PRODID:-//Nassau County Council on Aging - ECPv6.15.20//NONSGML v1.0//EN
CALSCALE:GREGORIAN
METHOD:PUBLISH
X-WR-CALNAME:Nassau County Council on Aging
X-ORIGINAL-URL:https://www.nassaucountycouncilonaging.org
X-WR-CALDESC:Events for Nassau County Council on Aging
REFRESH-INTERVAL;VALUE=DURATION:PT1H
X-Robots-Tag:noindex
X-PUBLISHED-TTL:PT1H
BEGIN:VTIMEZONE
TZID:America/New_York
BEGIN:DAYLIGHT
TZOFFSETFROM:-0500
TZOFFSETTO:-0400
TZNAME:EDT
DTSTART:20210314T070000
END:DAYLIGHT
BEGIN:STANDARD
TZOFFSETFROM:-0400
TZOFFSETTO:-0500
TZNAME:EST
DTSTART:20211107T060000
END:STANDARD
BEGIN:DAYLIGHT
TZOFFSETFROM:-0500
TZOFFSETTO:-0400
TZNAME:EDT
DTSTART:20220313T070000
END:DAYLIGHT
BEGIN:STANDARD
TZOFFSETFROM:-0400
TZOFFSETTO:-0500
TZNAME:EST
DTSTART:20221106T060000
END:STANDARD
BEGIN:DAYLIGHT
TZOFFSETFROM:-0500
TZOFFSETTO:-0400
TZNAME:EDT
DTSTART:20230312T070000
END:DAYLIGHT
BEGIN:STANDARD
TZOFFSETFROM:-0400
TZOFFSETTO:-0500
TZNAME:EST
DTSTART:20231105T060000
END:STANDARD
END:VTIMEZONE
BEGIN:VEVENT
DTSTART;TZID=America/New_York:20220304T110000
DTEND;TZID=America/New_York:20220304T130000
DTSTAMP:20260424T103031
CREATED:20211220T200818Z
LAST-MODIFIED:20220101T183537Z
UID:10000166-1646391600-1646398800@www.nassaucountycouncilonaging.org
SUMMARY:Food Truck Friday!
DESCRIPTION:11 a.m. – 1 p.m.\n1901 Island Walk Way – Front Parking Lot
URL:https://www.nassaucountycouncilonaging.org/calendar/food-truck-friday/2022-03-04/
LOCATION:Janice Ancrum Senior Life Center\, 1901 Island Walk Way\, Fernandina Beach\, FL\, 32034
CATEGORIES:Culinary
ATTACH;FMTTYPE=image/jpeg:https://www.nassaucountycouncilonaging.org/wp-content/uploads/2021/05/ja-senior-life-center.jpg
END:VEVENT
BEGIN:VEVENT
DTSTART;TZID=America/New_York:20220304T133000
DTEND;TZID=America/New_York:20220304T143000
DTSTAMP:20260424T103031
CREATED:20220101T184210Z
LAST-MODIFIED:20220101T184210Z
UID:10000258-1646400600-1646404200@www.nassaucountycouncilonaging.org
SUMMARY:Unique Salads & Homemade Dressings
DESCRIPTION:1:30 pm – 2:30 pm\nCourtney Thompson\, Beyond Horizons Food Truck
URL:https://www.nassaucountycouncilonaging.org/calendar/courtney-thompson-2-2/
LOCATION:Janice Ancrum Senior Life Center\, 1901 Island Walk Way\, Fernandina Beach\, FL\, 32034
CATEGORIES:Culinary
ATTACH;FMTTYPE=image/jpeg:https://www.nassaucountycouncilonaging.org/wp-content/uploads/2021/05/ja-senior-life-center.jpg
END:VEVENT
BEGIN:VEVENT
DTSTART;TZID=America/New_York:20220311T093000
DTEND;TZID=America/New_York:20220311T103000
DTSTAMP:20260424T103031
CREATED:20220308T223150Z
LAST-MODIFIED:20220308T223150Z
UID:10001375-1646991000-1646994600@www.nassaucountycouncilonaging.org
SUMMARY:Quick and Healthy Meals
DESCRIPTION:Seasonal Smoothie\n9:30 am – 10:30 am\nApril Blue Mosely
URL:https://www.nassaucountycouncilonaging.org/calendar/quick-and-healthy-meals/
LOCATION:Janice Ancrum Senior Life Center\, 1901 Island Walk Way\, Fernandina Beach\, FL\, 32034
CATEGORIES:Culinary
ATTACH;FMTTYPE=image/jpeg:https://www.nassaucountycouncilonaging.org/wp-content/uploads/2021/05/ja-senior-life-center.jpg
END:VEVENT
BEGIN:VEVENT
DTSTART;TZID=America/New_York:20220311T133000
DTEND;TZID=America/New_York:20220311T143000
DTSTAMP:20260424T103031
CREATED:20220308T223616Z
LAST-MODIFIED:20220308T223616Z
UID:10001374-1647005400-1647009000@www.nassaucountycouncilonaging.org
SUMMARY:Unique Salads and Homemade Dressings
DESCRIPTION:1:30 pm – 2:30 pm\nCourtney Thompson\, Beyond Horizons
URL:https://www.nassaucountycouncilonaging.org/calendar/unique-salads-and-homemade-dressings/
LOCATION:Janice Ancrum Senior Life Center\, 1901 Island Walk Way\, Fernandina Beach\, FL\, 32034
CATEGORIES:Culinary
ATTACH;FMTTYPE=image/jpeg:https://www.nassaucountycouncilonaging.org/wp-content/uploads/2022/03/unique-salads.jpg
END:VEVENT
BEGIN:VEVENT
DTSTART;TZID=America/New_York:20220330T100000
DTEND;TZID=America/New_York:20220330T230000
DTSTAMP:20260424T103031
CREATED:20220101T185406Z
LAST-MODIFIED:20220101T185406Z
UID:10000331-1648634400-1648681200@www.nassaucountycouncilonaging.org
SUMMARY:Instant Pot for Beginners
DESCRIPTION:Sweet Potato Tortilla Soup & Cilantro Lime Rice\nMeg AcAlpine\nUniversity of Florida\, Institute of Food & Agricultural Sciences \n10:00 am – 11:am
URL:https://www.nassaucountycouncilonaging.org/calendar/instant-pot-for-beginners/
LOCATION:Janice Ancrum Senior Life Center\, 1901 Island Walk Way\, Fernandina Beach\, FL\, 32034
CATEGORIES:Culinary
ATTACH;FMTTYPE=image/jpeg:https://www.nassaucountycouncilonaging.org/wp-content/uploads/2021/05/ja-senior-life-center.jpg
END:VEVENT
END:VCALENDAR