BEGIN:VCALENDAR
VERSION:2.0
PRODID:-//Nassau County Council on Aging - ECPv6.15.20//NONSGML v1.0//EN
CALSCALE:GREGORIAN
METHOD:PUBLISH
X-ORIGINAL-URL:https://www.nassaucountycouncilonaging.org
X-WR-CALDESC:Events for Nassau County Council on Aging
REFRESH-INTERVAL;VALUE=DURATION:PT1H
X-Robots-Tag:noindex
X-PUBLISHED-TTL:PT1H
BEGIN:VTIMEZONE
TZID:America/New_York
BEGIN:DAYLIGHT
TZOFFSETFROM:-0500
TZOFFSETTO:-0400
TZNAME:EDT
DTSTART:20250309T070000
END:DAYLIGHT
BEGIN:STANDARD
TZOFFSETFROM:-0400
TZOFFSETTO:-0500
TZNAME:EST
DTSTART:20251102T060000
END:STANDARD
BEGIN:DAYLIGHT
TZOFFSETFROM:-0500
TZOFFSETTO:-0400
TZNAME:EDT
DTSTART:20260308T070000
END:DAYLIGHT
BEGIN:STANDARD
TZOFFSETFROM:-0400
TZOFFSETTO:-0500
TZNAME:EST
DTSTART:20261101T060000
END:STANDARD
BEGIN:DAYLIGHT
TZOFFSETFROM:-0500
TZOFFSETTO:-0400
TZNAME:EDT
DTSTART:20270314T070000
END:DAYLIGHT
BEGIN:STANDARD
TZOFFSETFROM:-0400
TZOFFSETTO:-0500
TZNAME:EST
DTSTART:20271107T060000
END:STANDARD
END:VTIMEZONE
BEGIN:VEVENT
DTSTART;TZID=America/New_York:20260427T130000
DTEND;TZID=America/New_York:20260427T160000
DTSTAMP:20260419T161650
CREATED:20260112T185716Z
LAST-MODIFIED:20260112T185720Z
UID:10016492-1777294800-1777305600@www.nassaucountycouncilonaging.org
SUMMARY:Pennies
DESCRIPTION:Must Know How to Play \n1:00 pm – 4:00 pm\nSue King \n 
URL:https://www.nassaucountycouncilonaging.org/calendar/pennies-5-17-15/2026-04-27/
LOCATION:Janice Ancrum Senior Life Center\, 1901 Island Walk Way\, Fernandina Beach\, FL\, 32034
CATEGORIES:Cards & Games
ATTACH;FMTTYPE=image/png:https://www.nassaucountycouncilonaging.org/wp-content/uploads/2022/11/card-games.png
END:VEVENT
BEGIN:VEVENT
DTSTART;TZID=America/New_York:20260427T150000
DTEND;TZID=America/New_York:20260427T160000
DTSTAMP:20260419T161650
CREATED:20260112T190620Z
LAST-MODIFIED:20260112T190624Z
UID:10016531-1777302000-1777305600@www.nassaucountycouncilonaging.org
SUMMARY:Rummikub
DESCRIPTION:Instructions Available –  Easy to Learn\n3 – 4 pm\nJanet Chatfield & Dootsie Krenach \n 
URL:https://www.nassaucountycouncilonaging.org/calendar/rummikub-2-2-17-14-12-8-13-13-14-12-15-10-6-15/2026-04-27/
LOCATION:Janice Ancrum Senior Life Center\, 1901 Island Walk Way\, Fernandina Beach\, FL\, 32034
CATEGORIES:Cards & Games
ATTACH;FMTTYPE=image/png:https://www.nassaucountycouncilonaging.org/wp-content/uploads/2023/01/rummikub-001.png
END:VEVENT
END:VCALENDAR