BEGIN:VCALENDAR
VERSION:2.0
PRODID:-//Nassau County Council on Aging - ECPv6.15.20//NONSGML v1.0//EN
CALSCALE:GREGORIAN
METHOD:PUBLISH
X-ORIGINAL-URL:https://www.nassaucountycouncilonaging.org
X-WR-CALDESC:Events for Nassau County Council on Aging
REFRESH-INTERVAL;VALUE=DURATION:PT1H
X-Robots-Tag:noindex
X-PUBLISHED-TTL:PT1H
BEGIN:VTIMEZONE
TZID:America/New_York
BEGIN:DAYLIGHT
TZOFFSETFROM:-0500
TZOFFSETTO:-0400
TZNAME:EDT
DTSTART:20250309T070000
END:DAYLIGHT
BEGIN:STANDARD
TZOFFSETFROM:-0400
TZOFFSETTO:-0500
TZNAME:EST
DTSTART:20251102T060000
END:STANDARD
BEGIN:DAYLIGHT
TZOFFSETFROM:-0500
TZOFFSETTO:-0400
TZNAME:EDT
DTSTART:20260308T070000
END:DAYLIGHT
BEGIN:STANDARD
TZOFFSETFROM:-0400
TZOFFSETTO:-0500
TZNAME:EST
DTSTART:20261101T060000
END:STANDARD
BEGIN:DAYLIGHT
TZOFFSETFROM:-0500
TZOFFSETTO:-0400
TZNAME:EDT
DTSTART:20270314T070000
END:DAYLIGHT
BEGIN:STANDARD
TZOFFSETFROM:-0400
TZOFFSETTO:-0500
TZNAME:EST
DTSTART:20271107T060000
END:STANDARD
END:VTIMEZONE
BEGIN:VEVENT
DTSTART;TZID=America/New_York:20260304T093000
DTEND;TZID=America/New_York:20260304T123000
DTSTAMP:20260419T145629
CREATED:20260302T175005Z
LAST-MODIFIED:20260302T175007Z
UID:10016841-1772616600-1772627400@www.nassaucountycouncilonaging.org
SUMMARY:Party Bridge
DESCRIPTION:All Levels of Play\n9:30 am – 12:30 pm\nLois Stewart \nBook Now
URL:https://www.nassaucountycouncilonaging.org/calendar/open-bridge-2-23-17-4-40-14-9/
LOCATION:Janice Ancrum Senior Life Center\, 1901 Island Walk Way\, Fernandina Beach\, FL\, 32034
CATEGORIES:Cards & Games
ATTACH;FMTTYPE=image/png:https://www.nassaucountycouncilonaging.org/wp-content/uploads/2022/11/card-games.png
END:VEVENT
BEGIN:VEVENT
DTSTART;TZID=America/New_York:20260304T130000
DTEND;TZID=America/New_York:20260304T153000
DTSTAMP:20260419T145629
CREATED:20260302T175706Z
LAST-MODIFIED:20260302T175707Z
UID:10016908-1772629200-1772638200@www.nassaucountycouncilonaging.org
SUMMARY:Cribbage - All Levels
DESCRIPTION:1:00 pm – 3:30 pm\nShirley Green \nBook Now
URL:https://www.nassaucountycouncilonaging.org/calendar/cribbage-all-levels-4-12-41-13-40-14-9/
LOCATION:Janice Ancrum Senior Life Center\, 1901 Island Walk Way\, Fernandina Beach\, FL\, 32034
CATEGORIES:Cards & Games
ATTACH;FMTTYPE=image/png:https://www.nassaucountycouncilonaging.org/wp-content/uploads/2022/11/card-games.png
END:VEVENT
BEGIN:VEVENT
DTSTART;TZID=America/New_York:20260304T130000
DTEND;TZID=America/New_York:20260304T160000
DTSTAMP:20260419T145629
CREATED:20260302T175819Z
LAST-MODIFIED:20260302T175821Z
UID:10016921-1772629200-1772640000@www.nassaucountycouncilonaging.org
SUMMARY:Canasta Hand Knee & Foot
DESCRIPTION:1:00 pm – 4:00 pm\nSue King \nBook Now
URL:https://www.nassaucountycouncilonaging.org/calendar/canasta-hand-knee-foot-8-6-22-9/
LOCATION:Janice Ancrum Senior Life Center\, 1901 Island Walk Way\, Fernandina Beach\, FL\, 32034
CATEGORIES:Cards & Games
ATTACH;FMTTYPE=image/png:https://www.nassaucountycouncilonaging.org/wp-content/uploads/2022/11/card-games.png
END:VEVENT
END:VCALENDAR