BEGIN:VCALENDAR
VERSION:2.0
PRODID:-//Nassau County Council on Aging - ECPv6.15.20//NONSGML v1.0//EN
CALSCALE:GREGORIAN
METHOD:PUBLISH
X-WR-CALNAME:Nassau County Council on Aging
X-ORIGINAL-URL:https://www.nassaucountycouncilonaging.org
X-WR-CALDESC:Events for Nassau County Council on Aging
REFRESH-INTERVAL;VALUE=DURATION:PT1H
X-Robots-Tag:noindex
X-PUBLISHED-TTL:PT1H
BEGIN:VTIMEZONE
TZID:America/New_York
BEGIN:DAYLIGHT
TZOFFSETFROM:-0500
TZOFFSETTO:-0400
TZNAME:EDT
DTSTART:20250309T070000
END:DAYLIGHT
BEGIN:STANDARD
TZOFFSETFROM:-0400
TZOFFSETTO:-0500
TZNAME:EST
DTSTART:20251102T060000
END:STANDARD
BEGIN:DAYLIGHT
TZOFFSETFROM:-0500
TZOFFSETTO:-0400
TZNAME:EDT
DTSTART:20260308T070000
END:DAYLIGHT
BEGIN:STANDARD
TZOFFSETFROM:-0400
TZOFFSETTO:-0500
TZNAME:EST
DTSTART:20261101T060000
END:STANDARD
BEGIN:DAYLIGHT
TZOFFSETFROM:-0500
TZOFFSETTO:-0400
TZNAME:EDT
DTSTART:20270314T070000
END:DAYLIGHT
BEGIN:STANDARD
TZOFFSETFROM:-0400
TZOFFSETTO:-0500
TZNAME:EST
DTSTART:20271107T060000
END:STANDARD
END:VTIMEZONE
BEGIN:VEVENT
DTSTART;TZID=America/New_York:20260227T093000
DTEND;TZID=America/New_York:20260227T123000
DTSTAMP:20260419T221115
CREATED:20260223T223421Z
LAST-MODIFIED:20260223T223427Z
UID:10015867-1772184600-1772195400@www.nassaucountycouncilonaging.org
SUMMARY:Canasta: Hand\, Knee & Foot
DESCRIPTION:Open Play & Instruction\n9:30 am – 12:30 pm\nDebbie Price \nBook Now\n 
URL:https://www.nassaucountycouncilonaging.org/calendar/canasta-5-2-2-2-9-24-12-27-16-12-14-16-5-22-8/
LOCATION:Janice Ancrum Senior Life Center\, 1901 Island Walk Way\, Fernandina Beach\, FL\, 32034
CATEGORIES:Cards & Games
ATTACH;FMTTYPE=image/png:https://www.nassaucountycouncilonaging.org/wp-content/uploads/2022/11/card-games.png
END:VEVENT
BEGIN:VEVENT
DTSTART;TZID=America/New_York:20260227T123000
DTEND;TZID=America/New_York:20260227T153000
DTSTAMP:20260419T221115
CREATED:20260223T224929Z
LAST-MODIFIED:20260223T224936Z
UID:10015958-1772195400-1772206200@www.nassaucountycouncilonaging.org
SUMMARY:Mahjong
DESCRIPTION:All Levels with a with Current Mahjong Card\n12:30 pm – 3:30 pm\nTheresa Macwithey \nBook Now\n 
URL:https://www.nassaucountycouncilonaging.org/calendar/mahjong-5-11-14-14-15-26-8/
LOCATION:Janice Ancrum Senior Life Center\, 1901 Island Walk Way\, Fernandina Beach\, FL\, 32034
CATEGORIES:Cards & Games
ATTACH;FMTTYPE=image/png:https://www.nassaucountycouncilonaging.org/wp-content/uploads/2022/11/mahjong.png
END:VEVENT
BEGIN:VEVENT
DTSTART;TZID=America/New_York:20260227T123000
DTEND;TZID=America/New_York:20260227T160000
DTSTAMP:20260419T221115
CREATED:20260223T224741Z
LAST-MODIFIED:20260223T224747Z
UID:10015971-1772195400-1772208000@www.nassaucountycouncilonaging.org
SUMMARY:Bridge
DESCRIPTION:Open Play – All Levels\n12:30 pm – 4:00 pm \nBook Now
URL:https://www.nassaucountycouncilonaging.org/calendar/bridge-3-18-15-7-42-12-14-15-14-13-8/
LOCATION:Janice Ancrum Senior Life Center\, 1901 Island Walk Way\, Fernandina Beach\, FL\, 32034
CATEGORIES:Cards & Games
ATTACH;FMTTYPE=image/png:https://www.nassaucountycouncilonaging.org/wp-content/uploads/2022/11/card-games.png
END:VEVENT
BEGIN:VEVENT
DTSTART;TZID=America/New_York:20260227T130000
DTEND;TZID=America/New_York:20260227T163000
DTSTAMP:20260419T221115
CREATED:20260223T225108Z
LAST-MODIFIED:20260223T225114Z
UID:10015984-1772197200-1772209800@www.nassaucountycouncilonaging.org
SUMMARY:Bridge - Friday
DESCRIPTION:1:00 pm – 4:30 pm\nCarolyn James-Rudd \nBook Now
URL:https://www.nassaucountycouncilonaging.org/calendar/bridge-friday-3-7-14-13-8/
LOCATION:Janice Ancrum Senior Life Center\, 1901 Island Walk Way\, Fernandina Beach\, FL\, 32034
CATEGORIES:Cards & Games
ATTACH;FMTTYPE=image/png:https://www.nassaucountycouncilonaging.org/wp-content/uploads/2022/11/card-games.png
END:VEVENT
END:VCALENDAR