BEGIN:VCALENDAR
VERSION:2.0
PRODID:-//Nassau County Council on Aging - ECPv6.15.20//NONSGML v1.0//EN
CALSCALE:GREGORIAN
METHOD:PUBLISH
X-WR-CALNAME:Nassau County Council on Aging
X-ORIGINAL-URL:https://www.nassaucountycouncilonaging.org
X-WR-CALDESC:Events for Nassau County Council on Aging
REFRESH-INTERVAL;VALUE=DURATION:PT1H
X-Robots-Tag:noindex
X-PUBLISHED-TTL:PT1H
BEGIN:VTIMEZONE
TZID:America/New_York
BEGIN:DAYLIGHT
TZOFFSETFROM:-0500
TZOFFSETTO:-0400
TZNAME:EDT
DTSTART:20240310T070000
END:DAYLIGHT
BEGIN:STANDARD
TZOFFSETFROM:-0400
TZOFFSETTO:-0500
TZNAME:EST
DTSTART:20241103T060000
END:STANDARD
BEGIN:DAYLIGHT
TZOFFSETFROM:-0500
TZOFFSETTO:-0400
TZNAME:EDT
DTSTART:20250309T070000
END:DAYLIGHT
BEGIN:STANDARD
TZOFFSETFROM:-0400
TZOFFSETTO:-0500
TZNAME:EST
DTSTART:20251102T060000
END:STANDARD
BEGIN:DAYLIGHT
TZOFFSETFROM:-0500
TZOFFSETTO:-0400
TZNAME:EDT
DTSTART:20260308T070000
END:DAYLIGHT
BEGIN:STANDARD
TZOFFSETFROM:-0400
TZOFFSETTO:-0500
TZNAME:EST
DTSTART:20261101T060000
END:STANDARD
END:VTIMEZONE
BEGIN:VEVENT
DTSTART;TZID=America/New_York:20251031T093000
DTEND;TZID=America/New_York:20251031T123000
DTSTAMP:20260423T172354
CREATED:20251027T191957Z
LAST-MODIFIED:20251027T192000Z
UID:10014607-1761903000-1761913800@www.nassaucountycouncilonaging.org
SUMMARY:Canasta: Hand\, Knee & Foot
DESCRIPTION:Open Play & Instruction\n9:30 am – 12:30 pm\nDebbie Price \nBook Now\n 
URL:https://www.nassaucountycouncilonaging.org/calendar/canasta-5-2-2-2-9-24-12-27-16-12-14-16-5-14/
LOCATION:Janice Ancrum Senior Life Center\, 1901 Island Walk Way\, Fernandina Beach\, FL\, 32034
CATEGORIES:Cards & Games
ATTACH;FMTTYPE=image/png:https://www.nassaucountycouncilonaging.org/wp-content/uploads/2022/11/card-games.png
END:VEVENT
BEGIN:VEVENT
DTSTART;TZID=America/New_York:20251031T123000
DTEND;TZID=America/New_York:20251031T153000
DTSTAMP:20260423T172354
CREATED:20251027T194004Z
LAST-MODIFIED:20251027T194008Z
UID:10014698-1761913800-1761924600@www.nassaucountycouncilonaging.org
SUMMARY:Mahjong
DESCRIPTION:All Levels with a with Current Mahjong Card\n12:30 pm – 3:30 pm\nTheresa Macwithey \nBook Now\n 
URL:https://www.nassaucountycouncilonaging.org/calendar/mahjong-5-11-14-14-15-18/
LOCATION:Janice Ancrum Senior Life Center\, 1901 Island Walk Way\, Fernandina Beach\, FL\, 32034
CATEGORIES:Cards & Games
ATTACH;FMTTYPE=image/png:https://www.nassaucountycouncilonaging.org/wp-content/uploads/2022/11/mahjong.png
END:VEVENT
BEGIN:VEVENT
DTSTART;TZID=America/New_York:20251031T123000
DTEND;TZID=America/New_York:20251031T160000
DTSTAMP:20260423T172354
CREATED:20251027T193859Z
LAST-MODIFIED:20251027T193904Z
UID:10014685-1761913800-1761926400@www.nassaucountycouncilonaging.org
SUMMARY:Bridge
DESCRIPTION:Open Play – All Levels\nKevin Murphy – Instructor available upon request\n12:30 pm – 4:00 pm \nBook Now
URL:https://www.nassaucountycouncilonaging.org/calendar/bridge-3-18-15-7-42-12-14-15-14-5/
LOCATION:Janice Ancrum Senior Life Center\, 1901 Island Walk Way\, Fernandina Beach\, FL\, 32034
CATEGORIES:Cards & Games
ATTACH;FMTTYPE=image/png:https://www.nassaucountycouncilonaging.org/wp-content/uploads/2022/11/card-games.png
END:VEVENT
BEGIN:VEVENT
DTSTART;TZID=America/New_York:20251031T130000
DTEND;TZID=America/New_York:20251031T163000
DTSTAMP:20260423T172354
CREATED:20251027T193737Z
LAST-MODIFIED:20251027T193740Z
UID:10014732-1761915600-1761928200@www.nassaucountycouncilonaging.org
SUMMARY:Bridge - Friday
DESCRIPTION:1:00 pm – 4:30 pm\nCarolyn James-Rudd \nBook Now
URL:https://www.nassaucountycouncilonaging.org/calendar/bridge-friday-3-7-14-5/
LOCATION:Janice Ancrum Senior Life Center\, 1901 Island Walk Way\, Fernandina Beach\, FL\, 32034
CATEGORIES:Cards & Games
ATTACH;FMTTYPE=image/png:https://www.nassaucountycouncilonaging.org/wp-content/uploads/2022/11/card-games.png
END:VEVENT
END:VCALENDAR