BEGIN:VCALENDAR
VERSION:2.0
PRODID:-//Nassau County Council on Aging - ECPv6.15.20//NONSGML v1.0//EN
CALSCALE:GREGORIAN
METHOD:PUBLISH
X-WR-CALNAME:Nassau County Council on Aging
X-ORIGINAL-URL:https://www.nassaucountycouncilonaging.org
X-WR-CALDESC:Events for Nassau County Council on Aging
REFRESH-INTERVAL;VALUE=DURATION:PT1H
X-Robots-Tag:noindex
X-PUBLISHED-TTL:PT1H
BEGIN:VTIMEZONE
TZID:America/New_York
BEGIN:DAYLIGHT
TZOFFSETFROM:-0500
TZOFFSETTO:-0400
TZNAME:EDT
DTSTART:20250309T070000
END:DAYLIGHT
BEGIN:STANDARD
TZOFFSETFROM:-0400
TZOFFSETTO:-0500
TZNAME:EST
DTSTART:20251102T060000
END:STANDARD
BEGIN:DAYLIGHT
TZOFFSETFROM:-0500
TZOFFSETTO:-0400
TZNAME:EDT
DTSTART:20260308T070000
END:DAYLIGHT
BEGIN:STANDARD
TZOFFSETFROM:-0400
TZOFFSETTO:-0500
TZNAME:EST
DTSTART:20261101T060000
END:STANDARD
BEGIN:DAYLIGHT
TZOFFSETFROM:-0500
TZOFFSETTO:-0400
TZNAME:EDT
DTSTART:20270314T070000
END:DAYLIGHT
BEGIN:STANDARD
TZOFFSETFROM:-0400
TZOFFSETTO:-0500
TZNAME:EST
DTSTART:20271107T060000
END:STANDARD
END:VTIMEZONE
BEGIN:VEVENT
DTSTART;TZID=America/New_York:20260319T130000
DTEND;TZID=America/New_York:20260319T150000
DTSTAMP:20260419T145539
CREATED:20260112T220935Z
LAST-MODIFIED:20260112T220938Z
UID:10017154-1773925200-1773932400@www.nassaucountycouncilonaging.org
SUMMARY:Casual Knitting & Conversation
DESCRIPTION:Beginners Welcome\n1:00 pm – 3:00 pm\nMarcia Foshee-Duffy
URL:https://www.nassaucountycouncilonaging.org/calendar/casual-knitting-2-5-28-12-41-12-14-29-11/2026-03-19/
LOCATION:Janice Ancrum Senior Life Center\, 1901 Island Walk Way\, Fernandina Beach\, FL\, 32034
CATEGORIES:Arts, Crafts & Hobbies
ATTACH;FMTTYPE=image/png:https://www.nassaucountycouncilonaging.org/wp-content/uploads/2021/12/knitting.png
END:VEVENT
BEGIN:VEVENT
DTSTART;TZID=America/New_York:20260319T143000
DTEND;TZID=America/New_York:20260319T163000
DTSTAMP:20260419T145539
CREATED:20251013T223048Z
LAST-MODIFIED:20260112T222856Z
UID:10017212-1773930600-1773937800@www.nassaucountycouncilonaging.org
SUMMARY:Shell Creations
DESCRIPTION:2:30 pm – 4:30 pm\nCheryl Allen
URL:https://www.nassaucountycouncilonaging.org/calendar/shell-creations-4-4/2026-03-19/
LOCATION:Janice Ancrum Senior Life Center\, 1901 Island Walk Way\, Fernandina Beach\, FL\, 32034
CATEGORIES:Arts, Crafts & Hobbies
ATTACH;FMTTYPE=image/png:https://www.nassaucountycouncilonaging.org/wp-content/uploads/2022/09/art-and-crafts.png
END:VEVENT
END:VCALENDAR