BEGIN:VCALENDAR
VERSION:2.0
PRODID:-//Nassau County Council on Aging - ECPv6.15.20//NONSGML v1.0//EN
CALSCALE:GREGORIAN
METHOD:PUBLISH
X-ORIGINAL-URL:https://www.nassaucountycouncilonaging.org
X-WR-CALDESC:Events for Nassau County Council on Aging
REFRESH-INTERVAL;VALUE=DURATION:PT1H
X-Robots-Tag:noindex
X-PUBLISHED-TTL:PT1H
BEGIN:VTIMEZONE
TZID:America/New_York
BEGIN:DAYLIGHT
TZOFFSETFROM:-0500
TZOFFSETTO:-0400
TZNAME:EDT
DTSTART:20250309T070000
END:DAYLIGHT
BEGIN:STANDARD
TZOFFSETFROM:-0400
TZOFFSETTO:-0500
TZNAME:EST
DTSTART:20251102T060000
END:STANDARD
BEGIN:DAYLIGHT
TZOFFSETFROM:-0500
TZOFFSETTO:-0400
TZNAME:EDT
DTSTART:20260308T070000
END:DAYLIGHT
BEGIN:STANDARD
TZOFFSETFROM:-0400
TZOFFSETTO:-0500
TZNAME:EST
DTSTART:20261101T060000
END:STANDARD
BEGIN:DAYLIGHT
TZOFFSETFROM:-0500
TZOFFSETTO:-0400
TZNAME:EDT
DTSTART:20270314T070000
END:DAYLIGHT
BEGIN:STANDARD
TZOFFSETFROM:-0400
TZOFFSETTO:-0500
TZNAME:EST
DTSTART:20271107T060000
END:STANDARD
END:VTIMEZONE
BEGIN:VEVENT
DTSTART;TZID=America/New_York:20260109T110000
DTEND;TZID=America/New_York:20260109T120000
DTSTAMP:20260423T121532
CREATED:20251201T221450Z
LAST-MODIFIED:20251201T221450Z
UID:10016302-1767956400-1767960000@www.nassaucountycouncilonaging.org
SUMMARY:Intro to Canva - Online Design
DESCRIPTION:11:00 am – 12:00 pm\nApril Blue-Moseley \n 
URL:https://www.nassaucountycouncilonaging.org/calendar/intro-to-canva-online-design-5/2026-01-09/
LOCATION:Janice Ancrum Senior Life Center\, 1901 Island Walk Way\, Fernandina Beach\, FL\, 32034
CATEGORIES:Arts, Crafts & Hobbies,Computers & Technology
ATTACH;FMTTYPE=image/png:https://www.nassaucountycouncilonaging.org/wp-content/uploads/2025/09/canva.png
END:VEVENT
BEGIN:VEVENT
DTSTART;TZID=America/New_York:20260109T110000
DTEND;TZID=America/New_York:20260109T130000
DTSTAMP:20260423T121532
CREATED:20251027T192346Z
LAST-MODIFIED:20251027T192346Z
UID:10016253-1767956400-1767963600@www.nassaucountycouncilonaging.org
SUMMARY:Crocheting Circle: All Levels - FREE
DESCRIPTION:11:00 am – 1:00 pm\nBrenda Brubeck
URL:https://www.nassaucountycouncilonaging.org/calendar/crocheting-circle-all-levels-free-2/
LOCATION:Janice Ancrum Senior Life Center\, 1901 Island Walk Way\, Fernandina Beach\, FL\, 32034
CATEGORIES:Arts, Crafts & Hobbies
ATTACH;FMTTYPE=image/png:https://www.nassaucountycouncilonaging.org/wp-content/uploads/2021/12/crochet.png
END:VEVENT
BEGIN:VEVENT
DTSTART;TZID=America/New_York:20260109T140000
DTEND;TZID=America/New_York:20260109T163000
DTSTAMP:20260423T121532
CREATED:20251007T154412Z
LAST-MODIFIED:20251007T154414Z
UID:10015990-1767967200-1767976200@www.nassaucountycouncilonaging.org
SUMMARY:Art Therapy
DESCRIPTION:2:00 – 4:30 pm\nLeeanne Saylors\nSaylors Accounting & Tax
URL:https://www.nassaucountycouncilonaging.org/calendar/painting-23-9-11-5-6-23-14/
LOCATION:Janice Ancrum Senior Life Center\, 1901 Island Walk Way\, Fernandina Beach\, FL\, 32034
CATEGORIES:Arts, Crafts & Hobbies
ATTACH;FMTTYPE=image/png:https://www.nassaucountycouncilonaging.org/wp-content/uploads/2022/09/art-and-crafts.png
END:VEVENT
END:VCALENDAR