BEGIN:VCALENDAR
VERSION:2.0
PRODID:-//Nassau County Council on Aging - ECPv6.15.20//NONSGML v1.0//EN
CALSCALE:GREGORIAN
METHOD:PUBLISH
X-ORIGINAL-URL:https://www.nassaucountycouncilonaging.org
X-WR-CALDESC:Events for Nassau County Council on Aging
REFRESH-INTERVAL;VALUE=DURATION:PT1H
X-Robots-Tag:noindex
X-PUBLISHED-TTL:PT1H
BEGIN:VTIMEZONE
TZID:America/New_York
BEGIN:DAYLIGHT
TZOFFSETFROM:-0500
TZOFFSETTO:-0400
TZNAME:EDT
DTSTART:20230312T070000
END:DAYLIGHT
BEGIN:STANDARD
TZOFFSETFROM:-0400
TZOFFSETTO:-0500
TZNAME:EST
DTSTART:20231105T060000
END:STANDARD
BEGIN:DAYLIGHT
TZOFFSETFROM:-0500
TZOFFSETTO:-0400
TZNAME:EDT
DTSTART:20240310T070000
END:DAYLIGHT
BEGIN:STANDARD
TZOFFSETFROM:-0400
TZOFFSETTO:-0500
TZNAME:EST
DTSTART:20241103T060000
END:STANDARD
BEGIN:DAYLIGHT
TZOFFSETFROM:-0500
TZOFFSETTO:-0400
TZNAME:EDT
DTSTART:20250309T070000
END:DAYLIGHT
BEGIN:STANDARD
TZOFFSETFROM:-0400
TZOFFSETTO:-0500
TZNAME:EST
DTSTART:20251102T060000
END:STANDARD
END:VTIMEZONE
BEGIN:VEVENT
DTSTART;TZID=America/New_York:20240827T083000
DTEND;TZID=America/New_York:20240827T093000
DTSTAMP:20260425T075113
CREATED:20240826T155814Z
LAST-MODIFIED:20240826T155821Z
UID:10005365-1724747400-1724751000@www.nassaucountycouncilonaging.org
SUMMARY:Resistance Training Advanced
DESCRIPTION:8:30 – 9:30 am\nDebbi Senger \nBook Now\n 
URL:https://www.nassaucountycouncilonaging.org/calendar/resistance-training-32-23/
LOCATION:Janice Ancrum Senior Life Center\, 1901 Island Walk Way\, Fernandina Beach\, FL\, 32034
CATEGORIES:Wellness, Health & Fitness
ATTACH;FMTTYPE=image/png:https://www.nassaucountycouncilonaging.org/wp-content/uploads/2021/12/excercise.png
END:VEVENT
BEGIN:VEVENT
DTSTART;TZID=America/New_York:20240827T100000
DTEND;TZID=America/New_York:20240827T110000
DTSTAMP:20260425T075113
CREATED:20240818T180833Z
LAST-MODIFIED:20240826T160335Z
UID:10004432-1724752800-1724756400@www.nassaucountycouncilonaging.org
SUMMARY:Stability Exercises
DESCRIPTION:10:00 am – 11:00 am\nMary Bleck \nBook Now\n  \n 
URL:https://www.nassaucountycouncilonaging.org/calendar/stability-exercises-5-8-8-35-23/
LOCATION:Janice Ancrum Senior Life Center\, 1901 Island Walk Way\, Fernandina Beach\, FL\, 32034
CATEGORIES:Wellness, Health & Fitness
ATTACH;FMTTYPE=image/png:https://www.nassaucountycouncilonaging.org/wp-content/uploads/2021/12/excercise.png
END:VEVENT
BEGIN:VEVENT
DTSTART;TZID=America/New_York:20240827T100000
DTEND;TZID=America/New_York:20240827T113000
DTSTAMP:20260425T075113
CREATED:20240826T160701Z
LAST-MODIFIED:20240826T160712Z
UID:10004726-1724752800-1724758200@www.nassaucountycouncilonaging.org
SUMMARY:Crocheting Circle
DESCRIPTION:All Levels\n10:00 am – 11:30 am \nBook Now\n 
URL:https://www.nassaucountycouncilonaging.org/calendar/crochet-circle-5-12-30-8-25/
LOCATION:Janice Ancrum Senior Life Center\, 1901 Island Walk Way\, Fernandina Beach\, FL\, 32034
CATEGORIES:Arts, Crafts & Hobbies
ATTACH;FMTTYPE=image/png:https://www.nassaucountycouncilonaging.org/wp-content/uploads/2021/12/crochet.png
END:VEVENT
BEGIN:VEVENT
DTSTART;TZID=America/New_York:20240827T130000
DTEND;TZID=America/New_York:20240827T134500
DTSTAMP:20260425T075113
CREATED:20240826T161414Z
LAST-MODIFIED:20240826T161434Z
UID:10009047-1724763600-1724766300@www.nassaucountycouncilonaging.org
SUMMARY:Line Dancing
DESCRIPTION:Basic Beginner\n1:00 pm – 1:45 pm\nKathy Ball \nBook Now
URL:https://www.nassaucountycouncilonaging.org/calendar/line-dancing-7-12-9-13/
LOCATION:Janice Ancrum Senior Life Center\, 1901 Island Walk Way\, Fernandina Beach\, FL\, 32034
CATEGORIES:Music & Dancing
ATTACH;FMTTYPE=image/png:https://www.nassaucountycouncilonaging.org/wp-content/uploads/2021/05/line-dancing.png
END:VEVENT
BEGIN:VEVENT
DTSTART;TZID=America/New_York:20240827T130000
DTEND;TZID=America/New_York:20240827T140000
DTSTAMP:20260425T075113
CREATED:20240826T161538Z
LAST-MODIFIED:20240826T161557Z
UID:10008212-1724763600-1724767200@www.nassaucountycouncilonaging.org
SUMMARY:Zumba Gold
DESCRIPTION:1:00 pm – 2:00 pm\nStacey “Sparkle” Vinson \nBook Now
URL:https://www.nassaucountycouncilonaging.org/calendar/zumba-gold-8-4-11-14-12-12-24/
LOCATION:Janice Ancrum Senior Life Center\, 1901 Island Walk Way\, Fernandina Beach\, FL\, 32034
CATEGORIES:Music & Dancing,Wellness, Health & Fitness
ATTACH;FMTTYPE=image/png:https://www.nassaucountycouncilonaging.org/wp-content/uploads/2023/01/zumba-gold-orange.png
END:VEVENT
BEGIN:VEVENT
DTSTART;TZID=America/New_York:20240827T130000
DTEND;TZID=America/New_York:20240827T143000
DTSTAMP:20260425T075113
CREATED:20240626T175553Z
LAST-MODIFIED:20240826T161226Z
UID:10009801-1724763600-1724769000@www.nassaucountycouncilonaging.org
SUMMARY:Artificial Intelligence
DESCRIPTION:AI in Your Life:\nPractical Applications\n1 – 2:30 pm\nJeff Cheeney\,\nBusiness Agility\, AI Coach & Trainer \nBook Now
URL:https://www.nassaucountycouncilonaging.org/calendar/artificial-intelligence-2/
LOCATION:Janice Ancrum Senior Life Center\, 1901 Island Walk Way\, Fernandina Beach\, FL\, 32034
CATEGORIES:Computers & Technology
ATTACH;FMTTYPE=image/png:https://www.nassaucountycouncilonaging.org/wp-content/uploads/2024/06/AIClassSized.png
END:VEVENT
BEGIN:VEVENT
DTSTART;TZID=America/New_York:20240827T140000
DTEND;TZID=America/New_York:20240827T150000
DTSTAMP:20260425T075113
CREATED:20240826T161708Z
LAST-MODIFIED:20240826T161717Z
UID:10009343-1724767200-1724770800@www.nassaucountycouncilonaging.org
SUMMARY:Line Dancing
DESCRIPTION:Intermediate\n2:00 pm – 3:00 pm\nKathy Ball \nBook Now
URL:https://www.nassaucountycouncilonaging.org/calendar/line-dancing-14-15/
LOCATION:Janice Ancrum Senior Life Center\, 1901 Island Walk Way\, Fernandina Beach\, FL\, 32034
CATEGORIES:Music & Dancing
ATTACH;FMTTYPE=image/png:https://www.nassaucountycouncilonaging.org/wp-content/uploads/2021/05/line-dancing.png
END:VEVENT
BEGIN:VEVENT
DTSTART;TZID=America/New_York:20240827T150000
DTEND;TZID=America/New_York:20240827T160000
DTSTAMP:20260425T075113
CREATED:20240826T161816Z
LAST-MODIFIED:20240826T161827Z
UID:10008229-1724770800-1724774400@www.nassaucountycouncilonaging.org
SUMMARY:Zumba Gold - American Beach
DESCRIPTION:3:00 pm – 4:00 pm\nStacey “Sparkle” Vinson \nBook Now\n 
URL:https://www.nassaucountycouncilonaging.org/calendar/zumba-gold-american-beach-12-23/
LOCATION:American Beach Community Center\, 1600 Julia Street\, American Beach\, FL\, 32034\, United States
CATEGORIES:Wellness, Health & Fitness
ATTACH;FMTTYPE=image/png:https://www.nassaucountycouncilonaging.org/wp-content/uploads/2023/01/zumba-gold-orange.png
END:VEVENT
END:VCALENDAR